Workbook
Name Hidden_13: Hidden_1!$A$1:$A$11
Name Hidden_211: Hidden_2!$A$1:$A$2

Sheet Reporte de Formatos
A1: 56156
A2: TÍTULO | D2: NOMBRE CORTO | G2: DESCRIPCIÓN
A3: Remuneración bruta y neta | D3: LTAIPSLP84XI | G3: La información relativa a la remuneración bruta y neta de todos los miembros del sujeto obligado de acuerdo con los tabuladores de sueldos y salarios, todas las percepciones en efectivo o en especie, sueldos, prestaciones, gratificaciones, primas, comisiones, dietas, bonos, estímulos, apoyos económicos, ingresos sistemas de compensación, entre otros.
A4: 1 | B4: 4 | C4: 4 | D4: 9 | E4: 1 | F4: 2 | G4: 2 | H4: 2 | I4: 1 | J4: 1 | K4: 1 | L4: 9 | M4: 6 | N4: 1 | O4: 6 | P4: 1 | Q4: 10 | R4: 10 | S4: 10 | T4: 10 | U4: 10 | V4: 10 | W4: 10 | X4: 10 | Y4: 10 | Z4: 10 | AA4: 10 | AB4: 10 | AC4: 10 | AD4: 2 | AE4: 4 | AF4: 13 | AG4: 14
A5: 549532 | B5: 549544 | C5: 549524 | D5: 549545 | E5: 549546 | F5: 549527 | G5: 549533 | H5: 549534 | I5: 549535 | J5: 549528 | K5: 549525 | L5: 549536 | M5: 549547 | N5: 549548 | O5: 549537 | P5: 549526 | Q5: 549551 | R5: 549538 | S5: 549552 | T5: 549522 | U5: 549542 | V5: 549529 | W5: 549539 | X5: 549530 | Y5: 549531 | Z5: 549549 | AA5: 549553 | AB5: 549550 | AC5: 549554 | AD5: 549540 | AE5: 549541 | AF5: 549543 | AG5: 549523
A6: Tabla Campos
A7: Ejercicio | B7: Fecha de inicio del periodo que se informa | C7: Fecha de término del periodo que se informa | D7: Tipo de integrante del sujeto obligado (catálogo) | E7: Clave o nivel del puesto | F7: Denominación o descripción del puesto | G7: Denominación del cargo | H7: Área de adscripción | I7: Nombre (s) | J7: Primer apellido | K7: Segundo apellido | L7: Sexo (catálogo) | M7: Monto de la remuneración bruta, de conformidad al Tabulador de sueldos y salarios que corresponda | N7: Tipo de moneda de la remuneración bruta | O7: Monto de la remuneración neta, de conformidad al Tabulador de sueldos y salarios que corresponda | P7: Tipo de moneda de la remuneración neta | Q7: Percepciones adicionales en dinero, Monto bruto y neto, tipo de moneda y su periodicidad Tabla_549551 | R7: Percepciones adicionales en especie y su periodicidad Tabla_549538 | S7: Ingresos, monto bruto y neto, tipo de moneda y su periodicidad Tabla_549552 | T7: Sistemas de compensación, monto bruto y neto, tipo de moneda y su periodicidad Tabla_549522 | U7: Gratificaciones, monto bruto y neto, tipo de moneda y su periodicidad Tabla_549542 | V7: Primas, monto bruto y neto, tipo de moneda y su periodicidad Tabla_549529 | W7: Comisiones, monto bruto y neto, tipo de moneda y su periodicidad Tabla_549539 | X7: Dietas, monto bruto y neto, tipo de moneda y su periodicidad Tabla_549530 | Y7: Bonos, monto bruto y neto, tipo de moneda y su periodicidad Tabla_549531 | Z7: Estímulos, monto bruto y neto, tipo de moneda y su periodicidad Tabla_549549 | AA7: Apoyos económicos, monto bruto y neto, tipo de moneda y su periodicidad Tabla_549553 | AB7: Prestaciones económicas, monto bruto y neto, tipo de moneda y su periodicidad Tabla_549550 | AC7: Prestaciones en especie y su periodicidad Tabla_549554 | AD7: Área(s) responsable(s) que genera(n), posee(n), publica(n) y actualizan la información | AE7: Fecha de validación | AF7: Fecha de Actualización | AG7: Nota
A8: 2022 | B8: 44682 | C8: 44712 | D8: Funcionario | E8: PRESIDENTA MUNICIPAL | F8: HONORABLE CABILDO | G8: PRESIDENTA MUNICIPAL | H8: HONORABLE CABILDO | I8: GUILLERMO | J8: MARTINEZ | K8: GUERRA | L8: Masculino | M8: 50403.36 | N8: PESO | O8: 40000 | P8: PESO | Q8: =Tabla_549551!A4 -> 1 | R8: =Tabla_549538!A4 -> 1 | S8: =Tabla_549552!A4 -> 1 | T8: =Tabla_549522!A4 -> 1 | U8: =Tabla_549542!A4 -> 1 | V8: =Tabla_549529!A4 -> 1 | W8: =Tabla_549539!A4 -> 1 | X8: =Tabla_549530!A4 -> 1 | Y8: =Tabla_549531!A4 -> 1 | Z8: =Tabla_549549!A4 -> 1 | AA8: =Tabla_549553!A4 -> 1 | AB8: =Tabla_549550!A4 -> 1 | AC8: =Tabla_549554!A4 -> 1 | AD8: TESORERÍA | AE8: 45449 | AF8: 45449 | AG8: manifestarle tenga de su conocimiento que de acuerdo a la LEY DE LOS TRABAJADORES AL SERVICIO DE LAS INSTITUCIONES PÚBLICAS DEL ESTADO DE SAN LUIS POTOSI en el Título Segundo de los trabajadores Capítulo I disposiciones generales en el ARTÍCULO 12. Son trabajadores eventuales ya que están al servicio de personal subordinado, por tiempo determinados o por cantidad presupuestada por el H. Ayuntamiento de Venado, S.L.P., y como lo indica la ley. En el CAPITULO V DE LOS SALARIOS en los artículos 38, 39, 40, 41,42 y 43 los salarios y prestaciones derivadas de la relación laboral a las que se hace acreedor el trabajador, tomando en cuenta que la presente administración se rige bajo los criterios de austeridad. http://www.cegaipslp.org.mx/HV2021Tres.nsf/nombre_de_la_vista/2BB8908599B386B28625879F005F8E00/$File/REMUNERACIONES.pdf
A9: 2022 | B9: 44682 | C9: 44712 | D9: Personal de confianza | E9: PRESIDENTA MUNICIPAL | F9: HONORABLE CABILDO | G9: SINDICO MUNICIPAL | H9: HONORABLE CABILDO | I9: SIMON | J9: SANCHEZ | K9: GONZALES | L9: Masculino | M9: 15485.5 | N9: PESO | O9: 13600 | P9: PESO | Q9: =Tabla_549551!A5:A5 -> 2 | R9: =Tabla_549538!A5 -> 2 | S9: =Tabla_549552!A5 -> 2 | T9: =Tabla_549522!A5 -> 2 | U9: =Tabla_549542!A5 -> 2 | V9: =Tabla_549529!A5 -> 2 | W9: =Tabla_549539!A5 -> 2 | X9: =Tabla_549530!A5 -> 2 | Y9: =Tabla_549531!A5 -> 2 | Z9: =Tabla_549549!A5 -> 2 | AA9: =Tabla_549553!A5 -> 2 | AB9: =Tabla_549550!A5 -> 2 | AC9: =Tabla_549554!A5 -> 2 | AD9: TESORERÍA | AE9: 45449 | AF9: 45449 | AG9: manifestarle tenga de su conocimiento que de acuerdo a la LEY DE LOS TRABAJADORES AL SERVICIO DE LAS INSTITUCIONES PÚBLICAS DEL ESTADO DE SAN LUIS POTOSI en el Título Segundo de los trabajadores Capítulo I disposiciones generales en el ARTÍCULO 12. Son trabajadores eventuales ya que están al servicio de personal subordinado, por tiempo determinados o por cantidad presupuestada por el H. Ayuntamiento de Venado, S.L.P., y como lo indica la ley. En el CAPITULO V DE LOS SALARIOS en los artículos 38, 39, 40, 41,42 y 43 los salarios y prestaciones derivadas de la relación laboral a las que se hace acreedor el trabajador, tomando en cuenta que la presente administración se rige bajo los criterios de austeridad. http://www.cegaipslp.org.mx/HV2021Tres.nsf/nombre_de_la_vista/2BB8908599B386B28625879F005F8E00/$File/REMUNERACIONES.pdf
A10: 2022 | B10: 44682 | C10: 44712 | D10: Personal de confianza | E10: PRESIDENTA MUNICIPAL | F10: HONORABLE CABILDO | G10: REGIDOR | H10: HONORABLE CABILDO | I10: OLIVIA | J10: VALDEZ | K10: MARTINEZ | L10: Masculino | M10: 6102.86 | N10: PESO | O10: 6000 | P10: PESO | Q10: =Tabla_549551!A6 -> 3 | R10: =Tabla_549538!A6 -> 3 | S10: =Tabla_549552!A6 -> 3 | T10: =Tabla_549522!A6 -> 3 | U10: =Tabla_549542!A6 -> 3 | V10: =Tabla_549529!A6 -> 3 | W10: =Tabla_549539!A6 -> 3 | X10: =Tabla_549530!A6 -> 3 | Y10: =Tabla_549531!A6 -> 3 | Z10: =Tabla_549549!A6 -> 3 | AA10: =Tabla_549553!A6 -> 3 | AB10: =Tabla_549550!A6 -> 3 | AC10: =Tabla_549554!A6 -> 3 | AD10: TESORERÍA | AE10: 45449 | AF10: 45449 | AG10: manifestarle tenga de su conocimiento que de acuerdo a la LEY DE LOS TRABAJADORES AL SERVICIO DE LAS INSTITUCIONES PÚBLICAS DEL ESTADO DE SAN LUIS POTOSI en el Título Segundo de los trabajadores Capítulo I disposiciones generales en el ARTÍCULO 12. Son trabajadores eventuales ya que están al servicio de personal subordinado, por tiempo determinados o por cantidad presupuestada por el H. Ayuntamiento de Venado, S.L.P., y como lo indica la ley. En el CAPITULO V DE LOS SALARIOS en los artículos 38, 39, 40, 41,42 y 43 los salarios y prestaciones derivadas de la relación laboral a las que se hace acreedor el trabajador, tomando en cuenta que la presente administración se rige bajo los criterios de austeridad. http://www.cegaipslp.org.mx/HV2021Tres.nsf/nombre_de_la_vista/2BB8908599B386B28625879F005F8E00/$File/REMUNERACIONES.pdf
A11: 2022 | B11: 44682 | C11: 44712 | D11: Personal de confianza | E11: PRESIDENTA MUNICIPAL | F11: HONORABLE CABILDO | G11: REGIDOR | H11: HONORABLE CABILDO | I11: GLORIA LETICIA | J11: MEDINA | K11: RIVERA | L11: Masculino | M11: 6102.86 | N11: PESO | O11: 6000 | P11: PESO | Q11: =Tabla_549551!A7:A7 -> 4 | R11: =Tabla_549538!A7 -> 4 | S11: =Tabla_549552!A7 -> 4 | T11: =Tabla_549522!A7 -> 4 | U11: =Tabla_549542!A7 -> 4 | V11: =Tabla_549529!A7 -> 4 | W11: =Tabla_549539!A7 -> 4 | X11: =Tabla_549530!A7 -> 4 | Y11: =Tabla_549531!A7 -> 4 | Z11: =Tabla_549549!A7 -> 4 | AA11: =Tabla_549553!A7 -> 4 | AB11: =Tabla_549550!A7 -> 4 | AC11: =Tabla_549554!A7 -> 4 | AD11: TESORERÍA | AE11: 45449 | AF11: 45449 | AG11: manifestarle tenga de su conocimiento que de acuerdo a la LEY DE LOS TRABAJADORES AL SERVICIO DE LAS INSTITUCIONES PÚBLICAS DEL ESTADO DE SAN LUIS POTOSI en el Título Segundo de los trabajadores Capítulo I disposiciones generales en el ARTÍCULO 12. Son trabajadores eventuales ya que están al servicio de personal subordinado, por tiempo determinados o por cantidad presupuestada por el H. Ayuntamiento de Venado, S.L.P., y como lo indica la ley. En el CAPITULO V DE LOS SALARIOS en los artículos 38, 39, 40, 41,42 y 43 los salarios y prestaciones derivadas de la relación laboral a las que se hace acreedor el trabajador, tomando en cuenta que la presente administración se rige bajo los criterios de austeridad. http://www.cegaipslp.org.mx/HV2021Tres.nsf/nombre_de_la_vista/2BB8908599B386B28625879F005F8E00/$File/REMUNERACIONES.pdf
A12: 2022 | B12: 44682 | C12: 44712 | D12: Personal de confianza | E12: PRESIDENTA MUNICIPAL | F12: HONORABLE CABILDO | G12: REGIDOR | H12: HONORABLE CABILDO | I12: ALVARO | J12: ZAVALA | K12: ALVAREZ | L12: Masculino | M12: 6102.86 | N12: PESO | O12: 6000 | P12: PESO | Q12: =Tabla_549551!A8 -> 5 | R12: =Tabla_549538!A8 -> 5 | S12: =Tabla_549552!A8 -> 5 | T12: =Tabla_549522!A8 -> 5 | U12: =Tabla_549542!A8 -> 5 | V12: =Tabla_549529!A8 -> 5 | W12: =Tabla_549539!A8 -> 5 | X12: =Tabla_549530!A8 -> 5 | Y12: =Tabla_549531!A8 -> 5 | Z12: =Tabla_549549!A8 -> 5 | AA12: =Tabla_549553!A8 -> 5 | AB12: =Tabla_549550!A8 -> 5 | AC12: =Tabla_549554!A8 -> 5 | AD12: TESORERÍA | AE12: 45449 | AF12: 45449 | AG12: manifestarle tenga de su conocimiento que de acuerdo a la LEY DE LOS TRABAJADORES AL SERVICIO DE LAS INSTITUCIONES PÚBLICAS DEL ESTADO DE SAN LUIS POTOSI en el Título Segundo de los trabajadores Capítulo I disposiciones generales en el ARTÍCULO 12. Son trabajadores eventuales ya que están al servicio de personal subordinado, por tiempo determinados o por cantidad presupuestada por el H. Ayuntamiento de Venado, S.L.P., y como lo indica la ley. En el CAPITULO V DE LOS SALARIOS en los artículos 38, 39, 40, 41,42 y 43 los salarios y prestaciones derivadas de la relación laboral a las que se hace acreedor el trabajador, tomando en cuenta que la presente administración se rige bajo los criterios de austeridad. http://www.cegaipslp.org.mx/HV2021Tres.nsf/nombre_de_la_vista/2BB8908599B386B28625879F005F8E00/$File/REMUNERACIONES.pdf
A13: 2022 | B13: 44682 | C13: 44712 | D13: Personal de confianza | E13: PRESIDENTA MUNICIPAL | F13: HONORABLE CABILDO | G13: REGIDOR | H13: HONORABLE CABILDO | I13: CECILIA | J13: MOLINA | K13: HERNANDEZ | L13: Masculino | M13: 6102.86 | N13: PESO | O13: 6000 | P13: PESO | Q13: =Tabla_549551!A9:A9 -> 6 | R13: =Tabla_549538!A9 -> 6 | S13: =Tabla_549552!A9 -> 6 | T13: =Tabla_549522!A9 -> 6 | U13: =Tabla_549542!A9 -> 6 | V13: =Tabla_549529!A9 -> 6 | W13: =Tabla_549539!A9 -> 6 | X13: =Tabla_549530!A9 -> 6 | Y13: =Tabla_549531!A9 -> 6 | Z13: =Tabla_549549!A9 -> 6 | AA13: =Tabla_549553!A9 -> 6 | AB13: =Tabla_549550!A9 -> 6 | AC13: =Tabla_549554!A9 -> 6 | AD13: TESORERÍA | AE13: 45449 | AF13: 45449 | AG13: manifestarle tenga de su conocimiento que de acuerdo a la LEY DE LOS TRABAJADORES AL SERVICIO DE LAS INSTITUCIONES PÚBLICAS DEL ESTADO DE SAN LUIS POTOSI en el Título Segundo de los trabajadores Capítulo I disposiciones generales en el ARTÍCULO 12. Son trabajadores eventuales ya que están al servicio de personal subordinado, por tiempo determinados o por cantidad presupuestada por el H. Ayuntamiento de Venado, S.L.P., y como lo indica la ley. En el CAPITULO V DE LOS SALARIOS en los artículos 38, 39, 40, 41,42 y 43 los salarios y prestaciones derivadas de la relación laboral a las que se hace acreedor el trabajador, tomando en cuenta que la presente administración se rige bajo los criterios de austeridad. http://www.cegaipslp.org.mx/HV2021Tres.nsf/nombre_de_la_vista/2BB8908599B386B28625879F005F8E00/$File/REMUNERACIONES.pdf
A14: 2022 | B14: 44682 | C14: 44712 | D14: Personal de confianza | E14: PRESIDENTA MUNICIPAL | F14: HONORABLE CABILDO | G14: REGIDOR | H14: HONORABLE CABILDO | I14: MARIBEL | J14: MARTINEZ | K14: NORIEGA | L14: Masculino | M14: 6102.86 | N14: PESO | O14: 6000 | P14: PESO | Q14: =Tabla_549551!A10 -> 7 | R14: =Tabla_549538!A10 -> 7 | S14: =Tabla_549552!A10 -> 7 | T14: =Tabla_549522!A10 -> 7 | U14: =Tabla_549542!A10 -> 7 | V14: =Tabla_549529!A10 -> 7 | W14: =Tabla_549539!A10 -> 7 | X14: =Tabla_549530!A10 -> 7 | Y14: =Tabla_549531!A10 -> 7 | Z14: =Tabla_549549!A10 -> 7 | AA14: =Tabla_549553!A10 -> 7 | AB14: =Tabla_549550!A10 -> 7 | AC14: =Tabla_549554!A10 -> 7 | AD14: TESORERÍA | AE14: 45449 | AF14: 45449 | AG14: manifestarle tenga de su conocimiento que de acuerdo a la LEY DE LOS TRABAJADORES AL SERVICIO DE LAS INSTITUCIONES PÚBLICAS DEL ESTADO DE SAN LUIS POTOSI en el Título Segundo de los trabajadores Capítulo I disposiciones generales en el ARTÍCULO 12. Son trabajadores eventuales ya que están al servicio de personal subordinado, por tiempo determinados o por cantidad presupuestada por el H. Ayuntamiento de Venado, S.L.P., y como lo indica la ley. En el CAPITULO V DE LOS SALARIOS en los artículos 38, 39, 40, 41,42 y 43 los salarios y prestaciones derivadas de la relación laboral a las que se hace acreedor el trabajador, tomando en cuenta que la presente administración se rige bajo los criterios de austeridad. http://www.cegaipslp.org.mx/HV2021Tres.nsf/nombre_de_la_vista/2BB8908599B386B28625879F005F8E00/$File/REMUNERACIONES.pdf
A15: 2022 | B15: 44682 | C15: 44712 | D15: Personal de confianza | E15: PRESIDENTA MUNICIPAL | F15: HONORABLE CABILDO | G15: REGIDOR | H15: HONORABLE CABILDO | I15: LUIS FELIPE | J15: CASAS ALEMAN | K15: MARTINEZ | L15: Masculino | M15: 6102.86 | N15: PESO | O15: 6000 | P15: PESO | Q15: =Tabla_549551!A11:A11 -> 8 | R15: =Tabla_549538!A11 -> 8 | S15: =Tabla_549552!A11 -> 8 | T15: =Tabla_549522!A11 -> 8 | U15: =Tabla_549542!A11 -> 8 | V15: =Tabla_549529!A11 -> 8 | W15: =Tabla_549539!A11 -> 8 | X15: =Tabla_549530!A11 -> 8 | Y15: =Tabla_549531!A11 -> 8 | Z15: =Tabla_549549!A11 -> 8 | AA15: =Tabla_549553!A11 -> 8 | AB15: =Tabla_549550!A11 -> 8 | AC15: =Tabla_549554!A11 -> 8 | AD15: TESORERÍA | AE15: 45449 | AF15: 45449 | AG15: manifestarle tenga de su conocimiento que de acuerdo a la LEY DE LOS TRABAJADORES AL SERVICIO DE LAS INSTITUCIONES PÚBLICAS DEL ESTADO DE SAN LUIS POTOSI en el Título Segundo de los trabajadores Capítulo I disposiciones generales en el ARTÍCULO 12. Son trabajadores eventuales ya que están al servicio de personal subordinado, por tiempo determinados o por cantidad presupuestada por el H. Ayuntamiento de Venado, S.L.P., y como lo indica la ley. En el CAPITULO V DE LOS SALARIOS en los artículos 38, 39, 40, 41,42 y 43 los salarios y prestaciones derivadas de la relación laboral a las que se hace acreedor el trabajador, tomando en cuenta que la presente administración se rige bajo los criterios de austeridad. http://www.cegaipslp.org.mx/HV2021Tres.nsf/nombre_de_la_vista/2BB8908599B386B28625879F005F8E00/$File/REMUNERACIONES.pdf
A16: 2022 | B16: 44682 | C16: 44712 | D16: Empleado | E16: AUXILIAR DE EQUIPO DE BOMBEO "A" | F16: JUNTA MUNICIPAL DE AGUA POTABLE | G16: AUXILIAR DE MANTENIMIENTO DE TUBERIA | H16: JUNTA MUNICIPAL DE AGUA POTABLE | I16: MOISES | J16: SAUCEDA | K16: BENITEZ | L16: Masculino | M16: 6759.6 | N16: PESO | O16: 6544.74 | P16: PESO | Q16: =Tabla_549551!A12 -> 9 | R16: =Tabla_549538!A12 -> 9 | S16: =Tabla_549552!A12 -> 9 | T16: =Tabla_549522!A12 -> 9 | U16: =Tabla_549542!A12 -> 9 | V16: =Tabla_549529!A12 -> 9 | W16: =Tabla_549539!A12 -> 9 | X16: =Tabla_549530!A12 -> 9 | Y16: =Tabla_549531!A12 -> 9 | Z16: =Tabla_549549!A12 -> 9 | AA16: =Tabla_549553!A12 -> 9 | AB16: =Tabla_549550!A12 -> 9 | AC16: =Tabla_549554!A12 -> 9 | AD16: TESORERÍA | AE16: 45449 | AF16: 45449 | AG16: manifestarle tenga de su conocimiento que de acuerdo a la LEY DE LOS TRABAJADORES AL SERVICIO DE LAS INSTITUCIONES PÚBLICAS DEL ESTADO DE SAN LUIS POTOSI en el Título Segundo de los trabajadores Capítulo I disposiciones generales en el ARTÍCULO 12. Son trabajadores eventuales ya que están al servicio de personal subordinado, por tiempo determinados o por cantidad presupuestada por el H. Ayuntamiento de Venado, S.L.P., y como lo indica la ley. En el CAPITULO V DE LOS SALARIOS en los artículos 38, 39, 40, 41,42 y 43 los salarios y prestaciones derivadas de la relación laboral a las que se hace acreedor el trabajador, tomando en cuenta que la presente administración se rige bajo los criterios de austeridad. http://www.cegaipslp.org.mx/HV2021Tres.nsf/nombre_de_la_vista/2BB8908599B386B28625879F005F8E00/$File/REMUNERACIONES.pdf
A17: 2022 | B17: 44682 | C17: 44712 | D17: Empleado | E17: EQUIPO DE BOMBEO "A" | F17: JUNTA MUNICIPAL DE AGUA POTABLE | G17: ENCARGADO DE MANTENIMIENTO DE TUBERIA | H17: JUNTA MUNICIPAL DE AGUA POTABLE | I17: ISIDORO | J17: RUIZ | K17: RODRIGUEZ | L17: Masculino | M17: 6759.6 | N17: PESO | O17: 6544.74 | P17: PESO | Q17: =Tabla_549551!A13:A13 -> 10 | R17: =Tabla_549538!A13 -> 10 | S17: =Tabla_549552!A13 -> 10 | T17: =Tabla_549522!A13 -> 10 | U17: =Tabla_549542!A13 -> 10 | V17: =Tabla_549529!A13 -> 10 | W17: =Tabla_549539!A13 -> 10 | X17: =Tabla_549530!A13 -> 10 | Y17: =Tabla_549531!A13 -> 10 | Z17: =Tabla_549549!A13 -> 10 | AA17: =Tabla_549553!A13 -> 10 | AB17: =Tabla_549550!A13 -> 10 | AC17: =Tabla_549554!A13 -> 10 | AD17: TESORERÍA | AE17: 45449 | AF17: 45449 | AG17: manifestarle tenga de su conocimiento que de acuerdo a la LEY DE LOS TRABAJADORES AL SERVICIO DE LAS INSTITUCIONES PÚBLICAS DEL ESTADO DE SAN LUIS POTOSI en el Título Segundo de los trabajadores Capítulo I disposiciones generales en el ARTÍCULO 12. Son trabajadores eventuales ya que están al servicio de personal subordinado, por tiempo determinados o por cantidad presupuestada por el H. Ayuntamiento de Venado, S.L.P., y como lo indica la ley. En el CAPITULO V DE LOS SALARIOS en los artículos 38, 39, 40, 41,42 y 43 los salarios y prestaciones derivadas de la relación laboral a las que se hace acreedor el trabajador, tomando en cuenta que la presente administración se rige bajo los criterios de austeridad. http://www.cegaipslp.org.mx/HV2021Tres.nsf/nombre_de_la_vista/2BB8908599B386B28625879F005F8E00/$File/REMUNERACIONES.pdf
A18: 2022 | B18: 44682 | C18: 44712 | D18: Empleado | E18: NOTIFICADOR LECTURISTA | F18: JUNTA MUNICIPAL DE AGUA POTABLE | G18: NOTIFICADOR LECTURISTA | H18: JUNTA MUNICIPAL DE AGUA POTABLE | I18: JUAN | J18: RAMOS | K18: OLVERA | L18: Masculino | M18: 9844.2 | N18: PESO | O18: 9025.3 | P18: PESO | Q18: =Tabla_549551!A14 -> 11 | R18: =Tabla_549538!A14 -> 11 | S18: =Tabla_549552!A14 -> 11 | T18: =Tabla_549522!A14 -> 11 | U18: =Tabla_549542!A14 -> 11 | V18: =Tabla_549529!A14 -> 11 | W18: =Tabla_549539!A14 -> 11 | X18: =Tabla_549530!A14 -> 11 | Y18: =Tabla_549531!A14 -> 11 | Z18: =Tabla_549549!A14 -> 11 | AA18: =Tabla_549553!A14 -> 11 | AB18: =Tabla_549550!A14 -> 11 | AC18: =Tabla_549554!A14 -> 11 | AD18: TESORERÍA | AE18: 45449 | AF18: 45449 | AG18: manifestarle tenga de su conocimiento que de acuerdo a la LEY DE LOS TRABAJADORES AL SERVICIO DE LAS INSTITUCIONES PÚBLICAS DEL ESTADO DE SAN LUIS POTOSI en el Título Segundo de los trabajadores Capítulo I disposiciones generales en el ARTÍCULO 12. Son trabajadores eventuales ya que están al servicio de personal subordinado, por tiempo determinados o por cantidad presupuestada por el H. Ayuntamiento de Venado, S.L.P., y como lo indica la ley. En el CAPITULO V DE LOS SALARIOS en los artículos 38, 39, 40, 41,42 y 43 los salarios y prestaciones derivadas de la relación laboral a las que se hace acreedor el trabajador, tomando en cuenta que la presente administración se rige bajo los criterios de austeridad. http://www.cegaipslp.org.mx/HV2021Tres.nsf/nombre_de_la_vista/2BB8908599B386B28625879F005F8E00/$File/REMUNERACIONES.pdf
A19: 2022 | B19: 44682 | C19: 44712 | D19: Empleado | E19: SECRETARIA "B" | F19: JUNTA MUNICIPAL DE AGUA POTABLE | G19: SECRETARIA | H19: JUNTA MUNICIPAL DE AGUA POTABLE | I19: MA ELIA | J19: ZAPATA | K19: DE LA CRUZ | L19: Femenino | M19: 8454 | N19: PESO | O19: 7804.58 | P19: PESO | Q19: =Tabla_549551!A15:A15 -> 12 | R19: =Tabla_549538!A15 -> 12 | S19: =Tabla_549552!A15 -> 12 | T19: =Tabla_549522!A15 -> 12 | U19: =Tabla_549542!A15 -> 12 | V19: =Tabla_549529!A15 -> 12 | W19: =Tabla_549539!A15 -> 12 | X19: =Tabla_549530!A15 -> 12 | Y19: =Tabla_549531!A15 -> 12 | Z19: =Tabla_549549!A15 -> 12 | AA19: =Tabla_549553!A15 -> 12 | AB19: =Tabla_549550!A15 -> 12 | AC19: =Tabla_549554!A15 -> 12 | AD19: TESORERÍA | AE19: 45449 | AF19: 45449 | AG19: manifestarle tenga de su conocimiento que de acuerdo a la LEY DE LOS TRABAJADORES AL SERVICIO DE LAS INSTITUCIONES PÚBLICAS DEL ESTADO DE SAN LUIS POTOSI en el Título Segundo de los trabajadores Capítulo I disposiciones generales en el ARTÍCULO 12. Son trabajadores eventuales ya que están al servicio de personal subordinado, por tiempo determinados o por cantidad presupuestada por el H. Ayuntamiento de Venado, S.L.P., y como lo indica la ley. En el CAPITULO V DE LOS SALARIOS en los artículos 38, 39, 40, 41,42 y 43 los salarios y prestaciones derivadas de la relación laboral a las que se hace acreedor el trabajador, tomando en cuenta que la presente administración se rige bajo los criterios de austeridad. http://www.cegaipslp.org.mx/HV2021Tres.nsf/nombre_de_la_vista/2BB8908599B386B28625879F005F8E00/$File/REMUNERACIONES.pdf
A20: 2022 | B20: 44682 | C20: 44712 | D20: Empleado | E20: AUXILIAR DE EQUIPO DE BOMBEO "B" | F20: JUNTA MUNICIPAL DE AGUA POTABLE | G20: AUXILIAR DE EQUIPO DE BOMBEO | H20: JUNTA MUNICIPAL DE AGUA POTABLE | I20: GILBERTO | J20: CERDA | K20: MORALES | L20: Masculino | M20: 5742 | N20: PESO | O20: 5678.4 | P20: PESO | Q20: =Tabla_549551!A16 -> 13 | R20: =Tabla_549538!A16 -> 13 | S20: =Tabla_549552!A16 -> 13 | T20: =Tabla_549522!A16 -> 13 | U20: =Tabla_549542!A16 -> 13 | V20: =Tabla_549529!A16 -> 13 | W20: =Tabla_549539!A16 -> 13 | X20: =Tabla_549530!A16 -> 13 | Y20: =Tabla_549531!A16 -> 13 | Z20: =Tabla_549549!A16 -> 13 | AA20: =Tabla_549553!A16 -> 13 | AB20: =Tabla_549550!A16 -> 13 | AC20: =Tabla_549554!A16 -> 13 | AD20: TESORERÍA | AE20: 45449 | AF20: 45449 | AG20: manifestarle tenga de su conocimiento que de acuerdo a la LEY DE LOS TRABAJADORES AL SERVICIO DE LAS INSTITUCIONES PÚBLICAS DEL ESTADO DE SAN LUIS POTOSI en el Título Segundo de los trabajadores Capítulo I disposiciones generales en el ARTÍCULO 12. Son trabajadores eventuales ya que están al servicio de personal subordinado, por tiempo determinados o por cantidad presupuestada por el H. Ayuntamiento de Venado, S.L.P., y como lo indica la ley. En el CAPITULO V DE LOS SALARIOS en los artículos 38, 39, 40, 41,42 y 43 los salarios y prestaciones derivadas de la relación laboral a las que se hace acreedor el trabajador, tomando en cuenta que la presente administración se rige bajo los criterios de austeridad. http://www.cegaipslp.org.mx/HV2021Tres.nsf/nombre_de_la_vista/2BB8908599B386B28625879F005F8E00/$File/REMUNERACIONES.pdf
A21: 2022 | B21: 44682 | C21: 44712 | D21: Empleado | E21: AUXILIAR GENERAL DE AGUA POTABLE | F21: JUNTA MUNICIPAL DE AGUA POTABLE | G21: AUXILIAR GENERAL DE AGUA POTABLE | H21: JUNTA MUNICIPAL DE AGUA POTABLE | I21: FRANCISCO JAVIER | J21: GARCIA | K21: HERNANDEZ | L21: Masculino | M21: 5227.5 | N21: PESO | O21: 5242.02 | P21: PESO | Q21: =Tabla_549551!A17:A17 -> 14 | R21: =Tabla_549538!A17 -> 14 | S21: =Tabla_549552!A17 -> 14 | T21: =Tabla_549522!A17 -> 14 | U21: =Tabla_549542!A17 -> 14 | V21: =Tabla_549529!A17 -> 14 | W21: =Tabla_549539!A17 -> 14 | X21: =Tabla_549530!A17 -> 14 | Y21: =Tabla_549531!A17 -> 14 | Z21: =Tabla_549549!A17 -> 14 | AA21: =Tabla_549553!A17 -> 14 | AB21: =Tabla_549550!A17 -> 14 | AC21: =Tabla_549554!A17 -> 14 | AD21: TESORERÍA | AE21: 45449 | AF21: 45449 | AG21: manifestarle tenga de su conocimiento que de acuerdo a la LEY DE LOS TRABAJADORES AL SERVICIO DE LAS INSTITUCIONES PÚBLICAS DEL ESTADO DE SAN LUIS POTOSI en el Título Segundo de los trabajadores Capítulo I disposiciones generales en el ARTÍCULO 12. Son trabajadores eventuales ya que están al servicio de personal subordinado, por tiempo determinados o por cantidad presupuestada por el H. Ayuntamiento de Venado, S.L.P., y como lo indica la ley. En el CAPITULO V DE LOS SALARIOS en los artículos 38, 39, 40, 41,42 y 43 los salarios y prestaciones derivadas de la relación laboral a las que se hace acreedor el trabajador, tomando en cuenta que la presente administración se rige bajo los criterios de austeridad. http://www.cegaipslp.org.mx/HV2021Tres.nsf/nombre_de_la_vista/2BB8908599B386B28625879F005F8E00/$File/REMUNERACIONES.pdf
A22: 2022 | B22: 44682 | C22: 44712 | D22: Empleado | E22: AUXILIAR DE EQUIPO DE BOMBEO | F22: JUNTA MUNICIPAL DE AGUA POTABLE | G22: AUXILIAR DE EQUIPO DE BOMBEO | H22: JUNTA MUNICIPAL DE AGUA POTABLE | I22: RICARDO | J22: AMAYA | K22: GALAVIS | L22: Masculino | M22: 8673.28 | N22: PESO | O22: 8000 | P22: PESO | Q22: =Tabla_549551!A18 -> 15 | R22: =Tabla_549538!A18 -> 15 | S22: =Tabla_549552!A18 -> 15 | T22: =Tabla_549522!A18 -> 15 | U22: =Tabla_549542!A18 -> 15 | V22: =Tabla_549529!A18 -> 15 | W22: =Tabla_549539!A18 -> 15 | X22: =Tabla_549530!A18 -> 15 | Y22: =Tabla_549531!A18 -> 15 | Z22: =Tabla_549549!A18 -> 15 | AA22: =Tabla_549553!A18 -> 15 | AB22: =Tabla_549550!A18 -> 15 | AC22: =Tabla_549554!A18 -> 15 | AD22: TESORERÍA | AE22: 45449 | AF22: 45449 | AG22: manifestarle tenga de su conocimiento que de acuerdo a la LEY DE LOS TRABAJADORES AL SERVICIO DE LAS INSTITUCIONES PÚBLICAS DEL ESTADO DE SAN LUIS POTOSI en el Título Segundo de los trabajadores Capítulo I disposiciones generales en el ARTÍCULO 12. Son trabajadores eventuales ya que están al servicio de personal subordinado, por tiempo determinados o por cantidad presupuestada por el H. Ayuntamiento de Venado, S.L.P., y como lo indica la ley. En el CAPITULO V DE LOS SALARIOS en los artículos 38, 39, 40, 41,42 y 43 los salarios y prestaciones derivadas de la relación laboral a las que se hace acreedor el trabajador, tomando en cuenta que la presente administración se rige bajo los criterios de austeridad. http://www.cegaipslp.org.mx/HV2021Tres.nsf/nombre_de_la_vista/2BB8908599B386B28625879F005F8E00/$File/REMUNERACIONES.pdf
A23: 2022 | B23: 44682 | C23: 44712 | D23: Empleado | E23: AUXILIAR DE EQUIPO DE BOMBEO | F23: JUNTA MUNICIPAL DE AGUA POTABLE | G23: SECRETARIA | H23: JUNTA MUNICIPAL DE AGUA POTABLE | I23: MA. ANGELICA | J23: RODRIGUEZ | K23: LOPEZ | L23: Masculino | M23: 5182.6 | N23: PESO | O23: 5200 | P23: PESO | Q23: =Tabla_549551!A19:A19 -> 16 | R23: =Tabla_549538!A19 -> 16 | S23: =Tabla_549552!A19 -> 16 | T23: =Tabla_549522!A19 -> 16 | U23: =Tabla_549542!A19 -> 16 | V23: =Tabla_549529!A19 -> 16 | W23: =Tabla_549539!A19 -> 16 | X23: =Tabla_549530!A19 -> 16 | Y23: =Tabla_549531!A19 -> 16 | Z23: =Tabla_549549!A19 -> 16 | AA23: =Tabla_549553!A19 -> 16 | AB23: =Tabla_549550!A19 -> 16 | AC23: =Tabla_549554!A19 -> 16 | AD23: TESORERÍA | AE23: 45449 | AF23: 45449 | AG23: manifestarle tenga de su conocimiento que de acuerdo a la LEY DE LOS TRABAJADORES AL SERVICIO DE LAS INSTITUCIONES PÚBLICAS DEL ESTADO DE SAN LUIS POTOSI en el Título Segundo de los trabajadores Capítulo I disposiciones generales en el ARTÍCULO 12. Son trabajadores eventuales ya que están al servicio de personal subordinado, por tiempo determinados o por cantidad presupuestada por el H. Ayuntamiento de Venado, S.L.P., y como lo indica la ley. En el CAPITULO V DE LOS SALARIOS en los artículos 38, 39, 40, 41,42 y 43 los salarios y prestaciones derivadas de la relación laboral a las que se hace acreedor el trabajador, tomando en cuenta que la presente administración se rige bajo los criterios de austeridad. http://www.cegaipslp.org.mx/HV2021Tres.nsf/nombre_de_la_vista/2BB8908599B386B28625879F005F8E00/$File/REMUNERACIONES.pdf
A24: 2022 | B24: 44682 | C24: 44712 | D24: Personal de confianza | E24: DIRECTOR | F24: CATASTRO | G24: DIRECTORA DE CATASTRO | H24: CATASTRO | I24: SILVIA CRISTINA | J24: HERNANDEZ | K24: GARCIA | L24: Femenino | M24: 9814.1 | N24: PESO | O24: 9000 | P24: PESO | Q24: =Tabla_549551!A20 -> 17 | R24: =Tabla_549538!A20 -> 17 | S24: =Tabla_549552!A20 -> 17 | T24: =Tabla_549522!A20 -> 17 | U24: =Tabla_549542!A20 -> 17 | V24: =Tabla_549529!A20 -> 17 | W24: =Tabla_549539!A20 -> 17 | X24: =Tabla_549530!A20 -> 17 | Y24: =Tabla_549531!A20 -> 17 | Z24: =Tabla_549549!A20 -> 17 | AA24: =Tabla_549553!A20 -> 17 | AB24: =Tabla_549550!A20 -> 17 | AC24: =Tabla_549554!A20 -> 17 | AD24: TESORERÍA | AE24: 45449 | AF24: 45449 | AG24: manifestarle tenga de su conocimiento que de acuerdo a la LEY DE LOS TRABAJADORES AL SERVICIO DE LAS INSTITUCIONES PÚBLICAS DEL ESTADO DE SAN LUIS POTOSI en el Título Segundo de los trabajadores Capítulo I disposiciones generales en el ARTÍCULO 12. Son trabajadores eventuales ya que están al servicio de personal subordinado, por tiempo determinados o por cantidad presupuestada por el H. Ayuntamiento de Venado, S.L.P., y como lo indica la ley. En el CAPITULO V DE LOS SALARIOS en los artículos 38, 39, 40, 41,42 y 43 los salarios y prestaciones derivadas de la relación laboral a las que se hace acreedor el trabajador, tomando en cuenta que la presente administración se rige bajo los criterios de austeridad. http://www.cegaipslp.org.mx/HV2021Tres.nsf/nombre_de_la_vista/2BB8908599B386B28625879F005F8E00/$File/REMUNERACIONES.pdf
A25: 2022 | B25: 44682 | C25: 44712 | D25: Empleado | E25: SECRETARIA "A" | F25: CATASTRO | G25: SECRETARIA | H25: CATASTRO | I25: MARIA ELENA | J25: CARRANZA | K25: CORONADO | L25: Femenino | M25: 6102.86 | N25: PESO | O25: 6000 | P25: PESO | Q25: =Tabla_549551!A21:A21 -> 18 | R25: =Tabla_549538!A21 -> 18 | S25: =Tabla_549552!A21 -> 18 | T25: =Tabla_549522!A21 -> 18 | U25: =Tabla_549542!A21 -> 18 | V25: =Tabla_549529!A21 -> 18 | W25: =Tabla_549539!A21 -> 18 | X25: =Tabla_549530!A21 -> 18 | Y25: =Tabla_549531!A21 -> 18 | Z25: =Tabla_549549!A21 -> 18 | AA25: =Tabla_549553!A21 -> 18 | AB25: =Tabla_549550!A21 -> 18 | AC25: =Tabla_549554!A21 -> 18 | AD25: TESORERÍA | AE25: 45449 | AF25: 45449 | AG25: manifestarle tenga de su conocimiento que de acuerdo a la LEY DE LOS TRABAJADORES AL SERVICIO DE LAS INSTITUCIONES PÚBLICAS DEL ESTADO DE SAN LUIS POTOSI en el Título Segundo de los trabajadores Capítulo I disposiciones generales en el ARTÍCULO 12. Son trabajadores eventuales ya que están al servicio de personal subordinado, por tiempo determinados o por cantidad presupuestada por el H. Ayuntamiento de Venado, S.L.P., y como lo indica la ley. En el CAPITULO V DE LOS SALARIOS en los artículos 38, 39, 40, 41,42 y 43 los salarios y prestaciones derivadas de la relación laboral a las que se hace acreedor el trabajador, tomando en cuenta que la presente administración se rige bajo los criterios de austeridad. http://www.cegaipslp.org.mx/HV2021Tres.nsf/nombre_de_la_vista/2BB8908599B386B28625879F005F8E00/$File/REMUNERACIONES.pdf
A26: 2022 | B26: 44682 | C26: 44712 | D26: Empleado | E26: SECRETARIA "A" | F26: CATASTRO | G26: SECRETARIA | H26: CATASTRO | I26: LORINDA | J26: MARTINEZ | K26: GAONA | L26: Femenino | M26: 11673 | N26: PESO | O26: 10549.14 | P26: PESO | Q26: =Tabla_549551!A22 -> 19 | R26: =Tabla_549538!A22 -> 19 | S26: =Tabla_549552!A22 -> 19 | T26: =Tabla_549522!A22 -> 19 | U26: =Tabla_549542!A22 -> 19 | V26: =Tabla_549529!A22 -> 19 | W26: =Tabla_549539!A22 -> 19 | X26: =Tabla_549530!A22 -> 19 | Y26: =Tabla_549531!A22 -> 19 | Z26: =Tabla_549549!A22 -> 19 | AA26: =Tabla_549553!A22 -> 19 | AB26: =Tabla_549550!A22 -> 19 | AC26: =Tabla_549554!A22 -> 19 | AD26: TESORERÍA | AE26: 45449 | AF26: 45449 | AG26: manifestarle tenga de su conocimiento que de acuerdo a la LEY DE LOS TRABAJADORES AL SERVICIO DE LAS INSTITUCIONES PÚBLICAS DEL ESTADO DE SAN LUIS POTOSI en el Título Segundo de los trabajadores Capítulo I disposiciones generales en el ARTÍCULO 12. Son trabajadores eventuales ya que están al servicio de personal subordinado, por tiempo determinados o por cantidad presupuestada por el H. Ayuntamiento de Venado, S.L.P., y como lo indica la ley. En el CAPITULO V DE LOS SALARIOS en los artículos 38, 39, 40, 41,42 y 43 los salarios y prestaciones derivadas de la relación laboral a las que se hace acreedor el trabajador, tomando en cuenta que la presente administración se rige bajo los criterios de austeridad. http://www.cegaipslp.org.mx/HV2021Tres.nsf/nombre_de_la_vista/2BB8908599B386B28625879F005F8E00/$File/REMUNERACIONES.pdf
A27: 2022 | B27: 44682 | C27: 44712 | D27: Personal de confianza | E27: CONTRALOR MUNICIPAL | F27: CONTRALORIA INTERNA | G27: CONTRALOR MUNICIPAL | H27: CONTRALORIA INTERNA | I27: JOSE LUIS | J27: ACOSTA | K27: ZAMARRIPA | L27: Masculino | M27: 12222.3 | N27: PESO | O27: 11000 | P27: PESO | Q27: =Tabla_549551!A23:A23 -> 20 | R27: =Tabla_549538!A23 -> 20 | S27: =Tabla_549552!A23 -> 20 | T27: =Tabla_549522!A23 -> 20 | U27: =Tabla_549542!A23 -> 20 | V27: =Tabla_549529!A23 -> 20 | W27: =Tabla_549539!A23 -> 20 | X27: =Tabla_549530!A23 -> 20 | Y27: =Tabla_549531!A23 -> 20 | Z27: =Tabla_549549!A23 -> 20 | AA27: =Tabla_549553!A23 -> 20 | AB27: =Tabla_549550!A23 -> 20 | AC27: =Tabla_549554!A23 -> 20 | AD27: TESORERÍA | AE27: 45449 | AF27: 45449 | AG27: manifestarle tenga de su conocimiento que de acuerdo a la LEY DE LOS TRABAJADORES AL SERVICIO DE LAS INSTITUCIONES PÚBLICAS DEL ESTADO DE SAN LUIS POTOSI en el Título Segundo de los trabajadores Capítulo I disposiciones generales en el ARTÍCULO 12. Son trabajadores eventuales ya que están al servicio de personal subordinado, por tiempo determinados o por cantidad presupuestada por el H. Ayuntamiento de Venado, S.L.P., y como lo indica la ley. En el CAPITULO V DE LOS SALARIOS en los artículos 38, 39, 40, 41,42 y 43 los salarios y prestaciones derivadas de la relación laboral a las que se hace acreedor el trabajador, tomando en cuenta que la presente administración se rige bajo los criterios de austeridad. http://www.cegaipslp.org.mx/HV2021Tres.nsf/nombre_de_la_vista/2BB8908599B386B28625879F005F8E00/$File/REMUNERACIONES.pdf
A28: 2022 | B28: 44682 | C28: 44712 | D28: Personal de confianza | E28: ENCARGADO DE UNIDAD DE VIGILANCIA | F28: CONTRALORIA INTERNA | G28: ENCARGADO DE UNIDAD DE VIGILANCIA | H28: CONTRALORIA INTERNA | I28: HUGO EDUARDO | J28: SALAZAR | K28: GARCIA | L28: Masculino | M28: 9814.1 | N28: PESO | O28: 9000 | P28: PESO | Q28: =Tabla_549551!A24 -> 21 | R28: =Tabla_549538!A24 -> 21 | S28: =Tabla_549552!A24 -> 21 | T28: =Tabla_549522!A24 -> 21 | U28: =Tabla_549542!A24 -> 21 | V28: =Tabla_549529!A24 -> 21 | W28: =Tabla_549539!A24 -> 21 | X28: =Tabla_549530!A24 -> 21 | Y28: =Tabla_549531!A24 -> 21 | Z28: =Tabla_549549!A24 -> 21 | AA28: =Tabla_549553!A24 -> 21 | AB28: =Tabla_549550!A24 -> 21 | AC28: =Tabla_549554!A24 -> 21 | AD28: TESORERÍA | AE28: 45449 | AF28: 45449 | AG28: manifestarle tenga de su conocimiento que de acuerdo a la LEY DE LOS TRABAJADORES AL SERVICIO DE LAS INSTITUCIONES PÚBLICAS DEL ESTADO DE SAN LUIS POTOSI en el Título Segundo de los trabajadores Capítulo I disposiciones generales en el ARTÍCULO 12. Son trabajadores eventuales ya que están al servicio de personal subordinado, por tiempo determinados o por cantidad presupuestada por el H. Ayuntamiento de Venado, S.L.P., y como lo indica la ley. En el CAPITULO V DE LOS SALARIOS en los artículos 38, 39, 40, 41,42 y 43 los salarios y prestaciones derivadas de la relación laboral a las que se hace acreedor el trabajador, tomando en cuenta que la presente administración se rige bajo los criterios de austeridad. http://www.cegaipslp.org.mx/HV2021Tres.nsf/nombre_de_la_vista/2BB8908599B386B28625879F005F8E00/$File/REMUNERACIONES.pdf
A29: 2022 | B29: 44682 | C29: 44712 | D29: Empleado | E29: SECRETARIA | F29: CONTRALORIA INTERNA | G29: SECRETARIA | H29: CONTRALORIA INTERNA | I29: MARTHA LAURA | J29: ZAPATA | K29: HERNANDEZ | L29: Femenino | M29: 9917.1 | N29: PESO | O29: 9086.52 | P29: PESO | Q29: =Tabla_549551!A25:A25 -> 22 | R29: =Tabla_549538!A25 -> 22 | S29: =Tabla_549552!A25 -> 22 | T29: =Tabla_549522!A25 -> 22 | U29: =Tabla_549542!A25 -> 22 | V29: =Tabla_549529!A25 -> 22 | W29: =Tabla_549539!A25 -> 22 | X29: =Tabla_549530!A25 -> 22 | Y29: =Tabla_549531!A25 -> 22 | Z29: =Tabla_549549!A25 -> 22 | AA29: =Tabla_549553!A25 -> 22 | AB29: =Tabla_549550!A25 -> 22 | AC29: =Tabla_549554!A25 -> 22 | AD29: TESORERÍA | AE29: 45449 | AF29: 45449 | AG29: manifestarle tenga de su conocimiento que de acuerdo a la LEY DE LOS TRABAJADORES AL SERVICIO DE LAS INSTITUCIONES PÚBLICAS DEL ESTADO DE SAN LUIS POTOSI en el Título Segundo de los trabajadores Capítulo I disposiciones generales en el ARTÍCULO 12. Son trabajadores eventuales ya que están al servicio de personal subordinado, por tiempo determinados o por cantidad presupuestada por el H. Ayuntamiento de Venado, S.L.P., y como lo indica la ley. En el CAPITULO V DE LOS SALARIOS en los artículos 38, 39, 40, 41,42 y 43 los salarios y prestaciones derivadas de la relación laboral a las que se hace acreedor el trabajador, tomando en cuenta que la presente administración se rige bajo los criterios de austeridad. http://www.cegaipslp.org.mx/HV2021Tres.nsf/nombre_de_la_vista/2BB8908599B386B28625879F005F8E00/$File/REMUNERACIONES.pdf
A30: 2022 | B30: 44682 | C30: 44712 | D30: Empleado | E30: SECRETARIA | F30: CONTRALORIA INTERNA | G30: SECRETARIA | H30: CONTRALORIA INTERNA | I30: KENIA DE LOS ANGELES | J30: FLORES | K30: SALAZAR | L30: Femenino | M30: 4500 | N30: PESO | O30: 4590.06 | P30: PESO | Q30: =Tabla_549551!A26 -> 23 | R30: =Tabla_549538!A26 -> 23 | S30: =Tabla_549552!A26 -> 23 | T30: =Tabla_549522!A26 -> 23 | U30: =Tabla_549542!A26 -> 23 | V30: =Tabla_549529!A26 -> 23 | W30: =Tabla_549539!A26 -> 23 | X30: =Tabla_549530!A26 -> 23 | Y30: =Tabla_549531!A26 -> 23 | Z30: =Tabla_549549!A26 -> 23 | AA30: =Tabla_549553!A26 -> 23 | AB30: =Tabla_549550!A26 -> 23 | AC30: =Tabla_549554!A26 -> 23 | AD30: TESORERÍA | AE30: 45449 | AF30: 45449 | AG30: manifestarle tenga de su conocimiento que de acuerdo a la LEY DE LOS TRABAJADORES AL SERVICIO DE LAS INSTITUCIONES PÚBLICAS DEL ESTADO DE SAN LUIS POTOSI en el Título Segundo de los trabajadores Capítulo I disposiciones generales en el ARTÍCULO 12. Son trabajadores eventuales ya que están al servicio de personal subordinado, por tiempo determinados o por cantidad presupuestada por el H. Ayuntamiento de Venado, S.L.P., y como lo indica la ley. En el CAPITULO V DE LOS SALARIOS en los artículos 38, 39, 40, 41,42 y 43 los salarios y prestaciones derivadas de la relación laboral a las que se hace acreedor el trabajador, tomando en cuenta que la presente administración se rige bajo los criterios de austeridad. http://www.cegaipslp.org.mx/HV2021Tres.nsf/nombre_de_la_vista/2BB8908599B386B28625879F005F8E00/$File/REMUNERACIONES.pdf
A31: 2022 | B31: 44682 | C31: 44712 | D31: Empleado | E31: SECRETARIO | F31: CONTRALORIA INTERNA | G31: SECRETARIO | H31: CONTRALORIA INTERNA | I31: VALENTIN ANTONIO | J31: GALVAN | K31: ORTA | L31: Masculino | M31: 4500 | N31: PESO | O31: 4590.06 | P31: PESO | Q31: =Tabla_549551!A27:A27 -> 24 | R31: =Tabla_549538!A27 -> 24 | S31: =Tabla_549552!A27 -> 24 | T31: =Tabla_549522!A27 -> 24 | U31: =Tabla_549542!A27 -> 24 | V31: =Tabla_549529!A27 -> 24 | W31: =Tabla_549539!A27 -> 24 | X31: =Tabla_549530!A27 -> 24 | Y31: =Tabla_549531!A27 -> 24 | Z31: =Tabla_549549!A27 -> 24 | AA31: =Tabla_549553!A27 -> 24 | AB31: =Tabla_549550!A27 -> 24 | AC31: =Tabla_549554!A27 -> 24 | AD31: TESORERÍA | AE31: 45449 | AF31: 45449 | AG31: manifestarle tenga de su conocimiento que de acuerdo a la LEY DE LOS TRABAJADORES AL SERVICIO DE LAS INSTITUCIONES PÚBLICAS DEL ESTADO DE SAN LUIS POTOSI en el Título Segundo de los trabajadores Capítulo I disposiciones generales en el ARTÍCULO 12. Son trabajadores eventuales ya que están al servicio de personal subordinado, por tiempo determinados o por cantidad presupuestada por el H. Ayuntamiento de Venado, S.L.P., y como lo indica la ley. En el CAPITULO V DE LOS SALARIOS en los artículos 38, 39, 40, 41,42 y 43 los salarios y prestaciones derivadas de la relación laboral a las que se hace acreedor el trabajador, tomando en cuenta que la presente administración se rige bajo los criterios de austeridad. http://www.cegaipslp.org.mx/HV2021Tres.nsf/nombre_de_la_vista/2BB8908599B386B28625879F005F8E00/$File/REMUNERACIONES.pdf
A32: 2022 | B32: 44682 | C32: 44712 | D32: Personal de confianza | E32: DIRECTOR DE CULTURA | F32: CULTURA | G32: DIRECTOR DE EDUCACION, CULTURA Y ACTOS SOLEMNES | H32: CULTURA | I32: FRANCISCO JAVIER | J32: GALLEGOS | K32: MOLINA | L32: Masculino | M32: 17265.76 | N32: PESO | O32: 15000 | P32: PESO | Q32: =Tabla_549551!A28 -> 25 | R32: =Tabla_549538!A28 -> 25 | S32: =Tabla_549552!A28 -> 25 | T32: =Tabla_549522!A28 -> 25 | U32: =Tabla_549542!A28 -> 25 | V32: =Tabla_549529!A28 -> 25 | W32: =Tabla_549539!A28 -> 25 | X32: =Tabla_549530!A28 -> 25 | Y32: =Tabla_549531!A28 -> 25 | Z32: =Tabla_549549!A28 -> 25 | AA32: =Tabla_549553!A28 -> 25 | AB32: =Tabla_549550!A28 -> 25 | AC32: =Tabla_549554!A28 -> 25 | AD32: TESORERÍA | AE32: 45449 | AF32: 45449 | AG32: manifestarle tenga de su conocimiento que de acuerdo a la LEY DE LOS TRABAJADORES AL SERVICIO DE LAS INSTITUCIONES PÚBLICAS DEL ESTADO DE SAN LUIS POTOSI en el Título Segundo de los trabajadores Capítulo I disposiciones generales en el ARTÍCULO 12. Son trabajadores eventuales ya que están al servicio de personal subordinado, por tiempo determinados o por cantidad presupuestada por el H. Ayuntamiento de Venado, S.L.P., y como lo indica la ley. En el CAPITULO V DE LOS SALARIOS en los artículos 38, 39, 40, 41,42 y 43 los salarios y prestaciones derivadas de la relación laboral a las que se hace acreedor el trabajador, tomando en cuenta que la presente administración se rige bajo los criterios de austeridad. http://www.cegaipslp.org.mx/HV2021Tres.nsf/nombre_de_la_vista/2BB8908599B386B28625879F005F8E00/$File/REMUNERACIONES.pdf
A33: 2022 | B33: 44682 | C33: 44712 | D33: Empleado | E33: ASESOR MUNICIPAL DE DEPORTES | F33: CULTURA | G33: ASESOR MUNICIPAL DE DEPORTES | H33: CULTURA | I33: JOSE LUIS | J33: MARTINEZ | K33: SERRATO | L33: Masculino | M33: 5177.7 | N33: PESO | O33: 5195.42 | P33: PESO | Q33: =Tabla_549551!A29:A29 -> 26 | R33: =Tabla_549538!A29 -> 26 | S33: =Tabla_549552!A29 -> 26 | T33: =Tabla_549522!A29 -> 26 | U33: =Tabla_549542!A29 -> 26 | V33: =Tabla_549529!A29 -> 26 | W33: =Tabla_549539!A29 -> 26 | X33: =Tabla_549530!A29 -> 26 | Y33: =Tabla_549531!A29 -> 26 | Z33: =Tabla_549549!A29 -> 26 | AA33: =Tabla_549553!A29 -> 26 | AB33: =Tabla_549550!A29 -> 26 | AC33: =Tabla_549554!A29 -> 26 | AD33: TESORERÍA | AE33: 45449 | AF33: 45449 | AG33: manifestarle tenga de su conocimiento que de acuerdo a la LEY DE LOS TRABAJADORES AL SERVICIO DE LAS INSTITUCIONES PÚBLICAS DEL ESTADO DE SAN LUIS POTOSI en el Título Segundo de los trabajadores Capítulo I disposiciones generales en el ARTÍCULO 12. Son trabajadores eventuales ya que están al servicio de personal subordinado, por tiempo determinados o por cantidad presupuestada por el H. Ayuntamiento de Venado, S.L.P., y como lo indica la ley. En el CAPITULO V DE LOS SALARIOS en los artículos 38, 39, 40, 41,42 y 43 los salarios y prestaciones derivadas de la relación laboral a las que se hace acreedor el trabajador, tomando en cuenta que la presente administración se rige bajo los criterios de austeridad. http://www.cegaipslp.org.mx/HV2021Tres.nsf/nombre_de_la_vista/2BB8908599B386B28625879F005F8E00/$File/REMUNERACIONES.pdf
A34: 2022 | B34: 44682 | C34: 44712 | D34: Empleado | E34: COORDINADOR | F34: DESARROLLO RURAL | G34: COORDINADOR | H34: DESARROLLO RURAL | I34: MIGUEL | J34: BUENROSTRO | K34: ALVAREZ | L34: Masculino | M34: 11004.56 | N34: PESO | O34: 10000 | P34: PESO | Q34: =Tabla_549551!A30 -> 27 | R34: =Tabla_549538!A30 -> 27 | S34: =Tabla_549552!A30 -> 27 | T34: =Tabla_549522!A30 -> 27 | U34: =Tabla_549542!A30 -> 27 | V34: =Tabla_549529!A30 -> 27 | W34: =Tabla_549539!A30 -> 27 | X34: =Tabla_549530!A30 -> 27 | Y34: =Tabla_549531!A30 -> 27 | Z34: =Tabla_549549!A30 -> 27 | AA34: =Tabla_549553!A30 -> 27 | AB34: =Tabla_549550!A30 -> 27 | AC34: =Tabla_549554!A30 -> 27 | AD34: TESORERÍA | AE34: 45449 | AF34: 45449 | AG34: manifestarle tenga de su conocimiento que de acuerdo a la LEY DE LOS TRABAJADORES AL SERVICIO DE LAS INSTITUCIONES PÚBLICAS DEL ESTADO DE SAN LUIS POTOSI en el Título Segundo de los trabajadores Capítulo I disposiciones generales en el ARTÍCULO 12. Son trabajadores eventuales ya que están al servicio de personal subordinado, por tiempo determinados o por cantidad presupuestada por el H. Ayuntamiento de Venado, S.L.P., y como lo indica la ley. En el CAPITULO V DE LOS SALARIOS en los artículos 38, 39, 40, 41,42 y 43 los salarios y prestaciones derivadas de la relación laboral a las que se hace acreedor el trabajador, tomando en cuenta que la presente administración se rige bajo los criterios de austeridad. http://www.cegaipslp.org.mx/HV2021Tres.nsf/nombre_de_la_vista/2BB8908599B386B28625879F005F8E00/$File/REMUNERACIONES.pdf
A35: 2022 | B35: 44682 | C35: 44712 | D35: Empleado | E35: SECRETARIA "B" | F35: DESARROLLO RURAL | G35: SECRETARIA | H35: DESARROLLO RURAL | I35: MIRIAM | J35: ROJAS | K35: MORENO | L35: Masculino | M35: 10482.6 | N35: PESO | O35: 9561.54 | P35: PESO | Q35: =Tabla_549551!A31:A31 -> 28 | R35: =Tabla_549538!A31 -> 28 | S35: =Tabla_549552!A31 -> 28 | T35: =Tabla_549522!A31 -> 28 | U35: =Tabla_549542!A31 -> 28 | V35: =Tabla_549529!A31 -> 28 | W35: =Tabla_549539!A31 -> 28 | X35: =Tabla_549530!A31 -> 28 | Y35: =Tabla_549531!A31 -> 28 | Z35: =Tabla_549549!A31 -> 28 | AA35: =Tabla_549553!A31 -> 28 | AB35: =Tabla_549550!A31 -> 28 | AC35: =Tabla_549554!A31 -> 28 | AD35: TESORERÍA | AE35: 45449 | AF35: 45449 | AG35: manifestarle tenga de su conocimiento que de acuerdo a la LEY DE LOS TRABAJADORES AL SERVICIO DE LAS INSTITUCIONES PÚBLICAS DEL ESTADO DE SAN LUIS POTOSI en el Título Segundo de los trabajadores Capítulo I disposiciones generales en el ARTÍCULO 12. Son trabajadores eventuales ya que están al servicio de personal subordinado, por tiempo determinados o por cantidad presupuestada por el H. Ayuntamiento de Venado, S.L.P., y como lo indica la ley. En el CAPITULO V DE LOS SALARIOS en los artículos 38, 39, 40, 41,42 y 43 los salarios y prestaciones derivadas de la relación laboral a las que se hace acreedor el trabajador, tomando en cuenta que la presente administración se rige bajo los criterios de austeridad. http://www.cegaipslp.org.mx/HV2021Tres.nsf/nombre_de_la_vista/2BB8908599B386B28625879F005F8E00/$File/REMUNERACIONES.pdf
A36: 2022 | B36: 44682 | C36: 44712 | D36: Funcionario | E36: DIRECTOR DE DESARROLLO SOCIAL | F36: DESARROLLO SOCIAL | G36: DIRECTOR | H36: DESARROLLO SOCIAL | I36: IGNACIO | J36: MARTINEZ | K36: CARLOS | L36: Masculino | M36: 21080.62 | N36: PESO | O36: 18000 | P36: PESO | Q36: =Tabla_549551!A32 -> 29 | R36: =Tabla_549538!A32 -> 29 | S36: =Tabla_549552!A32 -> 29 | T36: =Tabla_549522!A32 -> 29 | U36: =Tabla_549542!A32 -> 29 | V36: =Tabla_549529!A32 -> 29 | W36: =Tabla_549539!A32 -> 29 | X36: =Tabla_549530!A32 -> 29 | Y36: =Tabla_549531!A32 -> 29 | Z36: =Tabla_549549!A32 -> 29 | AA36: =Tabla_549553!A32 -> 29 | AB36: =Tabla_549550!A32 -> 29 | AC36: =Tabla_549554!A32 -> 29 | AD36: TESORERÍA | AE36: 45449 | AF36: 45449 | AG36: manifestarle tenga de su conocimiento que de acuerdo a la LEY DE LOS TRABAJADORES AL SERVICIO DE LAS INSTITUCIONES PÚBLICAS DEL ESTADO DE SAN LUIS POTOSI en el Título Segundo de los trabajadores Capítulo I disposiciones generales en el ARTÍCULO 12. Son trabajadores eventuales ya que están al servicio de personal subordinado, por tiempo determinados o por cantidad presupuestada por el H. Ayuntamiento de Venado, S.L.P., y como lo indica la ley. En el CAPITULO V DE LOS SALARIOS en los artículos 38, 39, 40, 41,42 y 43 los salarios y prestaciones derivadas de la relación laboral a las que se hace acreedor el trabajador, tomando en cuenta que la presente administración se rige bajo los criterios de austeridad. http://www.cegaipslp.org.mx/HV2021Tres.nsf/nombre_de_la_vista/2BB8908599B386B28625879F005F8E00/$File/REMUNERACIONES.pdf
A37: 2022 | B37: 44682 | C37: 44712 | D37: Empleado | E37: SECRETARIA "C" | F37: DESARROLLO SOCIAL | G37: ENLACE PROSPERA | H37: DESARROLLO SOCIAL | I37: ERICKA ISABEL | J37: ZAVALA | K37: SAUCEDO | L37: Femenino | M37: 9304.2 | N37: PESO | O37: 8562.28 | P37: PESO | Q37: =Tabla_549551!A33:A33 -> 30 | R37: =Tabla_549538!A33 -> 30 | S37: =Tabla_549552!A33 -> 30 | T37: =Tabla_549522!A33 -> 30 | U37: =Tabla_549542!A33 -> 30 | V37: =Tabla_549529!A33 -> 30 | W37: =Tabla_549539!A33 -> 30 | X37: =Tabla_549530!A33 -> 30 | Y37: =Tabla_549531!A33 -> 30 | Z37: =Tabla_549549!A33 -> 30 | AA37: =Tabla_549553!A33 -> 30 | AB37: =Tabla_549550!A33 -> 30 | AC37: =Tabla_549554!A33 -> 30 | AD37: TESORERÍA | AE37: 45449 | AF37: 45449 | AG37: manifestarle tenga de su conocimiento que de acuerdo a la LEY DE LOS TRABAJADORES AL SERVICIO DE LAS INSTITUCIONES PÚBLICAS DEL ESTADO DE SAN LUIS POTOSI en el Título Segundo de los trabajadores Capítulo I disposiciones generales en el ARTÍCULO 12. Son trabajadores eventuales ya que están al servicio de personal subordinado, por tiempo determinados o por cantidad presupuestada por el H. Ayuntamiento de Venado, S.L.P., y como lo indica la ley. En el CAPITULO V DE LOS SALARIOS en los artículos 38, 39, 40, 41,42 y 43 los salarios y prestaciones derivadas de la relación laboral a las que se hace acreedor el trabajador, tomando en cuenta que la presente administración se rige bajo los criterios de austeridad. http://www.cegaipslp.org.mx/HV2021Tres.nsf/nombre_de_la_vista/2BB8908599B386B28625879F005F8E00/$File/REMUNERACIONES.pdf
A38: 2022 | B38: 44682 | C38: 44712 | D38: Empleado | E38: AUXILIAR CONTABLE DE DESARROLLO SOCIAL | F38: DESARROLLO SOCIAL | G38: AUXILIAR CONTABLE | H38: DESARROLLO SOCIAL | I38: MARIA DEL CARMEN | J38: VALDEZ | K38: RANGEL | L38: Femenino | M38: 13448.1 | N38: PESO | O38: 11997.78 | P38: PESO | Q38: =Tabla_549551!A34 -> 31 | R38: =Tabla_549538!A34 -> 31 | S38: =Tabla_549552!A34 -> 31 | T38: =Tabla_549522!A34 -> 31 | U38: =Tabla_549542!A34 -> 31 | V38: =Tabla_549529!A34 -> 31 | W38: =Tabla_549539!A34 -> 31 | X38: =Tabla_549530!A34 -> 31 | Y38: =Tabla_549531!A34 -> 31 | Z38: =Tabla_549549!A34 -> 31 | AA38: =Tabla_549553!A34 -> 31 | AB38: =Tabla_549550!A34 -> 31 | AC38: =Tabla_549554!A34 -> 31 | AD38: TESORERÍA | AE38: 45449 | AF38: 45449 | AG38: manifestarle tenga de su conocimiento que de acuerdo a la LEY DE LOS TRABAJADORES AL SERVICIO DE LAS INSTITUCIONES PÚBLICAS DEL ESTADO DE SAN LUIS POTOSI en el Título Segundo de los trabajadores Capítulo I disposiciones generales en el ARTÍCULO 12. Son trabajadores eventuales ya que están al servicio de personal subordinado, por tiempo determinados o por cantidad presupuestada por el H. Ayuntamiento de Venado, S.L.P., y como lo indica la ley. En el CAPITULO V DE LOS SALARIOS en los artículos 38, 39, 40, 41,42 y 43 los salarios y prestaciones derivadas de la relación laboral a las que se hace acreedor el trabajador, tomando en cuenta que la presente administración se rige bajo los criterios de austeridad. http://www.cegaipslp.org.mx/HV2021Tres.nsf/nombre_de_la_vista/2BB8908599B386B28625879F005F8E00/$File/REMUNERACIONES.pdf
A39: 2022 | B39: 44682 | C39: 44712 | D39: Empleado | E39: ENCARGADO DE AREA | F39: OBRAS PUBLICAS | G39: AUXILIAR | H39: OBRAS PUBLICAS | I39: JOSE JUAN | J39: GONZALEZ | K39: ALCANTAR | L39: Masculino | M39: 7617.88 | N39: PESO | O39: 7059.42 | P39: PESO | Q39: =Tabla_549551!A35:A35 -> 32 | R39: =Tabla_549538!A35 -> 32 | S39: =Tabla_549552!A35 -> 32 | T39: =Tabla_549522!A35 -> 32 | U39: =Tabla_549542!A35 -> 32 | V39: =Tabla_549529!A35 -> 32 | W39: =Tabla_549539!A35 -> 32 | X39: =Tabla_549530!A35 -> 32 | Y39: =Tabla_549531!A35 -> 32 | Z39: =Tabla_549549!A35 -> 32 | AA39: =Tabla_549553!A35 -> 32 | AB39: =Tabla_549550!A35 -> 32 | AC39: =Tabla_549554!A35 -> 32 | AD39: TESORERÍA | AE39: 45449 | AF39: 45449 | AG39: manifestarle tenga de su conocimiento que de acuerdo a la LEY DE LOS TRABAJADORES AL SERVICIO DE LAS INSTITUCIONES PÚBLICAS DEL ESTADO DE SAN LUIS POTOSI en el Título Segundo de los trabajadores Capítulo I disposiciones generales en el ARTÍCULO 12. Son trabajadores eventuales ya que están al servicio de personal subordinado, por tiempo determinados o por cantidad presupuestada por el H. Ayuntamiento de Venado, S.L.P., y como lo indica la ley. En el CAPITULO V DE LOS SALARIOS en los artículos 38, 39, 40, 41,42 y 43 los salarios y prestaciones derivadas de la relación laboral a las que se hace acreedor el trabajador, tomando en cuenta que la presente administración se rige bajo los criterios de austeridad. http://www.cegaipslp.org.mx/HV2021Tres.nsf/nombre_de_la_vista/2BB8908599B386B28625879F005F8E00/$File/REMUNERACIONES.pdf
A40: 2022 | B40: 44682 | C40: 44712 | D40: Empleado | E40: ENCARGADO DE AREA | F40: OBRAS PUBLICAS | G40: AUXILIAR | H40: OBRAS PUBLICAS | I40: DAVID ARCADIO | J40: ARRIAGA | K40: CERDA | L40: Masculino | M40: 8673.28 | N40: PESO | O40: 8000 | P40: PESO | Q40: =Tabla_549551!A36 -> 33 | R40: =Tabla_549538!A36 -> 33 | S40: =Tabla_549552!A36 -> 33 | T40: =Tabla_549522!A36 -> 33 | U40: =Tabla_549542!A36 -> 33 | V40: =Tabla_549529!A36 -> 33 | W40: =Tabla_549539!A36 -> 33 | X40: =Tabla_549530!A36 -> 33 | Y40: =Tabla_549531!A36 -> 33 | Z40: =Tabla_549549!A36 -> 33 | AA40: =Tabla_549553!A36 -> 33 | AB40: =Tabla_549550!A36 -> 33 | AC40: =Tabla_549554!A36 -> 33 | AD40: TESORERÍA | AE40: 45449 | AF40: 45449 | AG40: manifestarle tenga de su conocimiento que de acuerdo a la LEY DE LOS TRABAJADORES AL SERVICIO DE LAS INSTITUCIONES PÚBLICAS DEL ESTADO DE SAN LUIS POTOSI en el Título Segundo de los trabajadores Capítulo I disposiciones generales en el ARTÍCULO 12. Son trabajadores eventuales ya que están al servicio de personal subordinado, por tiempo determinados o por cantidad presupuestada por el H. Ayuntamiento de Venado, S.L.P., y como lo indica la ley. En el CAPITULO V DE LOS SALARIOS en los artículos 38, 39, 40, 41,42 y 43 los salarios y prestaciones derivadas de la relación laboral a las que se hace acreedor el trabajador, tomando en cuenta que la presente administración se rige bajo los criterios de austeridad. http://www.cegaipslp.org.mx/HV2021Tres.nsf/nombre_de_la_vista/2BB8908599B386B28625879F005F8E00/$File/REMUNERACIONES.pdf
...

Sheet Hidden_1
A1: Funcionario
A2: Servidor(a) público(a)
A3: Servidor[a] público[a] eventual
A4: Integrante
A5: Empleado
A6: Representante popular
A7: Miembro del poder judicial
A8: Miembro de órgano autónomo
A9: Personal de confianza
A10: Prestador de servicios profesionales
A11: Otro

Sheet Hidden_2
A1: Femenino
A2: Masculino

Sheet Tabla_549551
B1: 2 | C1: 6 | D1: 6 | E1: 1 | F1: 1
B2: 70050 | C2: 70051 | D2: 70052 | E2: 70053 | F2: 70054
A3: ID | B3: Denominación de las percepciones adicionales en dinero | C3: Monto bruto de las percepciones adicionales en dinero | D3: Monto neto de las percepciones adicionales en dinero | E3: Tipo de moneda de las percepciones adicionales en dinero | F3: Periodicidad de las percepciones adicionales en dinero
A4: 1 | B4: NO GENERADO | C4: 0 | D4: 0 | E4: PESO | F4: QUINCENAL
A5: 2 | B5: NO GENERADO | C5: 0 | D5: 0 | E5: PESO | F5: QUINCENAL
A6: 3 | B6: NO GENERADO | C6: 0 | D6: 0 | E6: PESO | F6: QUINCENAL
A7: 4 | B7: NO GENERADO | C7: 0 | D7: 0 | E7: PESO | F7: QUINCENAL
A8: 5 | B8: NO GENERADO | C8: 0 | D8: 0 | E8: PESO | F8: QUINCENAL
A9: 6 | B9: NO GENERADO | C9: 0 | D9: 0 | E9: PESO | F9: QUINCENAL
A10: 7 | B10: NO GENERADO | C10: 0 | D10: 0 | E10: PESO | F10: QUINCENAL
A11: 8 | B11: NO GENERADO | C11: 0 | D11: 0 | E11: PESO | F11: QUINCENAL
A12: 9 | B12: NO GENERADO | C12: 0 | D12: 0 | E12: PESO | F12: QUINCENAL
A13: 10 | B13: NO GENERADO | C13: 0 | D13: 0 | E13: PESO | F13: QUINCENAL
A14: 11 | B14: NO GENERADO | C14: 0 | D14: 0 | E14: PESO | F14: QUINCENAL
A15: 12 | B15: NO GENERADO | C15: 0 | D15: 0 | E15: PESO | F15: QUINCENAL
... A154: 151 | B154: NO GENERADO | C154: 0 | D154: 0 | E154: PESO | F154: QUINCENAL

Sheet Tabla_549538
B1: 2 | C1: 1
B2: 70028 | C2: 70029
A3: ID | B3: Descripción de las percepciones adicionales en especie | C3: Periodicidad de las percepciones adicionales en especie
A4: 1 | B4: NO GENERA | C4: NO GENERA
A5: 2 | B5: NO GENERA | C5: NO GENERA
A6: 3 | B6: NO GENERA | C6: NO GENERA
A7: 4 | B7: NO GENERA | C7: NO GENERA
A8: 5 | B8: NO GENERA | C8: NO GENERA
A9: 6 | B9: NO GENERA | C9: NO GENERA
A10: 7 | B10: NO GENERA | C10: NO GENERA
A11: 8 | B11: NO GENERA | C11: NO GENERA
A12: 9 | B12: NO GENERA | C12: NO GENERA
A13: 10 | B13: NO GENERA | C13: NO GENERA
A14: 11 | B14: NO GENERA | C14: NO GENERA
A15: 12 | B15: NO GENERA | C15: NO GENERA
... A154: 151 | B154: NO GENERA | C154: NO GENERA

Sheet Tabla_549552
B1: 2 | C1: 6 | D1: 6 | E1: 1 | F1: 1
B2: 70057 | C2: 70058 | D2: 70059 | E2: 70055 | F2: 70056
A3: ID | B3: Denominación de los ingresos | C3: Monto bruto de los ingresos | D3: Monto neto de los ingresos | E3: Tipo de moneda de los ingresos | F3: Periodicidad de los ingresos
A4: 1 | B4: SALARIO | C4: 50403.36 | D4: 40000 | E4: PESO | F4: MENSUAL
A5: 2 | B5: SALARIO | C5: 15485.5 | D5: 13600 | E5: PESO | F5: MENSUAL
A6: 3 | B6: SALARIO | C6: 6102.86 | D6: 6000 | E6: PESO | F6: MENSUAL
A7: 4 | B7: SALARIO | C7: 6102.86 | D7: 6000 | E7: PESO | F7: MENSUAL
A8: 5 | B8: SALARIO | C8: 6102.86 | D8: 6000 | E8: PESO | F8: MENSUAL
A9: 6 | B9: SALARIO | C9: 6102.86 | D9: 6000 | E9: PESO | F9: MENSUAL
A10: 7 | B10: SALARIO | C10: 6102.86 | D10: 6000 | E10: PESO | F10: MENSUAL
A11: 8 | B11: SALARIO | C11: 6102.86 | D11: 6000 | E11: PESO | F11: MENSUAL
A12: 9 | B12: SALARIO | C12: 6759.6 | D12: 6544.74 | E12: PESO | F12: MENSUAL
A13: 10 | B13: SALARIO | C13: 6759.6 | D13: 6544.74 | E13: PESO | F13: MENSUAL
A14: 11 | B14: SALARIO | C14: 9844.2 | D14: 9025.3 | E14: PESO | F14: MENSUAL
A15: 12 | B15: SALARIO | C15: 8454 | D15: 7804.58 | E15: PESO | F15: MENSUAL
... A154: 151 | B154: SALARIO | C154: 6102.86 | D154: 6000 | E154: PESO | F154: MENSUAL

Sheet Tabla_549522
B1: 1 | C1: 6 | D1: 6 | E1: 1 | F1: 1
B2: 70008 | C2: 70009 | D2: 70010 | E2: 70011 | F2: 70012
A3: ID | B3: Denominación de los sistemas de compensación | C3: Monto bruto de los sistemas de compensación | D3: Monto neto de los sistemas de compensación | E3: Tipo de moneda de los sistemas de compensación | F3: Periodicidad de los sistemas de compensación
A4: 1 | B4: COMPENSACION | C4: 0 | D4: 0 | E4: PESO | F4: QUINCENAL
A5: 2 | B5: COMPENSACION | C5: 0 | D5: 0 | E5: PESO | F5: QUINCENAL
A6: 3 | B6: COMPENSACION | C6: 0 | D6: 0 | E6: PESO | F6: QUINCENAL
A7: 4 | B7: COMPENSACION | C7: 0 | D7: 0 | E7: PESO | F7: QUINCENAL
A8: 5 | B8: COMPENSACION | C8: 0 | D8: 0 | E8: PESO | F8: QUINCENAL
A9: 6 | B9: COMPENSACION | C9: 0 | D9: 0 | E9: PESO | F9: QUINCENAL
A10: 7 | B10: COMPENSACION | C10: 0 | D10: 0 | E10: PESO | F10: QUINCENAL
A11: 8 | B11: COMPENSACION | C11: 0 | D11: 0 | E11: PESO | F11: QUINCENAL
A12: 9 | B12: COMPENSACION | C12: 0 | D12: 0 | E12: PESO | F12: QUINCENAL
A13: 10 | B13: COMPENSACION | C13: 980 | D13: 980 | E13: PESO | F13: QUINCENAL
A14: 11 | B14: COMPENSACION | C14: 0 | D14: 0 | E14: PESO | F14: QUINCENAL
A15: 12 | B15: COMPENSACION | C15: 0 | D15: 0 | E15: PESO | F15: QUINCENAL
