Workbook
Name Hidden_13: Hidden_1!$A$1:$A$11
Name Hidden_211: Hidden_2!$A$1:$A$2

Sheet Reporte de Formatos
A1: 56156
A2: TÍTULO | D2: NOMBRE CORTO | G2: DESCRIPCIÓN
A3: Remuneración bruta y neta | D3: LTAIPSLP84XI | G3: La información relativa a la remuneración bruta y neta de todos los miembros del sujeto obligado de acuerdo con los tabuladores de sueldos y salarios, todas las percepciones en efectivo o en especie, sueldos, prestaciones, gratificaciones, primas, comisiones, dietas, bonos, estímulos, apoyos económicos, ingresos sistemas de compensación, entre otros.
A4: 1 | B4: 4 | C4: 4 | D4: 9 | E4: 1 | F4: 2 | G4: 2 | H4: 2 | I4: 1 | J4: 1 | K4: 1 | L4: 9 | M4: 6 | N4: 1 | O4: 6 | P4: 1 | Q4: 10 | R4: 10 | S4: 10 | T4: 10 | U4: 10 | V4: 10 | W4: 10 | X4: 10 | Y4: 10 | Z4: 10 | AA4: 10 | AB4: 10 | AC4: 10 | AD4: 2 | AE4: 4 | AF4: 13 | AG4: 14
A5: 549532 | B5: 549544 | C5: 549524 | D5: 549545 | E5: 549546 | F5: 549527 | G5: 549533 | H5: 549534 | I5: 549535 | J5: 549528 | K5: 549525 | L5: 549536 | M5: 549547 | N5: 549548 | O5: 549537 | P5: 549526 | Q5: 549551 | R5: 549538 | S5: 549552 | T5: 549522 | U5: 549542 | V5: 549529 | W5: 549539 | X5: 549530 | Y5: 549531 | Z5: 549549 | AA5: 549553 | AB5: 549550 | AC5: 549554 | AD5: 549540 | AE5: 549541 | AF5: 549543 | AG5: 549523
A6: Tabla Campos
A7: Ejercicio | B7: Fecha de inicio del periodo que se informa | C7: Fecha de término del periodo que se informa | D7: Tipo de integrante del sujeto obligado (catálogo) | E7: Clave o nivel del puesto | F7: Denominación o descripción del puesto | G7: Denominación del cargo | H7: Área de adscripción | I7: Nombre (s) | J7: Primer apellido | K7: Segundo apellido | L7: Sexo (catálogo) | M7: Monto de la remuneración bruta, de conformidad al Tabulador de sueldos y salarios que corresponda | N7: Tipo de moneda de la remuneración bruta | O7: Monto de la remuneración neta, de conformidad al Tabulador de sueldos y salarios que corresponda | P7: Tipo de moneda de la remuneración neta | Q7: Percepciones adicionales en dinero, Monto bruto y neto, tipo de moneda y su periodicidad Tabla_549551 | R7: Percepciones adicionales en especie y su periodicidad Tabla_549538 | S7: Ingresos, monto bruto y neto, tipo de moneda y su periodicidad Tabla_549552 | T7: Sistemas de compensación, monto bruto y neto, tipo de moneda y su periodicidad Tabla_549522 | U7: Gratificaciones, monto bruto y neto, tipo de moneda y su periodicidad Tabla_549542 | V7: Primas, monto bruto y neto, tipo de moneda y su periodicidad Tabla_549529 | W7: Comisiones, monto bruto y neto, tipo de moneda y su periodicidad Tabla_549539 | X7: Dietas, monto bruto y neto, tipo de moneda y su periodicidad Tabla_549530 | Y7: Bonos, monto bruto y neto, tipo de moneda y su periodicidad Tabla_549531 | Z7: Estímulos, monto bruto y neto, tipo de moneda y su periodicidad Tabla_549549 | AA7: Apoyos económicos, monto bruto y neto, tipo de moneda y su periodicidad Tabla_549553 | AB7: Prestaciones económicas, monto bruto y neto, tipo de moneda y su periodicidad Tabla_549550 | AC7: Prestaciones en especie y su periodicidad Tabla_549554 | AD7: Área(s) responsable(s) que genera(n), posee(n), publica(n) y actualizan la información | AE7: Fecha de validación | AF7: Fecha de Actualización | AG7: Nota
A8: 2022 | B8: 44682 | C8: 44712 | D8: Funcionario | E8: PRESIDENTA MUNICIPAL | F8: HONORABLE CABILDO | G8: PRESIDENTA MUNICIPAL | H8: HONORABLE CABILDO | I8: GUILLERMO | J8: MARTINEZ | K8: GUERRA | L8: Masculino | M8: 50403.36 | N8: PESO | O8: 40000 | P8: PESO | Q8: =Tabla_549551!A4 -> 1 | R8: =Tabla_549538!A4 -> 1 | S8: =Tabla_549552!A4 -> 1 | T8: =Tabla_549522!A4 -> 1 | U8: =Tabla_549542!A4 -> 1 | V8: =Tabla_549529!A4 -> 1 | W8: =Tabla_549539!A4 -> 1 | X8: =Tabla_549530!A4 -> 1 | Y8: =Tabla_549531!A4 -> 1 | Z8: =Tabla_549549!A4 -> 1 | AA8: =Tabla_549553!A4 -> 1 | AB8: =Tabla_549550!A4 -> 1 | AC8: =Tabla_549554!A4 -> 1 | AD8: TESORERÍA | AE8: 45449 | AF8: 45449 | AG8: manifestarle tenga de su conocimiento que de acuerdo a la LEY DE LOS TRABAJADORES AL SERVICIO DE LAS INSTITUCIONES PÚBLICAS DEL ESTADO DE SAN LUIS POTOSI en el Título Segundo de los trabajadores Capítulo I disposiciones generales en el ARTÍCULO 12. Son trabajadores eventuales ya que están al servicio de personal subordinado, por tiempo determinados o por cantidad presupuestada por el H. Ayuntamiento de Venado, S.L.P., y como lo indica la ley. En el CAPITULO V DE LOS SALARIOS en los artículos 38, 39, 40, 41,42 y 43 los salarios y prestaciones derivadas de la relación laboral a las que se hace acreedor el trabajador, tomando en cuenta que la presente administración se rige bajo los criterios de austeridad. http://www.cegaipslp.org.mx/HV2021Tres.nsf/nombre_de_la_vista/2BB8908599B386B28625879F005F8E00/$File/REMUNERACIONES.pdf
A9: 2022 | B9: 44682 | C9: 44712 | D9: Personal de confianza | E9: PRESIDENTA MUNICIPAL | F9: HONORABLE CABILDO | G9: SINDICO MUNICIPAL | H9: HONORABLE CABILDO | I9: SIMON | J9: SANCHEZ | K9: GONZALES | L9: Masculino | M9: 15485.5 | N9: PESO | O9: 13600 | P9: PESO | Q9: =Tabla_549551!A5:A5 -> 2 | R9: =Tabla_549538!A5 -> 2 | S9: =Tabla_549552!A5 -> 2 | T9: =Tabla_549522!A5 -> 2 | U9: =Tabla_549542!A5 -> 2 | V9: =Tabla_549529!A5 -> 2 | W9: =Tabla_549539!A5 -> 2 | X9: =Tabla_549530!A5 -> 2 | Y9: =Tabla_549531!A5 -> 2 | Z9: =Tabla_549549!A5 -> 2 | AA9: =Tabla_549553!A5 -> 2 | AB9: =Tabla_549550!A5 -> 2 | AC9: =Tabla_549554!A5 -> 2 | AD9: TESORERÍA | AE9: 45449 | AF9: 45449 | AG9: manifestarle tenga de su conocimiento que de acuerdo a la LEY DE LOS TRABAJADORES AL SERVICIO DE LAS INSTITUCIONES PÚBLICAS DEL ESTADO DE SAN LUIS POTOSI en el Título Segundo de los trabajadores Capítulo I disposiciones generales en el ARTÍCULO 12. Son trabajadores eventuales ya que están al servicio de personal subordinado, por tiempo determinados o por cantidad presupuestada por el H. Ayuntamiento de Venado, S.L.P., y como lo indica la ley. En el CAPITULO V DE LOS SALARIOS en los artículos 38, 39, 40, 41,42 y 43 los salarios y prestaciones derivadas de la relación laboral a las que se hace acreedor el trabajador, tomando en cuenta que la presente administración se rige bajo los criterios de austeridad. http://www.cegaipslp.org.mx/HV2021Tres.nsf/nombre_de_la_vista/2BB8908599B386B28625879F005F8E00/$File/REMUNERACIONES.pdf
A10: 2022 | B10: 44682 | C10: 44712 | D10: Personal de confianza | E10: PRESIDENTA MUNICIPAL | F10: HONORABLE CABILDO | G10: REGIDOR | H10: HONORABLE CABILDO | I10: OLIVIA | J10: VALDEZ | K10: MARTINEZ | L10: Masculino | M10: 6102.86 | N10: PESO | O10: 6000 | P10: PESO | Q10: =Tabla_549551!A6 -> 3 | R10: =Tabla_549538!A6 -> 3 | S10: =Tabla_549552!A6 -> 3 | T10: =Tabla_549522!A6 -> 3 | U10: =Tabla_549542!A6 -> 3 | V10: =Tabla_549529!A6 -> 3 | W10: =Tabla_549539!A6 -> 3 | X10: =Tabla_549530!A6 -> 3 | Y10: =Tabla_549531!A6 -> 3 | Z10: =Tabla_549549!A6 -> 3 | AA10: =Tabla_549553!A6 -> 3 | AB10: =Tabla_549550!A6 -> 3 | AC10: =Tabla_549554!A6 -> 3 | AD10: TESORERÍA | AE10: 45449 | AF10: 45449 | AG10: manifestarle tenga de su conocimiento que de acuerdo a la LEY DE LOS TRABAJADORES AL SERVICIO DE LAS INSTITUCIONES PÚBLICAS DEL ESTADO DE SAN LUIS POTOSI en el Título Segundo de los trabajadores Capítulo I disposiciones generales en el ARTÍCULO 12. Son trabajadores eventuales ya que están al servicio de personal subordinado, por tiempo determinados o por cantidad presupuestada por el H. Ayuntamiento de Venado, S.L.P., y como lo indica la ley. En el CAPITULO V DE LOS SALARIOS en los artículos 38, 39, 40, 41,42 y 43 los salarios y prestaciones derivadas de la relación laboral a las que se hace acreedor el trabajador, tomando en cuenta que la presente administración se rige bajo los criterios de austeridad. http://www.cegaipslp.org.mx/HV2021Tres.nsf/nombre_de_la_vista/2BB8908599B386B28625879F005F8E00/$File/REMUNERACIONES.pdf
A11: 2022 | B11: 44682 | C11: 44712 | D11: Personal de confianza | E11: PRESIDENTA MUNICIPAL | F11: HONORABLE CABILDO | G11: REGIDOR | H11: HONORABLE CABILDO | I11: GLORIA LETICIA | J11: MEDINA | K11: RIVERA | L11: Masculino | M11: 6102.86 | N11: PESO | O11: 6000 | P11: PESO | Q11: =Tabla_549551!A7:A7 -> 4 | R11: =Tabla_549538!A7 -> 4 | S11: =Tabla_549552!A7 -> 4 | T11: =Tabla_549522!A7 -> 4 | U11: =Tabla_549542!A7 -> 4 | V11: =Tabla_549529!A7 -> 4 | W11: =Tabla_549539!A7 -> 4 | X11: =Tabla_549530!A7 -> 4 | Y11: =Tabla_549531!A7 -> 4 | Z11: =Tabla_549549!A7 -> 4 | AA11: =Tabla_549553!A7 -> 4 | AB11: =Tabla_549550!A7 -> 4 | AC11: =Tabla_549554!A7 -> 4 | AD11: TESORERÍA | AE11: 45449 | AF11: 45449 | AG11: manifestarle tenga de su conocimiento que de acuerdo a la LEY DE LOS TRABAJADORES AL SERVICIO DE LAS INSTITUCIONES PÚBLICAS DEL ESTADO DE SAN LUIS POTOSI en el Título Segundo de los trabajadores Capítulo I disposiciones generales en el ARTÍCULO 12. Son trabajadores eventuales ya que están al servicio de personal subordinado, por tiempo determinados o por cantidad presupuestada por el H. Ayuntamiento de Venado, S.L.P., y como lo indica la ley. En el CAPITULO V DE LOS SALARIOS en los artículos 38, 39, 40, 41,42 y 43 los salarios y prestaciones derivadas de la relación laboral a las que se hace acreedor el trabajador, tomando en cuenta que la presente administración se rige bajo los criterios de austeridad. http://www.cegaipslp.org.mx/HV2021Tres.nsf/nombre_de_la_vista/2BB8908599B386B28625879F005F8E00/$File/REMUNERACIONES.pdf
A12: 2022 | B12: 44682 | C12: 44712 | D12: Personal de confianza | E12: PRESIDENTA MUNICIPAL | F12: HONORABLE CABILDO | G12: REGIDOR | H12: HONORABLE CABILDO | I12: ALVARO | J12: ZAVALA | K12: ALVAREZ | L12: Masculino | M12: 6102.86 | N12: PESO | O12: 6000 | P12: PESO | Q12: =Tabla_549551!A8 -> 5 | R12: =Tabla_549538!A8 -> 5 | S12: =Tabla_549552!A8 -> 5 | T12: =Tabla_549522!A8 -> 5 | U12: =Tabla_549542!A8 -> 5 | V12: =Tabla_549529!A8 -> 5 | W12: =Tabla_549539!A8 -> 5 | X12: =Tabla_549530!A8 -> 5 | Y12: =Tabla_549531!A8 -> 5 | Z12: =Tabla_549549!A8 -> 5 | AA12: =Tabla_549553!A8 -> 5 | AB12: =Tabla_549550!A8 -> 5 | AC12: =Tabla_549554!A8 -> 5 | AD12: TESORERÍA | AE12: 45449 | AF12: 45449 | AG12: manifestarle tenga de su conocimiento que de acuerdo a la LEY DE LOS TRABAJADORES AL SERVICIO DE LAS INSTITUCIONES PÚBLICAS DEL ESTADO DE SAN LUIS POTOSI en el Título Segundo de los trabajadores Capítulo I disposiciones generales en el ARTÍCULO 12. Son trabajadores eventuales ya que están al servicio de personal subordinado, por tiempo determinados o por cantidad presupuestada por el H. Ayuntamiento de Venado, S.L.P., y como lo indica la ley. En el CAPITULO V DE LOS SALARIOS en los artículos 38, 39, 40, 41,42 y 43 los salarios y prestaciones derivadas de la relación laboral a las que se hace acreedor el trabajador, tomando en cuenta que la presente administración se rige bajo los criterios de austeridad. http://www.cegaipslp.org.mx/HV2021Tres.nsf/nombre_de_la_vista/2BB8908599B386B28625879F005F8E00/$File/REMUNERACIONES.pdf
A13: 2022 | B13: 44682 | C13: 44712 | D13: Personal de confianza | E13: PRESIDENTA MUNICIPAL | F13: HONORABLE CABILDO | G13: REGIDOR | H13: HONORABLE CABILDO | I13: CECILIA | J13: MOLINA | K13: HERNANDEZ | L13: Masculino | M13: 6102.86 | N13: PESO | O13: 6000 | P13: PESO | Q13: =Tabla_549551!A9:A9 -> 6 | R13: =Tabla_549538!A9 -> 6 | S13: =Tabla_549552!A9 -> 6 | T13: =Tabla_549522!A9 -> 6 | U13: =Tabla_549542!A9 -> 6 | V13: =Tabla_549529!A9 -> 6 | W13: =Tabla_549539!A9 -> 6 | X13: =Tabla_549530!A9 -> 6 | Y13: =Tabla_549531!A9 -> 6 | Z13: =Tabla_549549!A9 -> 6 | AA13: =Tabla_549553!A9 -> 6 | AB13: =Tabla_549550!A9 -> 6 | AC13: =Tabla_549554!A9 -> 6 | AD13: TESORERÍA | AE13: 45449 | AF13: 45449 | AG13: manifestarle tenga de su conocimiento que de acuerdo a la LEY DE LOS TRABAJADORES AL SERVICIO DE LAS INSTITUCIONES PÚBLICAS DEL ESTADO DE SAN LUIS POTOSI en el Título Segundo de los trabajadores Capítulo I disposiciones generales en el ARTÍCULO 12. Son trabajadores eventuales ya que están al servicio de personal subordinado, por tiempo determinados o por cantidad presupuestada por el H. Ayuntamiento de Venado, S.L.P., y como lo indica la ley. En el CAPITULO V DE LOS SALARIOS en los artículos 38, 39, 40, 41,42 y 43 los salarios y prestaciones derivadas de la relación laboral a las que se hace acreedor el trabajador, tomando en cuenta que la presente administración se rige bajo los criterios de austeridad. http://www.cegaipslp.org.mx/HV2021Tres.nsf/nombre_de_la_vista/2BB8908599B386B28625879F005F8E00/$File/REMUNERACIONES.pdf
A14: 2022 | B14: 44682 | C14: 44712 | D14: Personal de confianza | E14: PRESIDENTA MUNICIPAL | F14: HONORABLE CABILDO | G14: REGIDOR | H14: HONORABLE CABILDO | I14: MARIBEL | J14: MARTINEZ | K14: NORIEGA | L14: Masculino | M14: 6102.86 | N14: PESO | O14: 6000 | P14: PESO | Q14: =Tabla_549551!A10 -> 7 | R14: =Tabla_549538!A10 -> 7 | S14: =Tabla_549552!A10 -> 7 | T14: =Tabla_549522!A10 -> 7 | U14: =Tabla_549542!A10 -> 7 | V14: =Tabla_549529!A10 -> 7 | W14: =Tabla_549539!A10 -> 7 | X14: =Tabla_549530!A10 -> 7 | Y14: =Tabla_549531!A10 -> 7 | Z14: =Tabla_549549!A10 -> 7 | AA14: =Tabla_549553!A10 -> 7 | AB14: =Tabla_549550!A10 -> 7 | AC14: =Tabla_549554!A10 -> 7 | AD14: TESORERÍA | AE14: 45449 | AF14: 45449 | AG14: manifestarle tenga de su conocimiento que de acuerdo a la LEY DE LOS TRABAJADORES AL SERVICIO DE LAS INSTITUCIONES PÚBLICAS DEL ESTADO DE SAN LUIS POTOSI en el Título Segundo de los trabajadores Capítulo I disposiciones generales en el ARTÍCULO 12. Son trabajadores eventuales ya que están al servicio de personal subordinado, por tiempo determinados o por cantidad presupuestada por el H. Ayuntamiento de Venado, S.L.P., y como lo indica la ley. En el CAPITULO V DE LOS SALARIOS en los artículos 38, 39, 40, 41,42 y 43 los salarios y prestaciones derivadas de la relación laboral a las que se hace acreedor el trabajador, tomando en cuenta que la presente administración se rige bajo los criterios de austeridad. http://www.cegaipslp.org.mx/HV2021Tres.nsf/nombre_de_la_vista/2BB8908599B386B28625879F005F8E00/$File/REMUNERACIONES.pdf
A15: 2022 | B15: 44682 | C15: 44712 | D15: Personal de confianza | E15: PRESIDENTA MUNICIPAL | F15: HONORABLE CABILDO | G15: REGIDOR | H15: HONORABLE CABILDO | I15: LUIS FELIPE | J15: CASAS ALEMAN | K15: MARTINEZ | L15: Masculino | M15: 6102.86 | N15: PESO | O15: 6000 | P15: PESO | Q15: =Tabla_549551!A11:A11 -> 8 | R15: =Tabla_549538!A11 -> 8 | S15: =Tabla_549552!A11 -> 8 | T15: =Tabla_549522!A11 -> 8 | U15: =Tabla_549542!A11 -> 8 | V15: =Tabla_549529!A11 -> 8 | W15: =Tabla_549539!A11 -> 8 | X15: =Tabla_549530!A11 -> 8 | Y15: =Tabla_549531!A11 -> 8 | Z15: =Tabla_549549!A11 -> 8 | AA15: =Tabla_549553!A11 -> 8 | AB15: =Tabla_549550!A11 -> 8 | AC15: =Tabla_549554!A11 -> 8 | AD15: TESORERÍA | AE15: 45449 | AF15: 45449 | AG15: manifestarle tenga de su conocimiento que de acuerdo a la LEY DE LOS TRABAJADORES AL SERVICIO DE LAS INSTITUCIONES PÚBLICAS DEL ESTADO DE SAN LUIS POTOSI en el Título Segundo de los trabajadores Capítulo I disposiciones generales en el ARTÍCULO 12. Son trabajadores eventuales ya que están al servicio de personal subordinado, por tiempo determinados o por cantidad presupuestada por el H. Ayuntamiento de Venado, S.L.P., y como lo indica la ley. En el CAPITULO V DE LOS SALARIOS en los artículos 38, 39, 40, 41,42 y 43 los salarios y prestaciones derivadas de la relación laboral a las que se hace acreedor el trabajador, tomando en cuenta que la presente administración se rige bajo los criterios de austeridad. http://www.cegaipslp.org.mx/HV2021Tres.nsf/nombre_de_la_vista/2BB8908599B386B28625879F005F8E00/$File/REMUNERACIONES.pdf
A16: 2022 | B16: 44682 | C16: 44712 | D16: Empleado | E16: AUXILIAR DE EQUIPO DE BOMBEO "A" | F16: JUNTA MUNICIPAL DE AGUA POTABLE | G16: AUXILIAR DE MANTENIMIENTO DE TUBERIA | H16: JUNTA MUNICIPAL DE AGUA POTABLE | I16: MOISES | J16: SAUCEDA | K16: BENITEZ | L16: Masculino | M16: 6759.6 | N16: PESO | O16: 6544.74 | P16: PESO | Q16: =Tabla_549551!A12 -> 9 | R16: =Tabla_549538!A12 -> 9 | S16: =Tabla_549552!A12 -> 9 | T16: =Tabla_549522!A12 -> 9 | U16: =Tabla_549542!A12 -> 9 | V16: =Tabla_549529!A12 -> 9 | W16: =Tabla_549539!A12 -> 9 | X16: =Tabla_549530!A12 -> 9 | Y16: =Tabla_549531!A12 -> 9 | Z16: =Tabla_549549!A12 -> 9 | AA16: =Tabla_549553!A12 -> 9 | AB16: =Tabla_549550!A12 -> 9 | AC16: =Tabla_549554!A12 -> 9 | AD16: TESORERÍA | AE16: 45449 | AF16: 45449 | AG16: manifestarle tenga de su conocimiento que de acuerdo a la LEY DE LOS TRABAJADORES AL SERVICIO DE LAS INSTITUCIONES PÚBLICAS DEL ESTADO DE SAN LUIS POTOSI en el Título Segundo de los trabajadores Capítulo I disposiciones generales en el ARTÍCULO 12. Son trabajadores eventuales ya que están al servicio de personal subordinado, por tiempo determinados o por cantidad presupuestada por el H. Ayuntamiento de Venado, S.L.P., y como lo indica la ley. En el CAPITULO V DE LOS SALARIOS en los artículos 38, 39, 40, 41,42 y 43 los salarios y prestaciones derivadas de la relación laboral a las que se hace acreedor el trabajador, tomando en cuenta que la presente administración se rige bajo los criterios de austeridad. http://www.cegaipslp.org.mx/HV2021Tres.nsf/nombre_de_la_vista/2BB8908599B386B28625879F005F8E00/$File/REMUNERACIONES.pdf
A17: 2022 | B17: 44682 | C17: 44712 | D17: Empleado | E17: EQUIPO DE BOMBEO "A" | F17: JUNTA MUNICIPAL DE AGUA POTABLE | G17: ENCARGADO DE MANTENIMIENTO DE TUBERIA | H17: JUNTA MUNICIPAL DE AGUA POTABLE | I17: ISIDORO | J17: RUIZ | K17: RODRIGUEZ | L17: Masculino | M17: 6759.6 | N17: PESO | O17: 6544.74 | P17: PESO | Q17: =Tabla_549551!A13:A13 -> 10 | R17: =Tabla_549538!A13 -> 10 | S17: =Tabla_549552!A13 -> 10 | T17: =Tabla_549522!A13 -> 10 | U17: =Tabla_549542!A13 -> 10 | V17: =Tabla_549529!A13 -> 10 | W17: =Tabla_549539!A13 -> 10 | X17: =Tabla_549530!A13 -> 10 | Y17: =Tabla_549531!A13 -> 10 | Z17: =Tabla_549549!A13 -> 10 | AA17: =Tabla_549553!A13 -> 10 | AB17: =Tabla_549550!A13 -> 10 | AC17: =Tabla_549554!A13 -> 10 | AD17: TESORERÍA | AE17: 45449 | AF17: 45449 | AG17: manifestarle tenga de su conocimiento que de acuerdo a la LEY DE LOS TRABAJADORES AL SERVICIO DE LAS INSTITUCIONES PÚBLICAS DEL ESTADO DE SAN LUIS POTOSI en el Título Segundo de los trabajadores Capítulo I disposiciones generales en el ARTÍCULO 12. Son trabajadores eventuales ya que están al servicio de personal subordinado, por tiempo determinados o por cantidad presupuestada por el H. Ayuntamiento de Venado, S.L.P., y como lo indica la ley. En el CAPITULO V DE LOS SALARIOS en los artículos 38, 39, 40, 41,42 y 43 los salarios y prestaciones derivadas de la relación laboral a las que se hace acreedor el trabajador, tomando en cuenta que la presente administración se rige bajo los criterios de austeridad. http://www.cegaipslp.org.mx/HV2021Tres.nsf/nombre_de_la_vista/2BB8908599B386B28625879F005F8E00/$File/REMUNERACIONES.pdf
A18: 2022 | B18: 44682 | C18: 44712 | D18: Empleado | E18: NOTIFICADOR LECTURISTA | F18: JUNTA MUNICIPAL DE AGUA POTABLE | G18: NOTIFICADOR LECTURISTA | H18: JUNTA MUNICIPAL DE AGUA POTABLE | I18: JUAN | J18: RAMOS | K18: OLVERA | L18: Masculino | M18: 9844.2 | N18: PESO | O18: 9025.3 | P18: PESO | Q18: =Tabla_549551!A14 -> 11 | R18: =Tabla_549538!A14 -> 11 | S18: =Tabla_549552!A14 -> 11 | T18: =Tabla_549522!A14 -> 11 | U18: =Tabla_549542!A14 -> 11 | V18: =Tabla_549529!A14 -> 11 | W18: =Tabla_549539!A14 -> 11 | X18: =Tabla_549530!A14 -> 11 | Y18: =Tabla_549531!A14 -> 11 | Z18: =Tabla_549549!A14 -> 11 | AA18: =Tabla_549553!A14 -> 11 | AB18: =Tabla_549550!A14 -> 11 | AC18: =Tabla_549554!A14 -> 11 | AD18: TESORERÍA | AE18: 45449 | AF18: 45449 | AG18: manifestarle tenga de su conocimiento que de acuerdo a la LEY DE LOS TRABAJADORES AL SERVICIO DE LAS INSTITUCIONES PÚBLICAS DEL ESTADO DE SAN LUIS POTOSI en el Título Segundo de los trabajadores Capítulo I disposiciones generales en el ARTÍCULO 12. Son trabajadores eventuales ya que están al servicio de personal subordinado, por tiempo determinados o por cantidad presupuestada por el H. Ayuntamiento de Venado, S.L.P., y como lo indica la ley. En el CAPITULO V DE LOS SALARIOS en los artículos 38, 39, 40, 41,42 y 43 los salarios y prestaciones derivadas de la relación laboral a las que se hace acreedor el trabajador, tomando en cuenta que la presente administración se rige bajo los criterios de austeridad. http://www.cegaipslp.org.mx/HV2021Tres.nsf/nombre_de_la_vista/2BB8908599B386B28625879F005F8E00/$File/REMUNERACIONES.pdf
A19: 2022 | B19: 44682 | C19: 44712 | D19: Empleado | E19: SECRETARIA "B" | F19: JUNTA MUNICIPAL DE AGUA POTABLE | G19: SECRETARIA | H19: JUNTA MUNICIPAL DE AGUA POTABLE | I19: MA ELIA | J19: ZAPATA | K19: DE LA CRUZ | L19: Femenino | M19: 8454 | N19: PESO | O19: 7804.58 | P19: PESO | Q19: =Tabla_549551!A15:A15 -> 12 | R19: =Tabla_549538!A15 -> 12 | S19: =Tabla_549552!A15 -> 12 | T19: =Tabla_549522!A15 -> 12 | U19: =Tabla_549542!A15 -> 12 | V19: =Tabla_549529!A15 -> 12 | W19: =Tabla_549539!A15 -> 12 | X19: =Tabla_549530!A15 -> 12 | Y19: =Tabla_549531!A15 -> 12 | Z19: =Tabla_549549!A15 -> 12 | AA19: =Tabla_549553!A15 -> 12 | AB19: =Tabla_549550!A15 -> 12 | AC19: =Tabla_549554!A15 -> 12 | AD19: TESORERÍA | AE19: 45449 | AF19: 45449 | AG19: manifestarle tenga de su conocimiento que de acuerdo a la LEY DE LOS TRABAJADORES AL SERVICIO DE LAS INSTITUCIONES PÚBLICAS DEL ESTADO DE SAN LUIS POTOSI en el Título Segundo de los trabajadores Capítulo I disposiciones generales en el ARTÍCULO 12. Son trabajadores eventuales ya que están al servicio de personal subordinado, por tiempo determinados o por cantidad presupuestada por el H. Ayuntamiento de Venado, S.L.P., y como lo indica la ley. En el CAPITULO V DE LOS SALARIOS en los artículos 38, 39, 40, 41,42 y 43 los salarios y prestaciones derivadas de la relación laboral a las que se hace acreedor el trabajador, tomando en cuenta que la presente administración se rige bajo los criterios de austeridad. http://www.cegaipslp.org.mx/HV2021Tres.nsf/nombre_de_la_vista/2BB8908599B386B28625879F005F8E00/$File/REMUNERACIONES.pdf
A20: 2022 | B20: 44682 | C20: 44712 | D20: Empleado | E20: AUXILIAR DE EQUIPO DE BOMBEO "B" | F20: JUNTA MUNICIPAL DE AGUA POTABLE | G20: AUXILIAR DE EQUIPO DE BOMBEO | H20: JUNTA MUNICIPAL DE AGUA POTABLE | I20: GILBERTO | J20: CERDA | K20: MORALES | L20: Masculino | M20: 5742 | N20: PESO | O20: 5678.4 | P20: PESO | Q20: =Tabla_549551!A16 -> 13 | R20: =Tabla_549538!A16 -> 13 | S20: =Tabla_549552!A16 -> 13 | T20: =Tabla_549522!A16 -> 13 | U20: =Tabla_549542!A16 -> 13 | V20: =Tabla_549529!A16 -> 13 | W20: =Tabla_549539!A16 -> 13 | X20: =Tabla_549530!A16 -> 13 | Y20: =Tabla_549531!A16 -> 13 | Z20: =Tabla_549549!A16 -> 13 | AA20: =Tabla_549553!A16 -> 13 | AB20: =Tabla_549550!A16 -> 13 | AC20: =Tabla_549554!A16 -> 13 | AD20: TESORERÍA | AE20: 45449 | AF20: 45449 | AG20: manifestarle tenga de su conocimiento que de acuerdo a la LEY DE LOS TRABAJADORES AL SERVICIO DE LAS INSTITUCIONES PÚBLICAS DEL ESTADO DE SAN LUIS POTOSI en el Título Segundo de los trabajadores Capítulo I disposiciones generales en el ARTÍCULO 12. Son trabajadores eventuales ya que están al servicio de personal subordinado, por tiempo determinados o por cantidad presupuestada por el H. Ayuntamiento de Venado, S.L.P., y como lo indica la ley. En el CAPITULO V DE LOS SALARIOS en los artículos 38, 39, 40, 41,42 y 43 los salarios y prestaciones derivadas de la relación laboral a las que se hace acreedor el trabajador, tomando en cuenta que la presente administración se rige bajo los criterios de austeridad. http://www.cegaipslp.org.mx/HV2021Tres.nsf/nombre_de_la_vista/2BB8908599B386B28625879F005F8E00/$File/REMUNERACIONES.pdf
A21: 2022 | B21: 44682 | C21: 44712 | D21: Empleado | E21: AUXILIAR GENERAL DE AGUA POTABLE | F21: JUNTA MUNICIPAL DE AGUA POTABLE | G21: AUXILIAR GENERAL DE AGUA POTABLE | H21: JUNTA MUNICIPAL DE AGUA POTABLE | I21: FRANCISCO JAVIER | J21: GARCIA | K21: HERNANDEZ | L21: Masculino | M21: 5227.5 | N21: PESO | O21: 5242.02 | P21: PESO | Q21: =Tabla_549551!A17:A17 -> 14 | R21: =Tabla_549538!A17 -> 14 | S21: =Tabla_549552!A17 -> 14 | T21: =Tabla_549522!A17 -> 14 | U21: =Tabla_549542!A17 -> 14 | V21: =Tabla_549529!A17 -> 14 | W21: =Tabla_549539!A17 -> 14 | X21: =Tabla_549530!A17 -> 14 | Y21: =Tabla_549531!A17 -> 14 | Z21: =Tabla_549549!A17 -> 14 | AA21: =Tabla_549553!A17 -> 14 | AB21: =Tabla_549550!A17 -> 14 | AC21: =Tabla_549554!A17 -> 14 | AD21: TESORERÍA | AE21: 45449 | AF21: 45449 | AG21: manifestarle tenga de su conocimiento que de acuerdo a la LEY DE LOS TRABAJADORES AL SERVICIO DE LAS INSTITUCIONES PÚBLICAS DEL ESTADO DE SAN LUIS POTOSI en el Título Segundo de los trabajadores Capítulo I disposiciones generales en el ARTÍCULO 12. Son trabajadores eventuales ya que están al servicio de personal subordinado, por tiempo determinados o por cantidad presupuestada por el H. Ayuntamiento de Venado, S.L.P., y como lo indica la ley. En el CAPITULO V DE LOS SALARIOS en los artículos 38, 39, 40, 41,42 y 43 los salarios y prestaciones derivadas de la relación laboral a las que se hace acreedor el trabajador, tomando en cuenta que la presente administración se rige bajo los criterios de austeridad. http://www.cegaipslp.org.mx/HV2021Tres.nsf/nombre_de_la_vista/2BB8908599B386B28625879F005F8E00/$File/REMUNERACIONES.pdf
A22: 2022 | B22: 44682 | C22: 44712 | D22: Empleado | E22: AUXILIAR DE EQUIPO DE BOMBEO | F22: JUNTA MUNICIPAL DE AGUA POTABLE | G22: AUXILIAR DE EQUIPO DE BOMBEO | H22: JUNTA MUNICIPAL DE AGUA POTABLE | I22: RICARDO | J22: AMAYA | K22: GALAVIS | L22: Masculino | M22: 8673.28 | N22: PESO | O22: 8000 | P22: PESO | Q22: =Tabla_549551!A18 -> 15 | R22: =Tabla_549538!A18 -> 15 | S22: =Tabla_549552!A18 -> 15 | T22: =Tabla_549522!A18 -> 15 | U22: =Tabla_549542!A18 -> 15 | V22: =Tabla_549529!A18 -> 15 | W22: =Tabla_549539!A18 -> 15 | X22: =Tabla_549530!A18 -> 15 | Y22: =Tabla_549531!A18 -> 15 | Z22: =Tabla_549549!A18 -> 15 | AA22: =Tabla_549553!A18 -> 15 | AB22: =Tabla_549550!A18 -> 15 | AC22: =Tabla_549554!A18 -> 15 | AD22: TESORERÍA | AE22: 45449 | AF22: 45449 | AG22: manifestarle tenga de su conocimiento que de acuerdo a la LEY DE LOS TRABAJADORES AL SERVICIO DE LAS INSTITUCIONES PÚBLICAS DEL ESTADO DE SAN LUIS POTOSI en el Título Segundo de los trabajadores Capítulo I disposiciones generales en el ARTÍCULO 12. Son trabajadores eventuales ya que están al servicio de personal subordinado, por tiempo determinados o por cantidad presupuestada por el H. Ayuntamiento de Venado, S.L.P., y como lo indica la ley. En el CAPITULO V DE LOS SALARIOS en los artículos 38, 39, 40, 41,42 y 43 los salarios y prestaciones derivadas de la relación laboral a las que se hace acreedor el trabajador, tomando en cuenta que la presente administración se rige bajo los criterios de austeridad. http://www.cegaipslp.org.mx/HV2021Tres.nsf/nombre_de_la_vista/2BB8908599B386B28625879F005F8E00/$File/REMUNERACIONES.pdf
A23: 2022 | B23: 44682 | C23: 44712 | D23: Empleado | E23: AUXILIAR DE EQUIPO DE BOMBEO | F23: JUNTA MUNICIPAL DE AGUA POTABLE | G23: SECRETARIA | H23: JUNTA MUNICIPAL DE AGUA POTABLE | I23: MA. ANGELICA | J23: RODRIGUEZ | K23: LOPEZ | L23: Masculino | M23: 5182.6 | N23: PESO | O23: 5200 | P23: PESO | Q23: =Tabla_549551!A19:A19 -> 16 | R23: =Tabla_549538!A19 -> 16 | S23: =Tabla_549552!A19 -> 16 | T23: =Tabla_549522!A19 -> 16 | U23: =Tabla_549542!A19 -> 16 | V23: =Tabla_549529!A19 -> 16 | W23: =Tabla_549539!A19 -> 16 | X23: =Tabla_549530!A19 -> 16 | Y23: =Tabla_549531!A19 -> 16 | Z23: =Tabla_549549!A19 -> 16 | AA23: =Tabla_549553!A19 -> 16 | AB23: =Tabla_549550!A19 -> 16 | AC23: =Tabla_549554!A19 -> 16 | AD23: TESORERÍA | AE23: 45449 | AF23: 45449 | AG23: manifestarle tenga de su conocimiento que de acuerdo a la LEY DE LOS TRABAJADORES AL SERVICIO DE LAS INSTITUCIONES PÚBLICAS DEL ESTADO DE SAN LUIS POTOSI en el Título Segundo de los trabajadores Capítulo I disposiciones generales en el ARTÍCULO 12. Son trabajadores eventuales ya que están al servicio de personal subordinado, por tiempo determinados o por cantidad presupuestada por el H. Ayuntamiento de Venado, S.L.P., y como lo indica la ley. En el CAPITULO V DE LOS SALARIOS en los artículos 38, 39, 40, 41,42 y 43 los salarios y prestaciones derivadas de la relación laboral a las que se hace acreedor el trabajador, tomando en cuenta que la presente administración se rige bajo los criterios de austeridad. http://www.cegaipslp.org.mx/HV2021Tres.nsf/nombre_de_la_vista/2BB8908599B386B28625879F005F8E00/$File/REMUNERACIONES.pdf
A24: 2022 | B24: 44682 | C24: 44712 | D24: Personal de confianza | E24: DIRECTOR | F24: CATASTRO | G24: DIRECTORA DE CATASTRO | H24: CATASTRO | I24: SILVIA CRISTINA | J24: HERNANDEZ | K24: GARCIA | L24: Femenino | M24: 9814.1 | N24: PESO | O24: 9000 | P24: PESO | Q24: =Tabla_549551!A20 -> 17 | R24: =Tabla_549538!A20 -> 17 | S24: =Tabla_549552!A20 -> 17 | T24: =Tabla_549522!A20 -> 17 | U24: =Tabla_549542!A20 -> 17 | V24: =Tabla_549529!A20 -> 17 | W24: =Tabla_549539!A20 -> 17 | X24: =Tabla_549530!A20 -> 17 | Y24: =Tabla_549531!A20 -> 17 | Z24: =Tabla_549549!A20 -> 17 | AA24: =Tabla_549553!A20 -> 17 | AB24: =Tabla_549550!A20 -> 17 | AC24: =Tabla_549554!A20 -> 17 | AD24: TESORERÍA | AE24: 45449 | AF24: 45449 | AG24: manifestarle tenga de su conocimiento que de acuerdo a la LEY DE LOS TRABAJADORES AL SERVICIO DE LAS INSTITUCIONES PÚBLICAS DEL ESTADO DE SAN LUIS POTOSI en el Título Segundo de los trabajadores Capítulo I disposiciones generales en el ARTÍCULO 12. Son trabajadores eventuales ya que están al servicio de personal subordinado, por tiempo determinados o por cantidad presupuestada por el H. Ayuntamiento de Venado, S.L.P., y como lo indica la ley. En el CAPITULO V DE LOS SALARIOS en los artículos 38, 39, 40, 41,42 y 43 los salarios y prestaciones derivadas de la relación laboral a las que se hace acreedor el trabajador, tomando en cuenta que la presente administración se rige bajo los criterios de austeridad. http://www.cegaipslp.org.mx/HV2021Tres.nsf/nombre_de_la_vista/2BB8908599B386B28625879F005F8E00/$File/REMUNERACIONES.pdf
A25: 2022 | B25: 44682 | C25: 44712 | D25: Empleado | E25: SECRETARIA "A" | F25: CATASTRO | G25: SECRETARIA | H25: CATASTRO | I25: MARIA ELENA | J25: CARRANZA | K25: CORONADO | L25: Femenino | M25: 6102.86 | N25: PESO | O25: 6000 | P25: PESO | Q25: =Tabla_549551!A21:A21 -> 18 | R25: =Tabla_549538!A21 -> 18 | S25: =Tabla_549552!A21 -> 18 | T25: =Tabla_549522!A21 -> 18 | U25: =Tabla_549542!A21 -> 18 | V25: =Tabla_549529!A21 -> 18 | W25: =Tabla_549539!A21 -> 18 | X25: =Tabla_549530!A21 -> 18 | Y25: =Tabla_549531!A21 -> 18 | Z25: =Tabla_549549!A21 -> 18 | AA25: =Tabla_549553!A21 -> 18 | AB25: =Tabla_549550!A21 -> 18 | AC25: =Tabla_549554!A21 -> 18 | AD25: TESORERÍA | AE25: 45449 | AF25: 45449 | AG25: manifestarle tenga de su conocimiento que de acuerdo a la LEY DE LOS TRABAJADORES AL SERVICIO DE LAS INSTITUCIONES PÚBLICAS DEL ESTADO DE SAN LUIS POTOSI en el Título Segundo de los trabajadores Capítulo I disposiciones generales en el ARTÍCULO 12. Son trabajadores eventuales ya que están al servicio de personal subordinado, por tiempo determinados o por cantidad presupuestada por el H. Ayuntamiento de Venado, S.L.P., y como lo indica la ley. En el CAPITULO V DE LOS SALARIOS en los artículos 38, 39, 40, 41,42 y 43 los salarios y prestaciones derivadas de la relación laboral a las que se hace acreedor el trabajador, tomando en cuenta que la presente administración se rige bajo los criterios de austeridad. http://www.cegaipslp.org.mx/HV2021Tres.nsf/nombre_de_la_vista/2BB8908599B386B28625879F005F8E00/$File/REMUNERACIONES.pdf
A26: 2022 | B26: 44682 | C26: 44712 | D26: Empleado | E26: SECRETARIA "A" | F26: CATASTRO | G26: SECRETARIA | H26: CATASTRO | I26: LORINDA | J26: MARTINEZ | K26: GAONA | L26: Femenino | M26: 11673 | N26: PESO | O26: 10549.14 | P26: PESO | Q26: =Tabla_549551!A22 -> 19 | R26: =Tabla_549538!A22 -> 19 | S26: =Tabla_549552!A22 -> 19 | T26: =Tabla_549522!A22 -> 19 | U26: =Tabla_549542!A22 -> 19 | V26: =Tabla_549529!A22 -> 19 | W26: =Tabla_549539!A22 -> 19 | X26: =Tabla_549530!A22 -> 19 | Y26: =Tabla_549531!A22 -> 19 | Z26: =Tabla_549549!A22 -> 19 | AA26: =Tabla_549553!A22 -> 19 | AB26: =Tabla_549550!A22 -> 19 | AC26: =Tabla_549554!A22 -> 19 | AD26: TESORERÍA | AE26: 45449 | AF26: 45449 | AG26: manifestarle tenga de su conocimiento que de acuerdo a la LEY DE LOS TRABAJADORES AL SERVICIO DE LAS INSTITUCIONES PÚBLICAS DEL ESTADO DE SAN LUIS POTOSI en el Título Segundo de los trabajadores Capítulo I disposiciones generales en el ARTÍCULO 12. Son trabajadores eventuales ya que están al servicio de personal subordinado, por tiempo determinados o por cantidad presupuestada por el H. Ayuntamiento de Venado, S.L.P., y como lo indica la ley. En el CAPITULO V DE LOS SALARIOS en los artículos 38, 39, 40, 41,42 y 43 los salarios y prestaciones derivadas de la relación laboral a las que se hace acreedor el trabajador, tomando en cuenta que la presente administración se rige bajo los criterios de austeridad. http://www.cegaipslp.org.mx/HV2021Tres.nsf/nombre_de_la_vista/2BB8908599B386B28625879F005F8E00/$File/REMUNERACIONES.pdf
A27: 2022 | B27: 44682 | C27: 44712 | D27: Personal de confianza | E27: CONTRALOR MUNICIPAL | F27: CONTRALORIA INTERNA | G27: CONTRALOR MUNICIPAL | H27: CONTRALORIA INTERNA | I27: JOSE LUIS | J27: ACOSTA | K27: ZAMARRIPA | L27: Masculino | M27: 12222.3 | N27: PESO | O27: 11000 | P27: PESO | Q27: =Tabla_549551!A23:A23 -> 20 | R27: =Tabla_549538!A23 -> 20 | S27: =Tabla_549552!A23 -> 20 | T27: =Tabla_549522!A23 -> 20 | U27: =Tabla_549542!A23 -> 20 | V27: =Tabla_549529!A23 -> 20 | W27: =Tabla_549539!A23 -> 20 | X27: =Tabla_549530!A23 -> 20 | Y27: =Tabla_549531!A23 -> 20 | Z27: =Tabla_549549!A23 -> 20 | AA27: =Tabla_549553!A23 -> 20 | AB27: =Tabla_549550!A23 -> 20 | AC27: =Tabla_549554!A23 -> 20 | AD27: TESORERÍA | AE27: 45449 | AF27: 45449 | AG27: manifestarle tenga de su conocimiento que de acuerdo a la LEY DE LOS TRABAJADORES AL SERVICIO DE LAS INSTITUCIONES PÚBLICAS DEL ESTADO DE SAN LUIS POTOSI en el Título Segundo de los trabajadores Capítulo I disposiciones generales en el ARTÍCULO 12. Son trabajadores eventuales ya que están al servicio de personal subordinado, por tiempo determinados o por cantidad presupuestada por el H. Ayuntamiento de Venado, S.L.P., y como lo indica la ley. En el CAPITULO V DE LOS SALARIOS en los artículos 38, 39, 40, 41,42 y 43 los salarios y prestaciones derivadas de la relación laboral a las que se hace acreedor el trabajador, tomando en cuenta que la presente administración se rige bajo los criterios de austeridad. http://www.cegaipslp.org.mx/HV2021Tres.nsf/nombre_de_la_vista/2BB8908599B386B28625879F005F8E00/$File/REMUNERACIONES.pdf
A28: 2022 | B28: 44682 | C28: 44712 | D28: Personal de confianza | E28: ENCARGADO DE UNIDAD DE VIGILANCIA | F28: CONTRALORIA INTERNA | G28: ENCARGADO DE UNIDAD DE VIGILANCIA | H28: CONTRALORIA INTERNA | I28: HUGO EDUARDO | J28: SALAZAR | K28: GARCIA | L28: Masculino | M28: 9814.1 | N28: PESO | O28: 9000 | P28: PESO | Q28: =Tabla_549551!A24 -> 21 | R28: =Tabla_549538!A24 -> 21 | S28: =Tabla_549552!A24 -> 21 | T28: =Tabla_549522!A24 -> 21 | U28: =Tabla_549542!A24 -> 21 | V28: =Tabla_549529!A24 -> 21 | W28: =Tabla_549539!A24 -> 21 | X28: =Tabla_549530!A24 -> 21 | Y28: =Tabla_549531!A24 -> 21 | Z28: =Tabla_549549!A24 -> 21 | AA28: =Tabla_549553!A24 -> 21 | AB28: =Tabla_549550!A24 -> 21 | AC28: =Tabla_549554!A24 -> 21 | AD28: TESORERÍA | AE28: 45449 | AF28: 45449 | AG28: manifestarle tenga de su conocimiento que de acuerdo a la LEY DE LOS TRABAJADORES AL SERVICIO DE LAS INSTITUCIONES PÚBLICAS DEL ESTADO DE SAN LUIS POTOSI en el Título Segundo de los trabajadores Capítulo I disposiciones generales en el ARTÍCULO 12. Son trabajadores eventuales ya que están al servicio de personal subordinado, por tiempo determinados o por cantidad presupuestada por el H. Ayuntamiento de Venado, S.L.P., y como lo indica la ley. En el CAPITULO V DE LOS SALARIOS en los artículos 38, 39, 40, 41,42 y 43 los salarios y prestaciones derivadas de la relación laboral a las que se hace acreedor el trabajador, tomando en cuenta que la presente administración se rige bajo los criterios de austeridad. http://www.cegaipslp.org.mx/HV2021Tres.nsf/nombre_de_la_vista/2BB8908599B386B28625879F005F8E00/$File/REMUNERACIONES.pdf
A29: 2022 | B29: 44682 | C29: 44712 | D29: Empleado | E29: SECRETARIA | F29: CONTRALORIA INTERNA | G29: SECRETARIA | H29: CONTRALORIA INTERNA | I29: MARTHA LAURA | J29: ZAPATA | K29: HERNANDEZ | L29: Femenino | M29: 9917.1 | N29: PESO | O29: 9086.52 | P29: PESO | Q29: =Tabla_549551!A25:A25 -> 22 | R29: =Tabla_549538!A25 -> 22 | S29: =Tabla_549552!A25 -> 22 | T29: =Tabla_549522!A25 -> 22 | U29: =Tabla_549542!A25 -> 22 | V29: =Tabla_549529!A25 -> 22 | W29: =Tabla_549539!A25 -> 22 | X29: =Tabla_549530!A25 -> 22 | Y29: =Tabla_549531!A25 -> 22 | Z29: =Tabla_549549!A25 -> 22 | AA29: =Tabla_549553!A25 -> 22 | AB29: =Tabla_549550!A25 -> 22 | AC29: =Tabla_549554!A25 -> 22 | AD29: TESORERÍA | AE29: 45449 | AF29: 45449 | AG29: manifestarle tenga de su conocimiento que de acuerdo a la LEY DE LOS TRABAJADORES AL SERVICIO DE LAS INSTITUCIONES PÚBLICAS DEL ESTADO DE SAN LUIS POTOSI en el Título Segundo de los trabajadores Capítulo I disposiciones generales en el ARTÍCULO 12. Son trabajadores eventuales ya que están al servicio de personal subordinado, por tiempo determinados o por cantidad presupuestada por el H. Ayuntamiento de Venado, S.L.P., y como lo indica la ley. En el CAPITULO V DE LOS SALARIOS en los artículos 38, 39, 40, 41,42 y 43 los salarios y prestaciones derivadas de la relación laboral a las que se hace acreedor el trabajador, tomando en cuenta que la presente administración se rige bajo los criterios de austeridad. http://www.cegaipslp.org.mx/HV2021Tres.nsf/nombre_de_la_vista/2BB8908599B386B28625879F005F8E00/$File/REMUNERACIONES.pdf
A30: 2022 | B30: 44682 | C30: 44712 | D30: Empleado | E30: SECRETARIA | F30: CONTRALORIA INTERNA | G30: SECRETARIA | H30: CONTRALORIA INTERNA | I30: KENIA DE LOS ANGELES | J30: FLORES | K30: SALAZAR | L30: Femenino | M30: 4500 | N30: PESO | O30: 4590.06 | P30: PESO | Q30: =Tabla_549551!A26 -> 23 | R30: =Tabla_549538!A26 -> 23 | S30: =Tabla_549552!A26 -> 23 | T30: =Tabla_549522!A26 -> 23 | U30: =Tabla_549542!A26 -> 23 | V30: =Tabla_549529!A26 -> 23 | W30: =Tabla_549539!A26 -> 23 | X30: =Tabla_549530!A26 -> 23 | Y30: =Tabla_549531!A26 -> 23 | Z30: =Tabla_549549!A26 -> 23 | AA30: =Tabla_549553!A26 -> 23 | AB30: =Tabla_549550!A26 -> 23 | AC30: =Tabla_549554!A26 -> 23 | AD30: TESORERÍA | AE30: 45449 | AF30: 45449 | AG30: manifestarle tenga de su conocimiento que de acuerdo a la LEY DE LOS TRABAJADORES AL SERVICIO DE LAS INSTITUCIONES PÚBLICAS DEL ESTADO DE SAN LUIS POTOSI en el Título Segundo de los trabajadores Capítulo I disposiciones generales en el ARTÍCULO 12. Son trabajadores eventuales ya que están al servicio de personal subordinado, por tiempo determinados o por cantidad presupuestada por el H. Ayuntamiento de Venado, S.L.P., y como lo indica la ley. En el CAPITULO V DE LOS SALARIOS en los artículos 38, 39, 40, 41,42 y 43 los salarios y prestaciones derivadas de la relación laboral a las que se hace acreedor el trabajador, tomando en cuenta que la presente administración se rige bajo los criterios de austeridad. http://www.cegaipslp.org.mx/HV2021Tres.nsf/nombre_de_la_vista/2BB8908599B386B28625879F005F8E00/$File/REMUNERACIONES.pdf
A31: 2022 | B31: 44682 | C31: 44712 | D31: Empleado | E31: SECRETARIO | F31: CONTRALORIA INTERNA | G31: SECRETARIO | H31: CONTRALORIA INTERNA | I31: VALENTIN ANTONIO | J31: GALVAN | K31: ORTA | L31: Masculino | M31: 4500 | N31: PESO | O31: 4590.06 | P31: PESO | Q31: =Tabla_549551!A27:A27 -> 24 | R31: =Tabla_549538!A27 -> 24 | S31: =Tabla_549552!A27 -> 24 | T31: =Tabla_549522!A27 -> 24 | U31: =Tabla_549542!A27 -> 24 | V31: =Tabla_549529!A27 -> 24 | W31: =Tabla_549539!A27 -> 24 | X31: =Tabla_549530!A27 -> 24 | Y31: =Tabla_549531!A27 -> 24 | Z31: =Tabla_549549!A27 -> 24 | AA31: =Tabla_549553!A27 -> 24 | AB31: =Tabla_549550!A27 -> 24 | AC31: =Tabla_549554!A27 -> 24 | AD31: TESORERÍA | AE31: 45449 | AF31: 45449 | AG31: manifestarle tenga de su conocimiento que de acuerdo a la LEY DE LOS TRABAJADORES AL SERVICIO DE LAS INSTITUCIONES PÚBLICAS DEL ESTADO DE SAN LUIS POTOSI en el Título Segundo de los trabajadores Capítulo I disposiciones generales en el ARTÍCULO 12. Son trabajadores eventuales ya que están al servicio de personal subordinado, por tiempo determinados o por cantidad presupuestada por el H. Ayuntamiento de Venado, S.L.P., y como lo indica la ley. En el CAPITULO V DE LOS SALARIOS en los artículos 38, 39, 40, 41,42 y 43 los salarios y prestaciones derivadas de la relación laboral a las que se hace acreedor el trabajador, tomando en cuenta que la presente administración se rige bajo los criterios de austeridad. http://www.cegaipslp.org.mx/HV2021Tres.nsf/nombre_de_la_vista/2BB8908599B386B28625879F005F8E00/$File/REMUNERACIONES.pdf
A32: 2022 | B32: 44682 | C32: 44712 | D32: Personal de confianza | E32: DIRECTOR DE CULTURA | F32: CULTURA | G32: DIRECTOR DE EDUCACION, CULTURA Y ACTOS SOLEMNES | H32: CULTURA | I32: FRANCISCO JAVIER | J32: GALLEGOS | K32: MOLINA | L32: Masculino | M32: 17265.76 | N32: PESO | O32: 15000 | P32: PESO | Q32: =Tabla_549551!A28 -> 25 | R32: =Tabla_549538!A28 -> 25 | S32: =Tabla_549552!A28 -> 25 | T32: =Tabla_549522!A28 -> 25 | U32: =Tabla_549542!A28 -> 25 | V32: =Tabla_549529!A28 -> 25 | W32: =Tabla_549539!A28 -> 25 | X32: =Tabla_549530!A28 -> 25 | Y32: =Tabla_549531!A28 -> 25 | Z32: =Tabla_549549!A28 -> 25 | AA32: =Tabla_549553!A28 -> 25 | AB32: =Tabla_549550!A28 -> 25 | AC32: =Tabla_549554!A28 -> 25 | AD32: TESORERÍA | AE32: 45449 | AF32: 45449 | AG32: manifestarle tenga de su conocimiento que de acuerdo a la LEY DE LOS TRABAJADORES AL SERVICIO DE LAS INSTITUCIONES PÚBLICAS DEL ESTADO DE SAN LUIS POTOSI en el Título Segundo de los trabajadores Capítulo I disposiciones generales en el ARTÍCULO 12. Son trabajadores eventuales ya que están al servicio de personal subordinado, por tiempo determinados o por cantidad presupuestada por el H. Ayuntamiento de Venado, S.L.P., y como lo indica la ley. En el CAPITULO V DE LOS SALARIOS en los artículos 38, 39, 40, 41,42 y 43 los salarios y prestaciones derivadas de la relación laboral a las que se hace acreedor el trabajador, tomando en cuenta que la presente administración se rige bajo los criterios de austeridad. http://www.cegaipslp.org.mx/HV2021Tres.nsf/nombre_de_la_vista/2BB8908599B386B28625879F005F8E00/$File/REMUNERACIONES.pdf
A33: 2022 | B33: 44682 | C33: 44712 | D33: Empleado | E33: ASESOR MUNICIPAL DE DEPORTES | F33: CULTURA | G33: ASESOR MUNICIPAL DE DEPORTES | H33: CULTURA | I33: JOSE LUIS | J33: MARTINEZ | K33: SERRATO | L33: Masculino | M33: 5177.7 | N33: PESO | O33: 5195.42 | P33: PESO | Q33: =Tabla_549551!A29:A29 -> 26 | R33: =Tabla_549538!A29 -> 26 | S33: =Tabla_549552!A29 -> 26 | T33: =Tabla_549522!A29 -> 26 | U33: =Tabla_549542!A29 -> 26 | V33: =Tabla_549529!A29 -> 26 | W33: =Tabla_549539!A29 -> 26 | X33: =Tabla_549530!A29 -> 26 | Y33: =Tabla_549531!A29 -> 26 | Z33: =Tabla_549549!A29 -> 26 | AA33: =Tabla_549553!A29 -> 26 | AB33: =Tabla_549550!A29 -> 26 | AC33: =Tabla_549554!A29 -> 26 | AD33: TESORERÍA | AE33: 45449 | AF33: 45449 | AG33: manifestarle tenga de su conocimiento que de acuerdo a la LEY DE LOS TRABAJADORES AL SERVICIO DE LAS INSTITUCIONES PÚBLICAS DEL ESTADO DE SAN LUIS POTOSI en el Título Segundo de los trabajadores Capítulo I disposiciones generales en el ARTÍCULO 12. Son trabajadores eventuales ya que están al servicio de personal subordinado, por tiempo determinados o por cantidad presupuestada por el H. Ayuntamiento de Venado, S.L.P., y como lo indica la ley. En el CAPITULO V DE LOS SALARIOS en los artículos 38, 39, 40, 41,42 y 43 los salarios y prestaciones derivadas de la relación laboral a las que se hace acreedor el trabajador, tomando en cuenta que la presente administración se rige bajo los criterios de austeridad. http://www.cegaipslp.org.mx/HV2021Tres.nsf/nombre_de_la_vista/2BB8908599B386B28625879F005F8E00/$File/REMUNERACIONES.pdf
A34: 2022 | B34: 44682 | C34: 44712 | D34: Empleado | E34: COORDINADOR | F34: DESARROLLO RURAL | G34: COORDINADOR | H34: DESARROLLO RURAL | I34: MIGUEL | J34: BUENROSTRO | K34: ALVAREZ | L34: Masculino | M34: 11004.56 | N34: PESO | O34: 10000 | P34: PESO | Q34: =Tabla_549551!A30 -> 27 | R34: =Tabla_549538!A30 -> 27 | S34: =Tabla_549552!A30 -> 27 | T34: =Tabla_549522!A30 -> 27 | U34: =Tabla_549542!A30 -> 27 | V34: =Tabla_549529!A30 -> 27 | W34: =Tabla_549539!A30 -> 27 | X34: =Tabla_549530!A30 -> 27 | Y34: =Tabla_549531!A30 -> 27 | Z34: =Tabla_549549!A30 -> 27 | AA34: =Tabla_549553!A30 -> 27 | AB34: =Tabla_549550!A30 -> 27 | AC34: =Tabla_549554!A30 -> 27 | AD34: TESORERÍA | AE34: 45449 | AF34: 45449 | AG34: manifestarle tenga de su conocimiento que de acuerdo a la LEY DE LOS TRABAJADORES AL SERVICIO DE LAS INSTITUCIONES PÚBLICAS DEL ESTADO DE SAN LUIS POTOSI en el Título Segundo de los trabajadores Capítulo I disposiciones generales en el ARTÍCULO 12. Son trabajadores eventuales ya que están al servicio de personal subordinado, por tiempo determinados o por cantidad presupuestada por el H. Ayuntamiento de Venado, S.L.P., y como lo indica la ley. En el CAPITULO V DE LOS SALARIOS en los artículos 38, 39, 40, 41,42 y 43 los salarios y prestaciones derivadas de la relación laboral a las que se hace acreedor el trabajador, tomando en cuenta que la presente administración se rige bajo los criterios de austeridad. http://www.cegaipslp.org.mx/HV2021Tres.nsf/nombre_de_la_vista/2BB8908599B386B28625879F005F8E00/$File/REMUNERACIONES.pdf
A35: 2022 | B35: 44682 | C35: 44712 | D35: Empleado | E35: SECRETARIA "B" | F35: DESARROLLO RURAL | G35: SECRETARIA | H35: DESARROLLO RURAL | I35: MIRIAM | J35: ROJAS | K35: MORENO | L35: Masculino | M35: 10482.6 | N35: PESO | O35: 9561.54 | P35: PESO | Q35: =Tabla_549551!A31:A31 -> 28 | R35: =Tabla_549538!A31 -> 28 | S35: =Tabla_549552!A31 -> 28 | T35: =Tabla_549522!A31 -> 28 | U35: =Tabla_549542!A31 -> 28 | V35: =Tabla_549529!A31 -> 28 | W35: =Tabla_549539!A31 -> 28 | X35: =Tabla_549530!A31 -> 28 | Y35: =Tabla_549531!A31 -> 28 | Z35: =Tabla_549549!A31 -> 28 | AA35: =Tabla_549553!A31 -> 28 | AB35: =Tabla_549550!A31 -> 28 | AC35: =Tabla_549554!A31 -> 28 | AD35: TESORERÍA | AE35: 45449 | AF35: 45449 | AG35: manifestarle tenga de su conocimiento que de acuerdo a la LEY DE LOS TRABAJADORES AL SERVICIO DE LAS INSTITUCIONES PÚBLICAS DEL ESTADO DE SAN LUIS POTOSI en el Título Segundo de los trabajadores Capítulo I disposiciones generales en el ARTÍCULO 12. Son trabajadores eventuales ya que están al servicio de personal subordinado, por tiempo determinados o por cantidad presupuestada por el H. Ayuntamiento de Venado, S.L.P., y como lo indica la ley. En el CAPITULO V DE LOS SALARIOS en los artículos 38, 39, 40, 41,42 y 43 los salarios y prestaciones derivadas de la relación laboral a las que se hace acreedor el trabajador, tomando en cuenta que la presente administración se rige bajo los criterios de austeridad. http://www.cegaipslp.org.mx/HV2021Tres.nsf/nombre_de_la_vista/2BB8908599B386B28625879F005F8E00/$File/REMUNERACIONES.pdf
A36: 2022 | B36: 44682 | C36: 44712 | D36: Funcionario | E36: DIRECTOR DE DESARROLLO SOCIAL | F36: DESARROLLO SOCIAL | G36: DIRECTOR | H36: DESARROLLO SOCIAL | I36: IGNACIO | J36: MARTINEZ | K36: CARLOS | L36: Masculino | M36: 21080.62 | N36: PESO | O36: 18000 | P36: PESO | Q36: =Tabla_549551!A32 -> 29 | R36: =Tabla_549538!A32 -> 29 | S36: =Tabla_549552!A32 -> 29 | T36: =Tabla_549522!A32 -> 29 | U36: =Tabla_549542!A32 -> 29 | V36: =Tabla_549529!A32 -> 29 | W36: =Tabla_549539!A32 -> 29 | X36: =Tabla_549530!A32 -> 29 | Y36: =Tabla_549531!A32 -> 29 | Z36: =Tabla_549549!A32 -> 29 | AA36: =Tabla_549553!A32 -> 29 | AB36: =Tabla_549550!A32 -> 29 | AC36: =Tabla_549554!A32 -> 29 | AD36: TESORERÍA | AE36: 45449 | AF36: 45449 | AG36: manifestarle tenga de su conocimiento que de acuerdo a la LEY DE LOS TRABAJADORES AL SERVICIO DE LAS INSTITUCIONES PÚBLICAS DEL ESTADO DE SAN LUIS POTOSI en el Título Segundo de los trabajadores Capítulo I disposiciones generales en el ARTÍCULO 12. Son trabajadores eventuales ya que están al servicio de personal subordinado, por tiempo determinados o por cantidad presupuestada por el H. Ayuntamiento de Venado, S.L.P., y como lo indica la ley. En el CAPITULO V DE LOS SALARIOS en los artículos 38, 39, 40, 41,42 y 43 los salarios y prestaciones derivadas de la relación laboral a las que se hace acreedor el trabajador, tomando en cuenta que la presente administración se rige bajo los criterios de austeridad. http://www.cegaipslp.org.mx/HV2021Tres.nsf/nombre_de_la_vista/2BB8908599B386B28625879F005F8E00/$File/REMUNERACIONES.pdf
A37: 2022 | B37: 44682 | C37: 44712 | D37: Empleado | E37: SECRETARIA "C" | F37: DESARROLLO SOCIAL | G37: ENLACE PROSPERA | H37: DESARROLLO SOCIAL | I37: ERICKA ISABEL | J37: ZAVALA | K37: SAUCEDO | L37: Femenino | M37: 9304.2 | N37: PESO | O37: 8562.28 | P37: PESO | Q37: =Tabla_549551!A33:A33 -> 30 | R37: =Tabla_549538!A33 -> 30 | S37: =Tabla_549552!A33 -> 30 | T37: =Tabla_549522!A33 -> 30 | U37: =Tabla_549542!A33 -> 30 | V37: =Tabla_549529!A33 -> 30 | W37: =Tabla_549539!A33 -> 30 | X37: =Tabla_549530!A33 -> 30 | Y37: =Tabla_549531!A33 -> 30 | Z37: =Tabla_549549!A33 -> 30 | AA37: =Tabla_549553!A33 -> 30 | AB37: =Tabla_549550!A33 -> 30 | AC37: =Tabla_549554!A33 -> 30 | AD37: TESORERÍA | AE37: 45449 | AF37: 45449 | AG37: manifestarle tenga de su conocimiento que de acuerdo a la LEY DE LOS TRABAJADORES AL SERVICIO DE LAS INSTITUCIONES PÚBLICAS DEL ESTADO DE SAN LUIS POTOSI en el Título Segundo de los trabajadores Capítulo I disposiciones generales en el ARTÍCULO 12. Son trabajadores eventuales ya que están al servicio de personal subordinado, por tiempo determinados o por cantidad presupuestada por el H. Ayuntamiento de Venado, S.L.P., y como lo indica la ley. En el CAPITULO V DE LOS SALARIOS en los artículos 38, 39, 40, 41,42 y 43 los salarios y prestaciones derivadas de la relación laboral a las que se hace acreedor el trabajador, tomando en cuenta que la presente administración se rige bajo los criterios de austeridad. http://www.cegaipslp.org.mx/HV2021Tres.nsf/nombre_de_la_vista/2BB8908599B386B28625879F005F8E00/$File/REMUNERACIONES.pdf
A38: 2022 | B38: 44682 | C38: 44712 | D38: Empleado | E38: AUXILIAR CONTABLE DE DESARROLLO SOCIAL | F38: DESARROLLO SOCIAL | G38: AUXILIAR CONTABLE | H38: DESARROLLO SOCIAL | I38: MARIA DEL CARMEN | J38: VALDEZ | K38: RANGEL | L38: Femenino | M38: 13448.1 | N38: PESO | O38: 11997.78 | P38: PESO | Q38: =Tabla_549551!A34 -> 31 | R38: =Tabla_549538!A34 -> 31 | S38: =Tabla_549552!A34 -> 31 | T38: =Tabla_549522!A34 -> 31 | U38: =Tabla_549542!A34 -> 31 | V38: =Tabla_549529!A34 -> 31 | W38: =Tabla_549539!A34 -> 31 | X38: =Tabla_549530!A34 -> 31 | Y38: =Tabla_549531!A34 -> 31 | Z38: =Tabla_549549!A34 -> 31 | AA38: =Tabla_549553!A34 -> 31 | AB38: =Tabla_549550!A34 -> 31 | AC38: =Tabla_549554!A34 -> 31 | AD38: TESORERÍA | AE38: 45449 | AF38: 45449 | AG38: manifestarle tenga de su conocimiento que de acuerdo a la LEY DE LOS TRABAJADORES AL SERVICIO DE LAS INSTITUCIONES PÚBLICAS DEL ESTADO DE SAN LUIS POTOSI en el Título Segundo de los trabajadores Capítulo I disposiciones generales en el ARTÍCULO 12. Son trabajadores eventuales ya que están al servicio de personal subordinado, por tiempo determinados o por cantidad presupuestada por el H. Ayuntamiento de Venado, S.L.P., y como lo indica la ley. En el CAPITULO V DE LOS SALARIOS en los artículos 38, 39, 40, 41,42 y 43 los salarios y prestaciones derivadas de la relación laboral a las que se hace acreedor el trabajador, tomando en cuenta que la presente administración se rige bajo los criterios de austeridad. http://www.cegaipslp.org.mx/HV2021Tres.nsf/nombre_de_la_vista/2BB8908599B386B28625879F005F8E00/$File/REMUNERACIONES.pdf
A39: 2022 | B39: 44682 | C39: 44712 | D39: Empleado | E39: ENCARGADO DE AREA | F39: OBRAS PUBLICAS | G39: AUXILIAR | H39: OBRAS PUBLICAS | I39: JOSE JUAN | J39: GONZALEZ | K39: ALCANTAR | L39: Masculino | M39: 7617.88 | N39: PESO | O39: 7059.42 | P39: PESO | Q39: =Tabla_549551!A35:A35 -> 32 | R39: =Tabla_549538!A35 -> 32 | S39: =Tabla_549552!A35 -> 32 | T39: =Tabla_549522!A35 -> 32 | U39: =Tabla_549542!A35 -> 32 | V39: =Tabla_549529!A35 -> 32 | W39: =Tabla_549539!A35 -> 32 | X39: =Tabla_549530!A35 -> 32 | Y39: =Tabla_549531!A35 -> 32 | Z39: =Tabla_549549!A35 -> 32 | AA39: =Tabla_549553!A35 -> 32 | AB39: =Tabla_549550!A35 -> 32 | AC39: =Tabla_549554!A35 -> 32 | AD39: TESORERÍA | AE39: 45449 | AF39: 45449 | AG39: manifestarle tenga de su conocimiento que de acuerdo a la LEY DE LOS TRABAJADORES AL SERVICIO DE LAS INSTITUCIONES PÚBLICAS DEL ESTADO DE SAN LUIS POTOSI en el Título Segundo de los trabajadores Capítulo I disposiciones generales en el ARTÍCULO 12. Son trabajadores eventuales ya que están al servicio de personal subordinado, por tiempo determinados o por cantidad presupuestada por el H. Ayuntamiento de Venado, S.L.P., y como lo indica la ley. En el CAPITULO V DE LOS SALARIOS en los artículos 38, 39, 40, 41,42 y 43 los salarios y prestaciones derivadas de la relación laboral a las que se hace acreedor el trabajador, tomando en cuenta que la presente administración se rige bajo los criterios de austeridad. http://www.cegaipslp.org.mx/HV2021Tres.nsf/nombre_de_la_vista/2BB8908599B386B28625879F005F8E00/$File/REMUNERACIONES.pdf
A40: 2022 | B40: 44682 | C40: 44712 | D40: Empleado | E40: ENCARGADO DE AREA | F40: OBRAS PUBLICAS | G40: AUXILIAR | H40: OBRAS PUBLICAS | I40: DAVID ARCADIO | J40: ARRIAGA | K40: CERDA | L40: Masculino | M40: 8673.28 | N40: PESO | O40: 8000 | P40: PESO | Q40: =Tabla_549551!A36 -> 33 | R40: =Tabla_549538!A36 -> 33 | S40: =Tabla_549552!A36 -> 33 | T40: =Tabla_549522!A36 -> 33 | U40: =Tabla_549542!A36 -> 33 | V40: =Tabla_549529!A36 -> 33 | W40: =Tabla_549539!A36 -> 33 | X40: =Tabla_549530!A36 -> 33 | Y40: =Tabla_549531!A36 -> 33 | Z40: =Tabla_549549!A36 -> 33 | AA40: =Tabla_549553!A36 -> 33 | AB40: =Tabla_549550!A36 -> 33 | AC40: =Tabla_549554!A36 -> 33 | AD40: TESORERÍA | AE40: 45449 | AF40: 45449 | AG40: manifestarle tenga de su conocimiento que de acuerdo a la LEY DE LOS TRABAJADORES AL SERVICIO DE LAS INSTITUCIONES PÚBLICAS DEL ESTADO DE SAN LUIS POTOSI en el Título Segundo de los trabajadores Capítulo I disposiciones generales en el ARTÍCULO 12. Son trabajadores eventuales ya que están al servicio de personal subordinado, por tiempo determinados o por cantidad presupuestada por el H. Ayuntamiento de Venado, S.L.P., y como lo indica la ley. En el CAPITULO V DE LOS SALARIOS en los artículos 38, 39, 40, 41,42 y 43 los salarios y prestaciones derivadas de la relación laboral a las que se hace acreedor el trabajador, tomando en cuenta que la presente administración se rige bajo los criterios de austeridad. http://www.cegaipslp.org.mx/HV2021Tres.nsf/nombre_de_la_vista/2BB8908599B386B28625879F005F8E00/$File/REMUNERACIONES.pdf
A41: 2022 | B41: 44682 | C41: 44712 | D41: Empleado | E41: SECRETARIA "B" | F41: OBRAS PUBLICAS | G41: SECRETARIA | H41: OBRAS PUBLICAS | I41: JUAN | J41: AYALA | K41: TORRES | L41: Masculino | M41: 8538.3 | N41: PESO | O41: 7879.7 | P41: PESO | Q41: =Tabla_549551!A37:A37 -> 34 | R41: =Tabla_549538!A37 -> 34 | S41: =Tabla_549552!A37 -> 34 | T41: =Tabla_549522!A37 -> 34 | U41: =Tabla_549542!A37 -> 34 | V41: =Tabla_549529!A37 -> 34 | W41: =Tabla_549539!A37 -> 34 | X41: =Tabla_549530!A37 -> 34 | Y41: =Tabla_549531!A37 -> 34 | Z41: =Tabla_549549!A37 -> 34 | AA41: =Tabla_549553!A37 -> 34 | AB41: =Tabla_549550!A37 -> 34 | AC41: =Tabla_549554!A37 -> 34 | AD41: TESORERÍA | AE41: 45449 | AF41: 45449 | AG41: manifestarle tenga de su conocimiento que de acuerdo a la LEY DE LOS TRABAJADORES AL SERVICIO DE LAS INSTITUCIONES PÚBLICAS DEL ESTADO DE SAN LUIS POTOSI en el Título Segundo de los trabajadores Capítulo I disposiciones generales en el ARTÍCULO 12. Son trabajadores eventuales ya que están al servicio de personal subordinado, por tiempo determinados o por cantidad presupuestada por el H. Ayuntamiento de Venado, S.L.P., y como lo indica la ley. En el CAPITULO V DE LOS SALARIOS en los artículos 38, 39, 40, 41,42 y 43 los salarios y prestaciones derivadas de la relación laboral a las que se hace acreedor el trabajador, tomando en cuenta que la presente administración se rige bajo los criterios de austeridad. http://www.cegaipslp.org.mx/HV2021Tres.nsf/nombre_de_la_vista/2BB8908599B386B28625879F005F8E00/$File/REMUNERACIONES.pdf
A42: 2022 | B42: 44682 | C42: 44712 | D42: Empleado | E42: SECRETARIA "B" | F42: OBRAS PUBLICAS | G42: SECRETARIA | H42: OBRAS PUBLICAS | I42: MARTINA IRENE | J42: VANEGAS | K42: MEJIA | L42: Femenino | M42: 10655.72 | N42: PESO | O42: 9706.96 | P42: PESO | Q42: =Tabla_549551!A38 -> 35 | R42: =Tabla_549538!A38 -> 35 | S42: =Tabla_549552!A38 -> 35 | T42: =Tabla_549522!A38 -> 35 | U42: =Tabla_549542!A38 -> 35 | V42: =Tabla_549529!A38 -> 35 | W42: =Tabla_549539!A38 -> 35 | X42: =Tabla_549530!A38 -> 35 | Y42: =Tabla_549531!A38 -> 35 | Z42: =Tabla_549549!A38 -> 35 | AA42: =Tabla_549553!A38 -> 35 | AB42: =Tabla_549550!A38 -> 35 | AC42: =Tabla_549554!A38 -> 35 | AD42: TESORERÍA | AE42: 45449 | AF42: 45449 | AG42: manifestarle tenga de su conocimiento que de acuerdo a la LEY DE LOS TRABAJADORES AL SERVICIO DE LAS INSTITUCIONES PÚBLICAS DEL ESTADO DE SAN LUIS POTOSI en el Título Segundo de los trabajadores Capítulo I disposiciones generales en el ARTÍCULO 12. Son trabajadores eventuales ya que están al servicio de personal subordinado, por tiempo determinados o por cantidad presupuestada por el H. Ayuntamiento de Venado, S.L.P., y como lo indica la ley. En el CAPITULO V DE LOS SALARIOS en los artículos 38, 39, 40, 41,42 y 43 los salarios y prestaciones derivadas de la relación laboral a las que se hace acreedor el trabajador, tomando en cuenta que la presente administración se rige bajo los criterios de austeridad. http://www.cegaipslp.org.mx/HV2021Tres.nsf/nombre_de_la_vista/2BB8908599B386B28625879F005F8E00/$File/REMUNERACIONES.pdf
A43: 2022 | B43: 44682 | C43: 44712 | D43: Empleado | E43: AYUDANTE OBRAS PUBLICAS "B" | F43: OBRAS PUBLICAS | G43: BRIGADA DE OBRAS PUBLICAS | H43: OBRAS PUBLICAS | I43: CIPRIANO | J43: VELAZCO | K43: NO GENERADO | L43: Masculino | M43: 5292.3 | N43: PESO | O43: 5272.84 | P43: PESO | Q43: =Tabla_549551!A39:A39 -> 36 | R43: =Tabla_549538!A39 -> 36 | S43: =Tabla_549552!A39 -> 36 | T43: =Tabla_549522!A39 -> 36 | U43: =Tabla_549542!A39 -> 36 | V43: =Tabla_549529!A39 -> 36 | W43: =Tabla_549539!A39 -> 36 | X43: =Tabla_549530!A39 -> 36 | Y43: =Tabla_549531!A39 -> 36 | Z43: =Tabla_549549!A39 -> 36 | AA43: =Tabla_549553!A39 -> 36 | AB43: =Tabla_549550!A39 -> 36 | AC43: =Tabla_549554!A39 -> 36 | AD43: TESORERÍA | AE43: 45449 | AF43: 45449 | AG43: manifestarle tenga de su conocimiento que de acuerdo a la LEY DE LOS TRABAJADORES AL SERVICIO DE LAS INSTITUCIONES PÚBLICAS DEL ESTADO DE SAN LUIS POTOSI en el Título Segundo de los trabajadores Capítulo I disposiciones generales en el ARTÍCULO 12. Son trabajadores eventuales ya que están al servicio de personal subordinado, por tiempo determinados o por cantidad presupuestada por el H. Ayuntamiento de Venado, S.L.P., y como lo indica la ley. En el CAPITULO V DE LOS SALARIOS en los artículos 38, 39, 40, 41,42 y 43 los salarios y prestaciones derivadas de la relación laboral a las que se hace acreedor el trabajador, tomando en cuenta que la presente administración se rige bajo los criterios de austeridad. http://www.cegaipslp.org.mx/HV2021Tres.nsf/nombre_de_la_vista/2BB8908599B386B28625879F005F8E00/$File/REMUNERACIONES.pdf
A44: 2022 | B44: 44682 | C44: 44712 | D44: Empleado | E44: AYUDANTE OBRAS PUBLICAS "A" | F44: OBRAS PUBLICAS | G44: BRIGADA DE OBRAS PUBLICAS | H44: OBRAS PUBLICAS | I44: GABRIEL | J44: VARGAS | K44: VARGAS | L44: Masculino | M44: 6812.7 | N44: PESO | O44: 6592.06 | P44: PESO | Q44: =Tabla_549551!A40 -> 37 | R44: =Tabla_549538!A40 -> 37 | S44: =Tabla_549552!A40 -> 37 | T44: =Tabla_549522!A40 -> 37 | U44: =Tabla_549542!A40 -> 37 | V44: =Tabla_549529!A40 -> 37 | W44: =Tabla_549539!A40 -> 37 | X44: =Tabla_549530!A40 -> 37 | Y44: =Tabla_549531!A40 -> 37 | Z44: =Tabla_549549!A40 -> 37 | AA44: =Tabla_549553!A40 -> 37 | AB44: =Tabla_549550!A40 -> 37 | AC44: =Tabla_549554!A40 -> 37 | AD44: TESORERÍA | AE44: 45449 | AF44: 45449 | AG44: manifestarle tenga de su conocimiento que de acuerdo a la LEY DE LOS TRABAJADORES AL SERVICIO DE LAS INSTITUCIONES PÚBLICAS DEL ESTADO DE SAN LUIS POTOSI en el Título Segundo de los trabajadores Capítulo I disposiciones generales en el ARTÍCULO 12. Son trabajadores eventuales ya que están al servicio de personal subordinado, por tiempo determinados o por cantidad presupuestada por el H. Ayuntamiento de Venado, S.L.P., y como lo indica la ley. En el CAPITULO V DE LOS SALARIOS en los artículos 38, 39, 40, 41,42 y 43 los salarios y prestaciones derivadas de la relación laboral a las que se hace acreedor el trabajador, tomando en cuenta que la presente administración se rige bajo los criterios de austeridad. http://www.cegaipslp.org.mx/HV2021Tres.nsf/nombre_de_la_vista/2BB8908599B386B28625879F005F8E00/$File/REMUNERACIONES.pdf
A45: 2022 | B45: 44682 | C45: 44712 | D45: Empleado | E45: AYUDANTE OBRAS PUBLICAS "A" | F45: OBRAS PUBLICAS | G45: BRIGADA DE OBRAS PUBLICAS | H45: OBRAS PUBLICAS | I45: JESUS | J45: RIVERA | K45: PALACIOS | L45: Masculino | M45: 6165 | N45: PESO | O45: 6014.82 | P45: PESO | Q45: =Tabla_549551!A41:A41 -> 38 | R45: =Tabla_549538!A41 -> 38 | S45: =Tabla_549552!A41 -> 38 | T45: =Tabla_549522!A41 -> 38 | U45: =Tabla_549542!A41 -> 38 | V45: =Tabla_549529!A41 -> 38 | W45: =Tabla_549539!A41 -> 38 | X45: =Tabla_549530!A41 -> 38 | Y45: =Tabla_549531!A41 -> 38 | Z45: =Tabla_549549!A41 -> 38 | AA45: =Tabla_549553!A41 -> 38 | AB45: =Tabla_549550!A41 -> 38 | AC45: =Tabla_549554!A41 -> 38 | AD45: TESORERÍA | AE45: 45449 | AF45: 45449 | AG45: manifestarle tenga de su conocimiento que de acuerdo a la LEY DE LOS TRABAJADORES AL SERVICIO DE LAS INSTITUCIONES PÚBLICAS DEL ESTADO DE SAN LUIS POTOSI en el Título Segundo de los trabajadores Capítulo I disposiciones generales en el ARTÍCULO 12. Son trabajadores eventuales ya que están al servicio de personal subordinado, por tiempo determinados o por cantidad presupuestada por el H. Ayuntamiento de Venado, S.L.P., y como lo indica la ley. En el CAPITULO V DE LOS SALARIOS en los artículos 38, 39, 40, 41,42 y 43 los salarios y prestaciones derivadas de la relación laboral a las que se hace acreedor el trabajador, tomando en cuenta que la presente administración se rige bajo los criterios de austeridad. http://www.cegaipslp.org.mx/HV2021Tres.nsf/nombre_de_la_vista/2BB8908599B386B28625879F005F8E00/$File/REMUNERACIONES.pdf
A46: 2022 | B46: 44682 | C46: 44712 | D46: Empleado | E46: ALBAÑIL DE OBRAS PUBLICAS | F46: OBRAS PUBLICAS | G46: ALBAÑIL | H46: OBRAS PUBLICAS | I46: ATANACIO | J46: RANGEL | K46: FLORES | L46: Masculino | M46: 7963.2 | N46: PESO | O46: 7365.12 | P46: PESO | Q46: =Tabla_549551!A42 -> 39 | R46: =Tabla_549538!A42 -> 39 | S46: =Tabla_549552!A42 -> 39 | T46: =Tabla_549522!A42 -> 39 | U46: =Tabla_549542!A42 -> 39 | V46: =Tabla_549529!A42 -> 39 | W46: =Tabla_549539!A42 -> 39 | X46: =Tabla_549530!A42 -> 39 | Y46: =Tabla_549531!A42 -> 39 | Z46: =Tabla_549549!A42 -> 39 | AA46: =Tabla_549553!A42 -> 39 | AB46: =Tabla_549550!A42 -> 39 | AC46: =Tabla_549554!A42 -> 39 | AD46: TESORERÍA | AE46: 45449 | AF46: 45449 | AG46: manifestarle tenga de su conocimiento que de acuerdo a la LEY DE LOS TRABAJADORES AL SERVICIO DE LAS INSTITUCIONES PÚBLICAS DEL ESTADO DE SAN LUIS POTOSI en el Título Segundo de los trabajadores Capítulo I disposiciones generales en el ARTÍCULO 12. Son trabajadores eventuales ya que están al servicio de personal subordinado, por tiempo determinados o por cantidad presupuestada por el H. Ayuntamiento de Venado, S.L.P., y como lo indica la ley. En el CAPITULO V DE LOS SALARIOS en los artículos 38, 39, 40, 41,42 y 43 los salarios y prestaciones derivadas de la relación laboral a las que se hace acreedor el trabajador, tomando en cuenta que la presente administración se rige bajo los criterios de austeridad. http://www.cegaipslp.org.mx/HV2021Tres.nsf/nombre_de_la_vista/2BB8908599B386B28625879F005F8E00/$File/REMUNERACIONES.pdf
A47: 2022 | B47: 44682 | C47: 44712 | D47: Empleado | E47: ALBAÑIL DE OBRAS PUBLICAS "B" | F47: OBRAS PUBLICAS | G47: ALBAÑIL | H47: OBRAS PUBLICAS | I47: JUAN | J47: FLORES | K47: VELAZQUEZ | L47: Masculino | M47: 7502 | N47: PESO | O47: 6957.32 | P47: PESO | Q47: =Tabla_549551!A43:A43 -> 40 | R47: =Tabla_549538!A43 -> 40 | S47: =Tabla_549552!A43 -> 40 | T47: =Tabla_549522!A43 -> 40 | U47: =Tabla_549542!A43 -> 40 | V47: =Tabla_549529!A43 -> 40 | W47: =Tabla_549539!A43 -> 40 | X47: =Tabla_549530!A43 -> 40 | Y47: =Tabla_549531!A43 -> 40 | Z47: =Tabla_549549!A43 -> 40 | AA47: =Tabla_549553!A43 -> 40 | AB47: =Tabla_549550!A43 -> 40 | AC47: =Tabla_549554!A43 -> 40 | AD47: TESORERÍA | AE47: 45449 | AF47: 45449 | AG47: manifestarle tenga de su conocimiento que de acuerdo a la LEY DE LOS TRABAJADORES AL SERVICIO DE LAS INSTITUCIONES PÚBLICAS DEL ESTADO DE SAN LUIS POTOSI en el Título Segundo de los trabajadores Capítulo I disposiciones generales en el ARTÍCULO 12. Son trabajadores eventuales ya que están al servicio de personal subordinado, por tiempo determinados o por cantidad presupuestada por el H. Ayuntamiento de Venado, S.L.P., y como lo indica la ley. En el CAPITULO V DE LOS SALARIOS en los artículos 38, 39, 40, 41,42 y 43 los salarios y prestaciones derivadas de la relación laboral a las que se hace acreedor el trabajador, tomando en cuenta que la presente administración se rige bajo los criterios de austeridad. http://www.cegaipslp.org.mx/HV2021Tres.nsf/nombre_de_la_vista/2BB8908599B386B28625879F005F8E00/$File/REMUNERACIONES.pdf
A48: 2022 | B48: 44682 | C48: 44712 | D48: Empleado | E48: ALBAÑIL DE OBRAS PUBLICAS "B" | F48: OBRAS PUBLICAS | G48: ALBAÑIL | H48: OBRAS PUBLICAS | I48: JUAN PABLO | J48: RANGEL | K48: MEJIA | L48: Masculino | M48: 7503.3 | N48: PESO | O48: 6957.32 | P48: PESO | Q48: =Tabla_549551!A44 -> 41 | R48: =Tabla_549538!A44 -> 41 | S48: =Tabla_549552!A44 -> 41 | T48: =Tabla_549522!A44 -> 41 | U48: =Tabla_549542!A44 -> 41 | V48: =Tabla_549529!A44 -> 41 | W48: =Tabla_549539!A44 -> 41 | X48: =Tabla_549530!A44 -> 41 | Y48: =Tabla_549531!A44 -> 41 | Z48: =Tabla_549549!A44 -> 41 | AA48: =Tabla_549553!A44 -> 41 | AB48: =Tabla_549550!A44 -> 41 | AC48: =Tabla_549554!A44 -> 41 | AD48: TESORERÍA | AE48: 45449 | AF48: 45449 | AG48: manifestarle tenga de su conocimiento que de acuerdo a la LEY DE LOS TRABAJADORES AL SERVICIO DE LAS INSTITUCIONES PÚBLICAS DEL ESTADO DE SAN LUIS POTOSI en el Título Segundo de los trabajadores Capítulo I disposiciones generales en el ARTÍCULO 12. Son trabajadores eventuales ya que están al servicio de personal subordinado, por tiempo determinados o por cantidad presupuestada por el H. Ayuntamiento de Venado, S.L.P., y como lo indica la ley. En el CAPITULO V DE LOS SALARIOS en los artículos 38, 39, 40, 41,42 y 43 los salarios y prestaciones derivadas de la relación laboral a las que se hace acreedor el trabajador, tomando en cuenta que la presente administración se rige bajo los criterios de austeridad. http://www.cegaipslp.org.mx/HV2021Tres.nsf/nombre_de_la_vista/2BB8908599B386B28625879F005F8E00/$File/REMUNERACIONES.pdf
A49: 2022 | B49: 44682 | C49: 44712 | D49: Empleado | E49: AYUDANTE DE OBRAS PUB. "A" | F49: OBRAS PUBLICAS | G49: BRIGADA | H49: OBRAS PUBLICAS | I49: SERGIO | J49: VELAZQUEZ | K49: CISNEROS | L49: Masculino | M49: 7910.7 | N49: PESO | O49: 7320.38 | P49: PESO | Q49: =Tabla_549551!A45:A45 -> 42 | R49: =Tabla_549538!A45 -> 42 | S49: =Tabla_549552!A45 -> 42 | T49: =Tabla_549522!A45 -> 42 | U49: =Tabla_549542!A45 -> 42 | V49: =Tabla_549529!A45 -> 42 | W49: =Tabla_549539!A45 -> 42 | X49: =Tabla_549530!A45 -> 42 | Y49: =Tabla_549531!A45 -> 42 | Z49: =Tabla_549549!A45 -> 42 | AA49: =Tabla_549553!A45 -> 42 | AB49: =Tabla_549550!A45 -> 42 | AC49: =Tabla_549554!A45 -> 42 | AD49: TESORERÍA | AE49: 45449 | AF49: 45449 | AG49: manifestarle tenga de su conocimiento que de acuerdo a la LEY DE LOS TRABAJADORES AL SERVICIO DE LAS INSTITUCIONES PÚBLICAS DEL ESTADO DE SAN LUIS POTOSI en el Título Segundo de los trabajadores Capítulo I disposiciones generales en el ARTÍCULO 12. Son trabajadores eventuales ya que están al servicio de personal subordinado, por tiempo determinados o por cantidad presupuestada por el H. Ayuntamiento de Venado, S.L.P., y como lo indica la ley. En el CAPITULO V DE LOS SALARIOS en los artículos 38, 39, 40, 41,42 y 43 los salarios y prestaciones derivadas de la relación laboral a las que se hace acreedor el trabajador, tomando en cuenta que la presente administración se rige bajo los criterios de austeridad. http://www.cegaipslp.org.mx/HV2021Tres.nsf/nombre_de_la_vista/2BB8908599B386B28625879F005F8E00/$File/REMUNERACIONES.pdf
A50: 2022 | B50: 44682 | C50: 44712 | D50: Empleado | E50: AYUDANTE DE OBRAS PUB. "B" | F50: OBRAS PUBLICAS | G50: BRIGADA | H50: OBRAS PUBLICAS | I50: SABINO | J50: ARRIAGA | K50: REYNA | L50: Masculino | M50: 6812.7 | N50: PESO | O50: 6592.06 | P50: PESO | Q50: =Tabla_549551!A46 -> 43 | R50: =Tabla_549538!A46 -> 43 | S50: =Tabla_549552!A46 -> 43 | T50: =Tabla_549522!A46 -> 43 | U50: =Tabla_549542!A46 -> 43 | V50: =Tabla_549529!A46 -> 43 | W50: =Tabla_549539!A46 -> 43 | X50: =Tabla_549530!A46 -> 43 | Y50: =Tabla_549531!A46 -> 43 | Z50: =Tabla_549549!A46 -> 43 | AA50: =Tabla_549553!A46 -> 43 | AB50: =Tabla_549550!A46 -> 43 | AC50: =Tabla_549554!A46 -> 43 | AD50: TESORERÍA | AE50: 45449 | AF50: 45449 | AG50: manifestarle tenga de su conocimiento que de acuerdo a la LEY DE LOS TRABAJADORES AL SERVICIO DE LAS INSTITUCIONES PÚBLICAS DEL ESTADO DE SAN LUIS POTOSI en el Título Segundo de los trabajadores Capítulo I disposiciones generales en el ARTÍCULO 12. Son trabajadores eventuales ya que están al servicio de personal subordinado, por tiempo determinados o por cantidad presupuestada por el H. Ayuntamiento de Venado, S.L.P., y como lo indica la ley. En el CAPITULO V DE LOS SALARIOS en los artículos 38, 39, 40, 41,42 y 43 los salarios y prestaciones derivadas de la relación laboral a las que se hace acreedor el trabajador, tomando en cuenta que la presente administración se rige bajo los criterios de austeridad. http://www.cegaipslp.org.mx/HV2021Tres.nsf/nombre_de_la_vista/2BB8908599B386B28625879F005F8E00/$File/REMUNERACIONES.pdf
A51: 2022 | B51: 44682 | C51: 44712 | D51: Empleado | E51: AYUDANTE DE OBRAS PUB. "A" | F51: OBRAS PUBLICAS | G51: BRIGADA | H51: OBRAS PUBLICAS | I51: HERMINIO | J51: HERNANDEZ | K51: OVALLE | L51: Masculino | M51: 6877.2 | N51: PESO | O51: 6649.54 | P51: PESO | Q51: =Tabla_549551!A47:A47 -> 44 | R51: =Tabla_549538!A47 -> 44 | S51: =Tabla_549552!A47 -> 44 | T51: =Tabla_549522!A47 -> 44 | U51: =Tabla_549542!A47 -> 44 | V51: =Tabla_549529!A47 -> 44 | W51: =Tabla_549539!A47 -> 44 | X51: =Tabla_549530!A47 -> 44 | Y51: =Tabla_549531!A47 -> 44 | Z51: =Tabla_549549!A47 -> 44 | AA51: =Tabla_549553!A47 -> 44 | AB51: =Tabla_549550!A47 -> 44 | AC51: =Tabla_549554!A47 -> 44 | AD51: TESORERÍA | AE51: 45449 | AF51: 45449 | AG51: manifestarle tenga de su conocimiento que de acuerdo a la LEY DE LOS TRABAJADORES AL SERVICIO DE LAS INSTITUCIONES PÚBLICAS DEL ESTADO DE SAN LUIS POTOSI en el Título Segundo de los trabajadores Capítulo I disposiciones generales en el ARTÍCULO 12. Son trabajadores eventuales ya que están al servicio de personal subordinado, por tiempo determinados o por cantidad presupuestada por el H. Ayuntamiento de Venado, S.L.P., y como lo indica la ley. En el CAPITULO V DE LOS SALARIOS en los artículos 38, 39, 40, 41,42 y 43 los salarios y prestaciones derivadas de la relación laboral a las que se hace acreedor el trabajador, tomando en cuenta que la presente administración se rige bajo los criterios de austeridad. http://www.cegaipslp.org.mx/HV2021Tres.nsf/nombre_de_la_vista/2BB8908599B386B28625879F005F8E00/$File/REMUNERACIONES.pdf
A52: 2022 | B52: 44682 | C52: 44712 | D52: Empleado | E52: AUXILIAR DE ELECTRICISTA | F52: OBRAS PUBLICAS | G52: AUXILIAR ELECTRICISTA | H52: OBRAS PUBLICAS | I52: MIGUEL ANGEL | J52: MARTINEZ | K52: IBARRA | L52: Masculino | M52: 6473.4 | N52: PESO | O52: 6289.68 | P52: PESO | Q52: =Tabla_549551!A48 -> 45 | R52: =Tabla_549538!A48 -> 45 | S52: =Tabla_549552!A48 -> 45 | T52: =Tabla_549522!A48 -> 45 | U52: =Tabla_549542!A48 -> 45 | V52: =Tabla_549529!A48 -> 45 | W52: =Tabla_549539!A48 -> 45 | X52: =Tabla_549530!A48 -> 45 | Y52: =Tabla_549531!A48 -> 45 | Z52: =Tabla_549549!A48 -> 45 | AA52: =Tabla_549553!A48 -> 45 | AB52: =Tabla_549550!A48 -> 45 | AC52: =Tabla_549554!A48 -> 45 | AD52: TESORERÍA | AE52: 45449 | AF52: 45449 | AG52: manifestarle tenga de su conocimiento que de acuerdo a la LEY DE LOS TRABAJADORES AL SERVICIO DE LAS INSTITUCIONES PÚBLICAS DEL ESTADO DE SAN LUIS POTOSI en el Título Segundo de los trabajadores Capítulo I disposiciones generales en el ARTÍCULO 12. Son trabajadores eventuales ya que están al servicio de personal subordinado, por tiempo determinados o por cantidad presupuestada por el H. Ayuntamiento de Venado, S.L.P., y como lo indica la ley. En el CAPITULO V DE LOS SALARIOS en los artículos 38, 39, 40, 41,42 y 43 los salarios y prestaciones derivadas de la relación laboral a las que se hace acreedor el trabajador, tomando en cuenta que la presente administración se rige bajo los criterios de austeridad. http://www.cegaipslp.org.mx/HV2021Tres.nsf/nombre_de_la_vista/2BB8908599B386B28625879F005F8E00/$File/REMUNERACIONES.pdf
A53: 2022 | B53: 44682 | C53: 44712 | D53: Empleado | E53: AUXILIAR BLOQUERO "B" | F53: OBRAS PUBLICAS | G53: AUXILIAR DE BLOQUERA | H53: OBRAS PUBLICAS | I53: BERNARDO | J53: SALAS | K53: VELAZCO | L53: Masculino | M53: 6482.1 | N53: PESO | O53: 6297.42 | P53: PESO | Q53: =Tabla_549551!A49:A49 -> 46 | R53: =Tabla_549538!A49 -> 46 | S53: =Tabla_549552!A49 -> 46 | T53: =Tabla_549522!A49 -> 46 | U53: =Tabla_549542!A49 -> 46 | V53: =Tabla_549529!A49 -> 46 | W53: =Tabla_549539!A49 -> 46 | X53: =Tabla_549530!A49 -> 46 | Y53: =Tabla_549531!A49 -> 46 | Z53: =Tabla_549549!A49 -> 46 | AA53: =Tabla_549553!A49 -> 46 | AB53: =Tabla_549550!A49 -> 46 | AC53: =Tabla_549554!A49 -> 46 | AD53: TESORERÍA | AE53: 45449 | AF53: 45449 | AG53: manifestarle tenga de su conocimiento que de acuerdo a la LEY DE LOS TRABAJADORES AL SERVICIO DE LAS INSTITUCIONES PÚBLICAS DEL ESTADO DE SAN LUIS POTOSI en el Título Segundo de los trabajadores Capítulo I disposiciones generales en el ARTÍCULO 12. Son trabajadores eventuales ya que están al servicio de personal subordinado, por tiempo determinados o por cantidad presupuestada por el H. Ayuntamiento de Venado, S.L.P., y como lo indica la ley. En el CAPITULO V DE LOS SALARIOS en los artículos 38, 39, 40, 41,42 y 43 los salarios y prestaciones derivadas de la relación laboral a las que se hace acreedor el trabajador, tomando en cuenta que la presente administración se rige bajo los criterios de austeridad. http://www.cegaipslp.org.mx/HV2021Tres.nsf/nombre_de_la_vista/2BB8908599B386B28625879F005F8E00/$File/REMUNERACIONES.pdf
A54: 2022 | B54: 44682 | C54: 44712 | D54: Empleado | E54: AUXILIAR BLOQUERO "B" | F54: OBRAS PUBLICAS | G54: AUXILIAR DE BLOQUERA | H54: OBRAS PUBLICAS | I54: MARCOS | J54: ZAMARRIPA | K54: CENA | L54: Masculino | M54: 6482.1 | N54: PESO | O54: 6297.42 | P54: PESO | Q54: =Tabla_549551!A50 -> 47 | R54: =Tabla_549538!A50 -> 47 | S54: =Tabla_549552!A50 -> 47 | T54: =Tabla_549522!A50 -> 47 | U54: =Tabla_549542!A50 -> 47 | V54: =Tabla_549529!A50 -> 47 | W54: =Tabla_549539!A50 -> 47 | X54: =Tabla_549530!A50 -> 47 | Y54: =Tabla_549531!A50 -> 47 | Z54: =Tabla_549549!A50 -> 47 | AA54: =Tabla_549553!A50 -> 47 | AB54: =Tabla_549550!A50 -> 47 | AC54: =Tabla_549554!A50 -> 47 | AD54: TESORERÍA | AE54: 45449 | AF54: 45449 | AG54: manifestarle tenga de su conocimiento que de acuerdo a la LEY DE LOS TRABAJADORES AL SERVICIO DE LAS INSTITUCIONES PÚBLICAS DEL ESTADO DE SAN LUIS POTOSI en el Título Segundo de los trabajadores Capítulo I disposiciones generales en el ARTÍCULO 12. Son trabajadores eventuales ya que están al servicio de personal subordinado, por tiempo determinados o por cantidad presupuestada por el H. Ayuntamiento de Venado, S.L.P., y como lo indica la ley. En el CAPITULO V DE LOS SALARIOS en los artículos 38, 39, 40, 41,42 y 43 los salarios y prestaciones derivadas de la relación laboral a las que se hace acreedor el trabajador, tomando en cuenta que la presente administración se rige bajo los criterios de austeridad. http://www.cegaipslp.org.mx/HV2021Tres.nsf/nombre_de_la_vista/2BB8908599B386B28625879F005F8E00/$File/REMUNERACIONES.pdf
A55: 2022 | B55: 44682 | C55: 44712 | D55: Empleado | E55: AUXILIAR BLOQUERO "A" | F55: OBRAS PUBLICAS | G55: AUXILIAR DE BLOQUERA | H55: OBRAS PUBLICAS | I55: J. TRINIDAD | J55: SALAS | K55: VELAZCO | L55: Masculino | M55: 7953 | N55: PESO | O55: 7358.08 | P55: PESO | Q55: =Tabla_549551!A51:A51 -> 48 | R55: =Tabla_549538!A51 -> 48 | S55: =Tabla_549552!A51 -> 48 | T55: =Tabla_549522!A51 -> 48 | U55: =Tabla_549542!A51 -> 48 | V55: =Tabla_549529!A51 -> 48 | W55: =Tabla_549539!A51 -> 48 | X55: =Tabla_549530!A51 -> 48 | Y55: =Tabla_549531!A51 -> 48 | Z55: =Tabla_549549!A51 -> 48 | AA55: =Tabla_549553!A51 -> 48 | AB55: =Tabla_549550!A51 -> 48 | AC55: =Tabla_549554!A51 -> 48 | AD55: TESORERÍA | AE55: 45449 | AF55: 45449 | AG55: manifestarle tenga de su conocimiento que de acuerdo a la LEY DE LOS TRABAJADORES AL SERVICIO DE LAS INSTITUCIONES PÚBLICAS DEL ESTADO DE SAN LUIS POTOSI en el Título Segundo de los trabajadores Capítulo I disposiciones generales en el ARTÍCULO 12. Son trabajadores eventuales ya que están al servicio de personal subordinado, por tiempo determinados o por cantidad presupuestada por el H. Ayuntamiento de Venado, S.L.P., y como lo indica la ley. En el CAPITULO V DE LOS SALARIOS en los artículos 38, 39, 40, 41,42 y 43 los salarios y prestaciones derivadas de la relación laboral a las que se hace acreedor el trabajador, tomando en cuenta que la presente administración se rige bajo los criterios de austeridad. http://www.cegaipslp.org.mx/HV2021Tres.nsf/nombre_de_la_vista/2BB8908599B386B28625879F005F8E00/$File/REMUNERACIONES.pdf
A56: 2022 | B56: 44682 | C56: 44712 | D56: Empleado | E56: ALBAÑIL DE OBRAS PUBLICAS | F56: OBRAS PUBLICAS | G56: ALBAÑIL DE OBRAS PUBLICAS | H56: OBRAS PUBLICAS | I56: JUAN FRANCISCO | J56: SAUCEDA | K56: HERNANDEZ | L56: Masculino | M56: 4264.48 | N56: PESO | O56: 4357.88 | P56: PESO | Q56: =Tabla_549551!A52 -> 49 | R56: =Tabla_549538!A52 -> 49 | S56: =Tabla_549552!A52 -> 49 | T56: =Tabla_549522!A52 -> 49 | U56: =Tabla_549542!A52 -> 49 | V56: =Tabla_549529!A52 -> 49 | W56: =Tabla_549539!A52 -> 49 | X56: =Tabla_549530!A52 -> 49 | Y56: =Tabla_549531!A52 -> 49 | Z56: =Tabla_549549!A52 -> 49 | AA56: =Tabla_549553!A52 -> 49 | AB56: =Tabla_549550!A52 -> 49 | AC56: =Tabla_549554!A52 -> 49 | AD56: TESORERÍA | AE56: 45449 | AF56: 45449 | AG56: manifestarle tenga de su conocimiento que de acuerdo a la LEY DE LOS TRABAJADORES AL SERVICIO DE LAS INSTITUCIONES PÚBLICAS DEL ESTADO DE SAN LUIS POTOSI en el Título Segundo de los trabajadores Capítulo I disposiciones generales en el ARTÍCULO 12. Son trabajadores eventuales ya que están al servicio de personal subordinado, por tiempo determinados o por cantidad presupuestada por el H. Ayuntamiento de Venado, S.L.P., y como lo indica la ley. En el CAPITULO V DE LOS SALARIOS en los artículos 38, 39, 40, 41,42 y 43 los salarios y prestaciones derivadas de la relación laboral a las que se hace acreedor el trabajador, tomando en cuenta que la presente administración se rige bajo los criterios de austeridad. http://www.cegaipslp.org.mx/HV2021Tres.nsf/nombre_de_la_vista/2BB8908599B386B28625879F005F8E00/$File/REMUNERACIONES.pdf
A57: 2022 | B57: 44682 | C57: 44712 | D57: Empleado | E57: AYUDANTE DE OBRAS PUB. "A" | F57: OBRAS PUBLICAS | G57: BRIGADA | H57: OBRAS PUBLICAS | I57: MARTIN | J57: TORRES | K57: TORRES | L57: Masculino | M57: 6473.4 | N57: PESO | O57: 6289.68 | P57: PESO | Q57: =Tabla_549551!A53:A53 -> 50 | R57: =Tabla_549538!A53 -> 50 | S57: =Tabla_549552!A53 -> 50 | T57: =Tabla_549522!A53 -> 50 | U57: =Tabla_549542!A53 -> 50 | V57: =Tabla_549529!A53 -> 50 | W57: =Tabla_549539!A53 -> 50 | X57: =Tabla_549530!A53 -> 50 | Y57: =Tabla_549531!A53 -> 50 | Z57: =Tabla_549549!A53 -> 50 | AA57: =Tabla_549553!A53 -> 50 | AB57: =Tabla_549550!A53 -> 50 | AC57: =Tabla_549554!A53 -> 50 | AD57: TESORERÍA | AE57: 45449 | AF57: 45449 | AG57: manifestarle tenga de su conocimiento que de acuerdo a la LEY DE LOS TRABAJADORES AL SERVICIO DE LAS INSTITUCIONES PÚBLICAS DEL ESTADO DE SAN LUIS POTOSI en el Título Segundo de los trabajadores Capítulo I disposiciones generales en el ARTÍCULO 12. Son trabajadores eventuales ya que están al servicio de personal subordinado, por tiempo determinados o por cantidad presupuestada por el H. Ayuntamiento de Venado, S.L.P., y como lo indica la ley. En el CAPITULO V DE LOS SALARIOS en los artículos 38, 39, 40, 41,42 y 43 los salarios y prestaciones derivadas de la relación laboral a las que se hace acreedor el trabajador, tomando en cuenta que la presente administración se rige bajo los criterios de austeridad. http://www.cegaipslp.org.mx/HV2021Tres.nsf/nombre_de_la_vista/2BB8908599B386B28625879F005F8E00/$File/REMUNERACIONES.pdf
A58: 2022 | B58: 44682 | C58: 44712 | D58: Empleado | E58: AYUDANTE DE OBRAS PUB. "A" | F58: OBRAS PUBLICAS | G58: BRIGADA | H58: OBRAS PUBLICAS | I58: GAMALIEL | J58: CRUZ | K58: RIOS | L58: Masculino | M58: 5654.04 | N58: PESO | O58: 5600 | P58: PESO | Q58: =Tabla_549551!A54 -> 51 | R58: =Tabla_549538!A54 -> 51 | S58: =Tabla_549552!A54 -> 51 | T58: =Tabla_549522!A54 -> 51 | U58: =Tabla_549542!A54 -> 51 | V58: =Tabla_549529!A54 -> 51 | W58: =Tabla_549539!A54 -> 51 | X58: =Tabla_549530!A54 -> 51 | Y58: =Tabla_549531!A54 -> 51 | Z58: =Tabla_549549!A54 -> 51 | AA58: =Tabla_549553!A54 -> 51 | AB58: =Tabla_549550!A54 -> 51 | AC58: =Tabla_549554!A54 -> 51 | AD58: TESORERÍA | AE58: 45449 | AF58: 45449 | AG58: manifestarle tenga de su conocimiento que de acuerdo a la LEY DE LOS TRABAJADORES AL SERVICIO DE LAS INSTITUCIONES PÚBLICAS DEL ESTADO DE SAN LUIS POTOSI en el Título Segundo de los trabajadores Capítulo I disposiciones generales en el ARTÍCULO 12. Son trabajadores eventuales ya que están al servicio de personal subordinado, por tiempo determinados o por cantidad presupuestada por el H. Ayuntamiento de Venado, S.L.P., y como lo indica la ley. En el CAPITULO V DE LOS SALARIOS en los artículos 38, 39, 40, 41,42 y 43 los salarios y prestaciones derivadas de la relación laboral a las que se hace acreedor el trabajador, tomando en cuenta que la presente administración se rige bajo los criterios de austeridad. http://www.cegaipslp.org.mx/HV2021Tres.nsf/nombre_de_la_vista/2BB8908599B386B28625879F005F8E00/$File/REMUNERACIONES.pdf
A59: 2022 | B59: 44682 | C59: 44712 | D59: Empleado | E59: AYUDANTE DE OBRAS PUB. "A" | F59: OBRAS PUBLICAS | G59: OPERADOR DE MOTOCONFORMADORA | H59: OBRAS PUBLICAS | I59: SANTIAGO | J59: HERNANDEZ | K59: CERDA | L59: Masculino | M59: 7593.3 | N59: PESO | O59: 7012.42 | P59: PESO | Q59: =Tabla_549551!A55:A55 -> 52 | R59: =Tabla_549538!A55 -> 52 | S59: =Tabla_549552!A55 -> 52 | T59: =Tabla_549522!A55 -> 52 | U59: =Tabla_549542!A55 -> 52 | V59: =Tabla_549529!A55 -> 52 | W59: =Tabla_549539!A55 -> 52 | X59: =Tabla_549530!A55 -> 52 | Y59: =Tabla_549531!A55 -> 52 | Z59: =Tabla_549549!A55 -> 52 | AA59: =Tabla_549553!A55 -> 52 | AB59: =Tabla_549550!A55 -> 52 | AC59: =Tabla_549554!A55 -> 52 | AD59: TESORERÍA | AE59: 45449 | AF59: 45449 | AG59: manifestarle tenga de su conocimiento que de acuerdo a la LEY DE LOS TRABAJADORES AL SERVICIO DE LAS INSTITUCIONES PÚBLICAS DEL ESTADO DE SAN LUIS POTOSI en el Título Segundo de los trabajadores Capítulo I disposiciones generales en el ARTÍCULO 12. Son trabajadores eventuales ya que están al servicio de personal subordinado, por tiempo determinados o por cantidad presupuestada por el H. Ayuntamiento de Venado, S.L.P., y como lo indica la ley. En el CAPITULO V DE LOS SALARIOS en los artículos 38, 39, 40, 41,42 y 43 los salarios y prestaciones derivadas de la relación laboral a las que se hace acreedor el trabajador, tomando en cuenta que la presente administración se rige bajo los criterios de austeridad. http://www.cegaipslp.org.mx/HV2021Tres.nsf/nombre_de_la_vista/2BB8908599B386B28625879F005F8E00/$File/REMUNERACIONES.pdf
A60: 2022 | B60: 44682 | C60: 44712 | D60: Empleado | E60: AYUDANTE DE OBRAS PUB. "A" | F60: OBRAS PUBLICAS | G60: AUXILIAR DE OBRAS PUBLICAS | H60: AUXILIAR DE OBRAS PUBLICAS | I60: ANTONIO | J60: FERNANDEZ | K60: ROJAS | L60: Masculino | M60: 7085.82 | N60: PESO | O60: 6800 | P60: PESO | Q60: =Tabla_549551!A56 -> 53 | R60: =Tabla_549538!A56 -> 53 | S60: =Tabla_549552!A56 -> 53 | T60: =Tabla_549522!A56 -> 53 | U60: =Tabla_549542!A56 -> 53 | V60: =Tabla_549529!A56 -> 53 | W60: =Tabla_549539!A56 -> 53 | X60: =Tabla_549530!A56 -> 53 | Y60: =Tabla_549531!A56 -> 53 | Z60: =Tabla_549549!A56 -> 53 | AA60: =Tabla_549553!A56 -> 53 | AB60: =Tabla_549550!A56 -> 53 | AC60: =Tabla_549554!A56 -> 53 | AD60: TESORERÍA | AE60: 45449 | AF60: 45449 | AG60: manifestarle tenga de su conocimiento que de acuerdo a la LEY DE LOS TRABAJADORES AL SERVICIO DE LAS INSTITUCIONES PÚBLICAS DEL ESTADO DE SAN LUIS POTOSI en el Título Segundo de los trabajadores Capítulo I disposiciones generales en el ARTÍCULO 12. Son trabajadores eventuales ya que están al servicio de personal subordinado, por tiempo determinados o por cantidad presupuestada por el H. Ayuntamiento de Venado, S.L.P., y como lo indica la ley. En el CAPITULO V DE LOS SALARIOS en los artículos 38, 39, 40, 41,42 y 43 los salarios y prestaciones derivadas de la relación laboral a las que se hace acreedor el trabajador, tomando en cuenta que la presente administración se rige bajo los criterios de austeridad. http://www.cegaipslp.org.mx/HV2021Tres.nsf/nombre_de_la_vista/2BB8908599B386B28625879F005F8E00/$File/REMUNERACIONES.pdf
A61: 2022 | B61: 44682 | C61: 44712 | D61: Otro | E61: PENSIONADO | F61: PENSIONES | G61: PENSIONADO | H61: PENSIONES | I61: BONIFACIO | J61: BRIONES | K61: FLORES | L61: Masculino | M61: 5025.6 | N61: PESO | O61: 5025.6 | P61: PESO | Q61: =Tabla_549551!A57:A57 -> 54 | R61: =Tabla_549538!A57 -> 54 | S61: =Tabla_549552!A57 -> 54 | T61: =Tabla_549522!A57 -> 54 | U61: =Tabla_549542!A57 -> 54 | V61: =Tabla_549529!A57 -> 54 | W61: =Tabla_549539!A57 -> 54 | X61: =Tabla_549530!A57 -> 54 | Y61: =Tabla_549531!A57 -> 54 | Z61: =Tabla_549549!A57 -> 54 | AA61: =Tabla_549553!A57 -> 54 | AB61: =Tabla_549550!A57 -> 54 | AC61: =Tabla_549554!A57 -> 54 | AD61: TESORERÍA | AE61: 45449 | AF61: 45449 | AG61: manifestarle tenga de su conocimiento que de acuerdo a la LEY DE LOS TRABAJADORES AL SERVICIO DE LAS INSTITUCIONES PÚBLICAS DEL ESTADO DE SAN LUIS POTOSI en el Título Segundo de los trabajadores Capítulo I disposiciones generales en el ARTÍCULO 12. Son trabajadores eventuales ya que están al servicio de personal subordinado, por tiempo determinados o por cantidad presupuestada por el H. Ayuntamiento de Venado, S.L.P., y como lo indica la ley. En el CAPITULO V DE LOS SALARIOS en los artículos 38, 39, 40, 41,42 y 43 los salarios y prestaciones derivadas de la relación laboral a las que se hace acreedor el trabajador, tomando en cuenta que la presente administración se rige bajo los criterios de austeridad. http://www.cegaipslp.org.mx/HV2021Tres.nsf/nombre_de_la_vista/2BB8908599B386B28625879F005F8E00/$File/REMUNERACIONES.pdf
A62: 2022 | B62: 44682 | C62: 44712 | D62: Otro | E62: PENSIONADO | F62: PENSIONES | G62: PENSIONADO | H62: PENSIONES | I62: FERMIN | J62: RODRIGUEZ | K62: GARCIA | L62: Masculino | M62: 7688.4 | N62: PESO | O62: 7688.4 | P62: PESO | Q62: =Tabla_549551!A58 -> 55 | R62: =Tabla_549538!A58 -> 55 | S62: =Tabla_549552!A58 -> 55 | T62: =Tabla_549522!A58 -> 55 | U62: =Tabla_549542!A58 -> 55 | V62: =Tabla_549529!A58 -> 55 | W62: =Tabla_549539!A58 -> 55 | X62: =Tabla_549530!A58 -> 55 | Y62: =Tabla_549531!A58 -> 55 | Z62: =Tabla_549549!A58 -> 55 | AA62: =Tabla_549553!A58 -> 55 | AB62: =Tabla_549550!A58 -> 55 | AC62: =Tabla_549554!A58 -> 55 | AD62: TESORERÍA | AE62: 45449 | AF62: 45449 | AG62: manifestarle tenga de su conocimiento que de acuerdo a la LEY DE LOS TRABAJADORES AL SERVICIO DE LAS INSTITUCIONES PÚBLICAS DEL ESTADO DE SAN LUIS POTOSI en el Título Segundo de los trabajadores Capítulo I disposiciones generales en el ARTÍCULO 12. Son trabajadores eventuales ya que están al servicio de personal subordinado, por tiempo determinados o por cantidad presupuestada por el H. Ayuntamiento de Venado, S.L.P., y como lo indica la ley. En el CAPITULO V DE LOS SALARIOS en los artículos 38, 39, 40, 41,42 y 43 los salarios y prestaciones derivadas de la relación laboral a las que se hace acreedor el trabajador, tomando en cuenta que la presente administración se rige bajo los criterios de austeridad. http://www.cegaipslp.org.mx/HV2021Tres.nsf/nombre_de_la_vista/2BB8908599B386B28625879F005F8E00/$File/REMUNERACIONES.pdf
A63: 2022 | B63: 44682 | C63: 44712 | D63: Otro | E63: PENSIONADO | F63: PENSIONES | G63: PENSIONADO | H63: PENSIONES | I63: MARIA ESTELA | J63: NORIEGA | K63: MORALES | L63: Femenino | M63: 6726.9 | N63: PESO | O63: 6726.9 | P63: PESO | Q63: =Tabla_549551!A59:A59 -> 56 | R63: =Tabla_549538!A59 -> 56 | S63: =Tabla_549552!A59 -> 56 | T63: =Tabla_549522!A59 -> 56 | U63: =Tabla_549542!A59 -> 56 | V63: =Tabla_549529!A59 -> 56 | W63: =Tabla_549539!A59 -> 56 | X63: =Tabla_549530!A59 -> 56 | Y63: =Tabla_549531!A59 -> 56 | Z63: =Tabla_549549!A59 -> 56 | AA63: =Tabla_549553!A59 -> 56 | AB63: =Tabla_549550!A59 -> 56 | AC63: =Tabla_549554!A59 -> 56 | AD63: TESORERÍA | AE63: 45449 | AF63: 45449 | AG63: manifestarle tenga de su conocimiento que de acuerdo a la LEY DE LOS TRABAJADORES AL SERVICIO DE LAS INSTITUCIONES PÚBLICAS DEL ESTADO DE SAN LUIS POTOSI en el Título Segundo de los trabajadores Capítulo I disposiciones generales en el ARTÍCULO 12. Son trabajadores eventuales ya que están al servicio de personal subordinado, por tiempo determinados o por cantidad presupuestada por el H. Ayuntamiento de Venado, S.L.P., y como lo indica la ley. En el CAPITULO V DE LOS SALARIOS en los artículos 38, 39, 40, 41,42 y 43 los salarios y prestaciones derivadas de la relación laboral a las que se hace acreedor el trabajador, tomando en cuenta que la presente administración se rige bajo los criterios de austeridad. http://www.cegaipslp.org.mx/HV2021Tres.nsf/nombre_de_la_vista/2BB8908599B386B28625879F005F8E00/$File/REMUNERACIONES.pdf
A64: 2022 | B64: 44682 | C64: 44712 | D64: Otro | E64: PENSIONADO | F64: PENSIONES | G64: PENSIONADO | H64: PENSIONES | I64: GUILLERMO | J64: HERNANDEZ | K64: VALDEZ | L64: Masculino | M64: 5544.3 | N64: PESO | O64: 5544.3 | P64: PESO | Q64: =Tabla_549551!A60 -> 57 | R64: =Tabla_549538!A60 -> 57 | S64: =Tabla_549552!A60 -> 57 | T64: =Tabla_549522!A60 -> 57 | U64: =Tabla_549542!A60 -> 57 | V64: =Tabla_549529!A60 -> 57 | W64: =Tabla_549539!A60 -> 57 | X64: =Tabla_549530!A60 -> 57 | Y64: =Tabla_549531!A60 -> 57 | Z64: =Tabla_549549!A60 -> 57 | AA64: =Tabla_549553!A60 -> 57 | AB64: =Tabla_549550!A60 -> 57 | AC64: =Tabla_549554!A60 -> 57 | AD64: TESORERÍA | AE64: 45449 | AF64: 45449 | AG64: manifestarle tenga de su conocimiento que de acuerdo a la LEY DE LOS TRABAJADORES AL SERVICIO DE LAS INSTITUCIONES PÚBLICAS DEL ESTADO DE SAN LUIS POTOSI en el Título Segundo de los trabajadores Capítulo I disposiciones generales en el ARTÍCULO 12. Son trabajadores eventuales ya que están al servicio de personal subordinado, por tiempo determinados o por cantidad presupuestada por el H. Ayuntamiento de Venado, S.L.P., y como lo indica la ley. En el CAPITULO V DE LOS SALARIOS en los artículos 38, 39, 40, 41,42 y 43 los salarios y prestaciones derivadas de la relación laboral a las que se hace acreedor el trabajador, tomando en cuenta que la presente administración se rige bajo los criterios de austeridad. http://www.cegaipslp.org.mx/HV2021Tres.nsf/nombre_de_la_vista/2BB8908599B386B28625879F005F8E00/$File/REMUNERACIONES.pdf
A65: 2022 | B65: 44682 | C65: 44712 | D65: Otro | E65: PENSIONADO | F65: PENSIONES | G65: PENSIONADO | H65: PENSIONES | I65: PAULINA | J65: RODRIGUEZ | K65: FLORES | L65: Femenino | M65: 3828.3 | N65: PESO | O65: 3828.3 | P65: PESO | Q65: =Tabla_549551!A61:A61 -> 58 | R65: =Tabla_549538!A61 -> 58 | S65: =Tabla_549552!A61 -> 58 | T65: =Tabla_549522!A61 -> 58 | U65: =Tabla_549542!A61 -> 58 | V65: =Tabla_549529!A61 -> 58 | W65: =Tabla_549539!A61 -> 58 | X65: =Tabla_549530!A61 -> 58 | Y65: =Tabla_549531!A61 -> 58 | Z65: =Tabla_549549!A61 -> 58 | AA65: =Tabla_549553!A61 -> 58 | AB65: =Tabla_549550!A61 -> 58 | AC65: =Tabla_549554!A61 -> 58 | AD65: TESORERÍA | AE65: 45449 | AF65: 45449 | AG65: manifestarle tenga de su conocimiento que de acuerdo a la LEY DE LOS TRABAJADORES AL SERVICIO DE LAS INSTITUCIONES PÚBLICAS DEL ESTADO DE SAN LUIS POTOSI en el Título Segundo de los trabajadores Capítulo I disposiciones generales en el ARTÍCULO 12. Son trabajadores eventuales ya que están al servicio de personal subordinado, por tiempo determinados o por cantidad presupuestada por el H. Ayuntamiento de Venado, S.L.P., y como lo indica la ley. En el CAPITULO V DE LOS SALARIOS en los artículos 38, 39, 40, 41,42 y 43 los salarios y prestaciones derivadas de la relación laboral a las que se hace acreedor el trabajador, tomando en cuenta que la presente administración se rige bajo los criterios de austeridad. http://www.cegaipslp.org.mx/HV2021Tres.nsf/nombre_de_la_vista/2BB8908599B386B28625879F005F8E00/$File/REMUNERACIONES.pdf
A66: 2022 | B66: 44682 | C66: 44712 | D66: Otro | E66: PENSIONADO | F66: PENSIONES | G66: PENSIONADO | H66: PENSIONES | I66: FRANCISCO | J66: DELGADO | K66: TORRES | L66: Masculino | M66: 4869.9 | N66: PESO | O66: 4869.9 | P66: PESO | Q66: =Tabla_549551!A62 -> 59 | R66: =Tabla_549538!A62 -> 59 | S66: =Tabla_549552!A62 -> 59 | T66: =Tabla_549522!A62 -> 59 | U66: =Tabla_549542!A62 -> 59 | V66: =Tabla_549529!A62 -> 59 | W66: =Tabla_549539!A62 -> 59 | X66: =Tabla_549530!A62 -> 59 | Y66: =Tabla_549531!A62 -> 59 | Z66: =Tabla_549549!A62 -> 59 | AA66: =Tabla_549553!A62 -> 59 | AB66: =Tabla_549550!A62 -> 59 | AC66: =Tabla_549554!A62 -> 59 | AD66: TESORERÍA | AE66: 45449 | AF66: 45449 | AG66: manifestarle tenga de su conocimiento que de acuerdo a la LEY DE LOS TRABAJADORES AL SERVICIO DE LAS INSTITUCIONES PÚBLICAS DEL ESTADO DE SAN LUIS POTOSI en el Título Segundo de los trabajadores Capítulo I disposiciones generales en el ARTÍCULO 12. Son trabajadores eventuales ya que están al servicio de personal subordinado, por tiempo determinados o por cantidad presupuestada por el H. Ayuntamiento de Venado, S.L.P., y como lo indica la ley. En el CAPITULO V DE LOS SALARIOS en los artículos 38, 39, 40, 41,42 y 43 los salarios y prestaciones derivadas de la relación laboral a las que se hace acreedor el trabajador, tomando en cuenta que la presente administración se rige bajo los criterios de austeridad. http://www.cegaipslp.org.mx/HV2021Tres.nsf/nombre_de_la_vista/2BB8908599B386B28625879F005F8E00/$File/REMUNERACIONES.pdf
A67: 2022 | B67: 44682 | C67: 44712 | D67: Otro | E67: PENSIONADO | F67: PENSIONES | G67: PENSIONADO | H67: PENSIONES | I67: ANTONIO | J67: PEREZ | K67: LLANAS | L67: Masculino | M67: 6816 | N67: PESO | O67: 6816 | P67: PESO | Q67: =Tabla_549551!A63:A63 -> 60 | R67: =Tabla_549538!A63 -> 60 | S67: =Tabla_549552!A63 -> 60 | T67: =Tabla_549522!A63 -> 60 | U67: =Tabla_549542!A63 -> 60 | V67: =Tabla_549529!A63 -> 60 | W67: =Tabla_549539!A63 -> 60 | X67: =Tabla_549530!A63 -> 60 | Y67: =Tabla_549531!A63 -> 60 | Z67: =Tabla_549549!A63 -> 60 | AA67: =Tabla_549553!A63 -> 60 | AB67: =Tabla_549550!A63 -> 60 | AC67: =Tabla_549554!A63 -> 60 | AD67: TESORERÍA | AE67: 45449 | AF67: 45449 | AG67: manifestarle tenga de su conocimiento que de acuerdo a la LEY DE LOS TRABAJADORES AL SERVICIO DE LAS INSTITUCIONES PÚBLICAS DEL ESTADO DE SAN LUIS POTOSI en el Título Segundo de los trabajadores Capítulo I disposiciones generales en el ARTÍCULO 12. Son trabajadores eventuales ya que están al servicio de personal subordinado, por tiempo determinados o por cantidad presupuestada por el H. Ayuntamiento de Venado, S.L.P., y como lo indica la ley. En el CAPITULO V DE LOS SALARIOS en los artículos 38, 39, 40, 41,42 y 43 los salarios y prestaciones derivadas de la relación laboral a las que se hace acreedor el trabajador, tomando en cuenta que la presente administración se rige bajo los criterios de austeridad. http://www.cegaipslp.org.mx/HV2021Tres.nsf/nombre_de_la_vista/2BB8908599B386B28625879F005F8E00/$File/REMUNERACIONES.pdf
A68: 2022 | B68: 44682 | C68: 44712 | D68: Otro | E68: PENSIONADO | F68: PENSIONES | G68: PENSIONADO | H68: PENSIONES | I68: DAMIAN | J68: VAZQUEZ | K68: MARTINEZ | L68: Masculino | M68: 6783 | N68: PESO | O68: 6783 | P68: PESO | Q68: =Tabla_549551!A64 -> 61 | R68: =Tabla_549538!A64 -> 61 | S68: =Tabla_549552!A64 -> 61 | T68: =Tabla_549522!A64 -> 61 | U68: =Tabla_549542!A64 -> 61 | V68: =Tabla_549529!A64 -> 61 | W68: =Tabla_549539!A64 -> 61 | X68: =Tabla_549530!A64 -> 61 | Y68: =Tabla_549531!A64 -> 61 | Z68: =Tabla_549549!A64 -> 61 | AA68: =Tabla_549553!A64 -> 61 | AB68: =Tabla_549550!A64 -> 61 | AC68: =Tabla_549554!A64 -> 61 | AD68: TESORERÍA | AE68: 45449 | AF68: 45449 | AG68: manifestarle tenga de su conocimiento que de acuerdo a la LEY DE LOS TRABAJADORES AL SERVICIO DE LAS INSTITUCIONES PÚBLICAS DEL ESTADO DE SAN LUIS POTOSI en el Título Segundo de los trabajadores Capítulo I disposiciones generales en el ARTÍCULO 12. Son trabajadores eventuales ya que están al servicio de personal subordinado, por tiempo determinados o por cantidad presupuestada por el H. Ayuntamiento de Venado, S.L.P., y como lo indica la ley. En el CAPITULO V DE LOS SALARIOS en los artículos 38, 39, 40, 41,42 y 43 los salarios y prestaciones derivadas de la relación laboral a las que se hace acreedor el trabajador, tomando en cuenta que la presente administración se rige bajo los criterios de austeridad. http://www.cegaipslp.org.mx/HV2021Tres.nsf/nombre_de_la_vista/2BB8908599B386B28625879F005F8E00/$File/REMUNERACIONES.pdf
A69: 2022 | B69: 44682 | C69: 44712 | D69: Otro | E69: PENSIONADO | F69: PENSIONES | G69: PENSIONADO | H69: PENSIONES | I69: JULIO | J69: GERARDO | K69: MARTINEZ | L69: Masculino | M69: 5619.84 | N69: PESO | O69: 5619.84 | P69: PESO | Q69: =Tabla_549551!A65:A65 -> 62 | R69: =Tabla_549538!A65 -> 62 | S69: =Tabla_549552!A65 -> 62 | T69: =Tabla_549522!A65 -> 62 | U69: =Tabla_549542!A65 -> 62 | V69: =Tabla_549529!A65 -> 62 | W69: =Tabla_549539!A65 -> 62 | X69: =Tabla_549530!A65 -> 62 | Y69: =Tabla_549531!A65 -> 62 | Z69: =Tabla_549549!A65 -> 62 | AA69: =Tabla_549553!A65 -> 62 | AB69: =Tabla_549550!A65 -> 62 | AC69: =Tabla_549554!A65 -> 62 | AD69: TESORERÍA | AE69: 45449 | AF69: 45449 | AG69: manifestarle tenga de su conocimiento que de acuerdo a la LEY DE LOS TRABAJADORES AL SERVICIO DE LAS INSTITUCIONES PÚBLICAS DEL ESTADO DE SAN LUIS POTOSI en el Título Segundo de los trabajadores Capítulo I disposiciones generales en el ARTÍCULO 12. Son trabajadores eventuales ya que están al servicio de personal subordinado, por tiempo determinados o por cantidad presupuestada por el H. Ayuntamiento de Venado, S.L.P., y como lo indica la ley. En el CAPITULO V DE LOS SALARIOS en los artículos 38, 39, 40, 41,42 y 43 los salarios y prestaciones derivadas de la relación laboral a las que se hace acreedor el trabajador, tomando en cuenta que la presente administración se rige bajo los criterios de austeridad. http://www.cegaipslp.org.mx/HV2021Tres.nsf/nombre_de_la_vista/2BB8908599B386B28625879F005F8E00/$File/REMUNERACIONES.pdf
A70: 2022 | B70: 44682 | C70: 44712 | D70: Otro | E70: PENSIONADO | F70: PENSIONES | G70: PENSIONADO | H70: PENSIONES | I70: ANDREA | J70: RUIZ | K70: LOPEZ | L70: Femenino | M70: 3828.3 | N70: PESO | O70: 3828.3 | P70: PESO | Q70: =Tabla_549551!A66 -> 63 | R70: =Tabla_549538!A66 -> 63 | S70: =Tabla_549552!A66 -> 63 | T70: =Tabla_549522!A66 -> 63 | U70: =Tabla_549542!A66 -> 63 | V70: =Tabla_549529!A66 -> 63 | W70: =Tabla_549539!A66 -> 63 | X70: =Tabla_549530!A66 -> 63 | Y70: =Tabla_549531!A66 -> 63 | Z70: =Tabla_549549!A66 -> 63 | AA70: =Tabla_549553!A66 -> 63 | AB70: =Tabla_549550!A66 -> 63 | AC70: =Tabla_549554!A66 -> 63 | AD70: TESORERÍA | AE70: 45449 | AF70: 45449 | AG70: manifestarle tenga de su conocimiento que de acuerdo a la LEY DE LOS TRABAJADORES AL SERVICIO DE LAS INSTITUCIONES PÚBLICAS DEL ESTADO DE SAN LUIS POTOSI en el Título Segundo de los trabajadores Capítulo I disposiciones generales en el ARTÍCULO 12. Son trabajadores eventuales ya que están al servicio de personal subordinado, por tiempo determinados o por cantidad presupuestada por el H. Ayuntamiento de Venado, S.L.P., y como lo indica la ley. En el CAPITULO V DE LOS SALARIOS en los artículos 38, 39, 40, 41,42 y 43 los salarios y prestaciones derivadas de la relación laboral a las que se hace acreedor el trabajador, tomando en cuenta que la presente administración se rige bajo los criterios de austeridad. http://www.cegaipslp.org.mx/HV2021Tres.nsf/nombre_de_la_vista/2BB8908599B386B28625879F005F8E00/$File/REMUNERACIONES.pdf
A71: 2022 | B71: 44682 | C71: 44712 | D71: Otro | E71: PENSIONADO | F71: PENSIONES | G71: PENSIONADO | H71: PENSIONES | I71: JORGE | J71: RIVERA | K71: OVALLE | L71: Masculino | M71: 5484.9 | N71: PESO | O71: 5484.9 | P71: PESO | Q71: =Tabla_549551!A67:A67 -> 64 | R71: =Tabla_549538!A67 -> 64 | S71: =Tabla_549552!A67 -> 64 | T71: =Tabla_549522!A67 -> 64 | U71: =Tabla_549542!A67 -> 64 | V71: =Tabla_549529!A67 -> 64 | W71: =Tabla_549539!A67 -> 64 | X71: =Tabla_549530!A67 -> 64 | Y71: =Tabla_549531!A67 -> 64 | Z71: =Tabla_549549!A67 -> 64 | AA71: =Tabla_549553!A67 -> 64 | AB71: =Tabla_549550!A67 -> 64 | AC71: =Tabla_549554!A67 -> 64 | AD71: TESORERÍA | AE71: 45449 | AF71: 45449 | AG71: manifestarle tenga de su conocimiento que de acuerdo a la LEY DE LOS TRABAJADORES AL SERVICIO DE LAS INSTITUCIONES PÚBLICAS DEL ESTADO DE SAN LUIS POTOSI en el Título Segundo de los trabajadores Capítulo I disposiciones generales en el ARTÍCULO 12. Son trabajadores eventuales ya que están al servicio de personal subordinado, por tiempo determinados o por cantidad presupuestada por el H. Ayuntamiento de Venado, S.L.P., y como lo indica la ley. En el CAPITULO V DE LOS SALARIOS en los artículos 38, 39, 40, 41,42 y 43 los salarios y prestaciones derivadas de la relación laboral a las que se hace acreedor el trabajador, tomando en cuenta que la presente administración se rige bajo los criterios de austeridad. http://www.cegaipslp.org.mx/HV2021Tres.nsf/nombre_de_la_vista/2BB8908599B386B28625879F005F8E00/$File/REMUNERACIONES.pdf
A72: 2022 | B72: 44682 | C72: 44712 | D72: Otro | E72: PENSIONADO | F72: PENSIONES | G72: PENSIONADO | H72: PENSIONES | I72: JOSE ACENCION | J72: MARTINEZ | K72: LOPEZ | L72: Masculino | M72: 5370 | N72: PESO | O72: 5370 | P72: PESO | Q72: =Tabla_549551!A68 -> 65 | R72: =Tabla_549538!A68 -> 65 | S72: =Tabla_549552!A68 -> 65 | T72: =Tabla_549522!A68 -> 65 | U72: =Tabla_549542!A68 -> 65 | V72: =Tabla_549529!A68 -> 65 | W72: =Tabla_549539!A68 -> 65 | X72: =Tabla_549530!A68 -> 65 | Y72: =Tabla_549531!A68 -> 65 | Z72: =Tabla_549549!A68 -> 65 | AA72: =Tabla_549553!A68 -> 65 | AB72: =Tabla_549550!A68 -> 65 | AC72: =Tabla_549554!A68 -> 65 | AD72: TESORERÍA | AE72: 45449 | AF72: 45449 | AG72: manifestarle tenga de su conocimiento que de acuerdo a la LEY DE LOS TRABAJADORES AL SERVICIO DE LAS INSTITUCIONES PÚBLICAS DEL ESTADO DE SAN LUIS POTOSI en el Título Segundo de los trabajadores Capítulo I disposiciones generales en el ARTÍCULO 12. Son trabajadores eventuales ya que están al servicio de personal subordinado, por tiempo determinados o por cantidad presupuestada por el H. Ayuntamiento de Venado, S.L.P., y como lo indica la ley. En el CAPITULO V DE LOS SALARIOS en los artículos 38, 39, 40, 41,42 y 43 los salarios y prestaciones derivadas de la relación laboral a las que se hace acreedor el trabajador, tomando en cuenta que la presente administración se rige bajo los criterios de austeridad. http://www.cegaipslp.org.mx/HV2021Tres.nsf/nombre_de_la_vista/2BB8908599B386B28625879F005F8E00/$File/REMUNERACIONES.pdf
A73: 2022 | B73: 44682 | C73: 44712 | D73: Otro | E73: PENSIONADO | F73: PENSIONES | G73: PENSIONADO | H73: PENSIONES | I73: JULIO | J73: ORTEGA | K73: HUERTA | L73: Masculino | M73: 7122 | N73: PESO | O73: 7122 | P73: PESO | Q73: =Tabla_549551!A69:A69 -> 66 | R73: =Tabla_549538!A69 -> 66 | S73: =Tabla_549552!A69 -> 66 | T73: =Tabla_549522!A69 -> 66 | U73: =Tabla_549542!A69 -> 66 | V73: =Tabla_549529!A69 -> 66 | W73: =Tabla_549539!A69 -> 66 | X73: =Tabla_549530!A69 -> 66 | Y73: =Tabla_549531!A69 -> 66 | Z73: =Tabla_549549!A69 -> 66 | AA73: =Tabla_549553!A69 -> 66 | AB73: =Tabla_549550!A69 -> 66 | AC73: =Tabla_549554!A69 -> 66 | AD73: TESORERÍA | AE73: 45449 | AF73: 45449 | AG73: manifestarle tenga de su conocimiento que de acuerdo a la LEY DE LOS TRABAJADORES AL SERVICIO DE LAS INSTITUCIONES PÚBLICAS DEL ESTADO DE SAN LUIS POTOSI en el Título Segundo de los trabajadores Capítulo I disposiciones generales en el ARTÍCULO 12. Son trabajadores eventuales ya que están al servicio de personal subordinado, por tiempo determinados o por cantidad presupuestada por el H. Ayuntamiento de Venado, S.L.P., y como lo indica la ley. En el CAPITULO V DE LOS SALARIOS en los artículos 38, 39, 40, 41,42 y 43 los salarios y prestaciones derivadas de la relación laboral a las que se hace acreedor el trabajador, tomando en cuenta que la presente administración se rige bajo los criterios de austeridad. http://www.cegaipslp.org.mx/HV2021Tres.nsf/nombre_de_la_vista/2BB8908599B386B28625879F005F8E00/$File/REMUNERACIONES.pdf
A74: 2022 | B74: 44682 | C74: 44712 | D74: Otro | E74: PENSIONADO | F74: PENSIONES | G74: PENSIONADO | H74: PENSIONES | I74: CLETA | J74: RIVERA | K74: FLORES | L74: Femenino | M74: 4827 | N74: PESO | O74: 4827 | P74: PESO | Q74: =Tabla_549551!A70 -> 67 | R74: =Tabla_549538!A70 -> 67 | S74: =Tabla_549552!A70 -> 67 | T74: =Tabla_549522!A70 -> 67 | U74: =Tabla_549542!A70 -> 67 | V74: =Tabla_549529!A70 -> 67 | W74: =Tabla_549539!A70 -> 67 | X74: =Tabla_549530!A70 -> 67 | Y74: =Tabla_549531!A70 -> 67 | Z74: =Tabla_549549!A70 -> 67 | AA74: =Tabla_549553!A70 -> 67 | AB74: =Tabla_549550!A70 -> 67 | AC74: =Tabla_549554!A70 -> 67 | AD74: TESORERÍA | AE74: 45449 | AF74: 45449 | AG74: manifestarle tenga de su conocimiento que de acuerdo a la LEY DE LOS TRABAJADORES AL SERVICIO DE LAS INSTITUCIONES PÚBLICAS DEL ESTADO DE SAN LUIS POTOSI en el Título Segundo de los trabajadores Capítulo I disposiciones generales en el ARTÍCULO 12. Son trabajadores eventuales ya que están al servicio de personal subordinado, por tiempo determinados o por cantidad presupuestada por el H. Ayuntamiento de Venado, S.L.P., y como lo indica la ley. En el CAPITULO V DE LOS SALARIOS en los artículos 38, 39, 40, 41,42 y 43 los salarios y prestaciones derivadas de la relación laboral a las que se hace acreedor el trabajador, tomando en cuenta que la presente administración se rige bajo los criterios de austeridad. http://www.cegaipslp.org.mx/HV2021Tres.nsf/nombre_de_la_vista/2BB8908599B386B28625879F005F8E00/$File/REMUNERACIONES.pdf
A75: 2022 | B75: 44682 | C75: 44712 | D75: Empleado | E75: AYUDANTE | F75: RASTRO MUNICIPAL | G75: AYUDANTE | H75: RASTRO MUNICIPAL | I75: JOSE GUADALUPE | J75: VALDEZ | K75: MORENO | L75: Masculino | M75: 5253.9 | N75: PESO | O75: 5266.74 | P75: PESO | Q75: =Tabla_549551!A71:A71 -> 68 | R75: =Tabla_549538!A71 -> 68 | S75: =Tabla_549552!A71 -> 68 | T75: =Tabla_549522!A71 -> 68 | U75: =Tabla_549542!A71 -> 68 | V75: =Tabla_549529!A71 -> 68 | W75: =Tabla_549539!A71 -> 68 | X75: =Tabla_549530!A71 -> 68 | Y75: =Tabla_549531!A71 -> 68 | Z75: =Tabla_549549!A71 -> 68 | AA75: =Tabla_549553!A71 -> 68 | AB75: =Tabla_549550!A71 -> 68 | AC75: =Tabla_549554!A71 -> 68 | AD75: TESORERÍA | AE75: 45449 | AF75: 45449 | AG75: manifestarle tenga de su conocimiento que de acuerdo a la LEY DE LOS TRABAJADORES AL SERVICIO DE LAS INSTITUCIONES PÚBLICAS DEL ESTADO DE SAN LUIS POTOSI en el Título Segundo de los trabajadores Capítulo I disposiciones generales en el ARTÍCULO 12. Son trabajadores eventuales ya que están al servicio de personal subordinado, por tiempo determinados o por cantidad presupuestada por el H. Ayuntamiento de Venado, S.L.P., y como lo indica la ley. En el CAPITULO V DE LOS SALARIOS en los artículos 38, 39, 40, 41,42 y 43 los salarios y prestaciones derivadas de la relación laboral a las que se hace acreedor el trabajador, tomando en cuenta que la presente administración se rige bajo los criterios de austeridad. http://www.cegaipslp.org.mx/HV2021Tres.nsf/nombre_de_la_vista/2BB8908599B386B28625879F005F8E00/$File/REMUNERACIONES.pdf
A76: 2022 | B76: 44682 | C76: 44712 | D76: Empleado | E76: AYUDANTE DE RASTRO MPAL. | F76: RASTRO MUNICIPAL | G76: AYUDANTE | H76: RASTRO MUNICIPAL | I76: TOMAS | J76: FLORES | K76: RIVERA | L76: Masculino | M76: 6491.1 | N76: PESO | O76: 6305.44 | P76: PESO | Q76: =Tabla_549551!A72 -> 69 | R76: =Tabla_549538!A72 -> 69 | S76: =Tabla_549552!A72 -> 69 | T76: =Tabla_549522!A72 -> 69 | U76: =Tabla_549542!A72 -> 69 | V76: =Tabla_549529!A72 -> 69 | W76: =Tabla_549539!A72 -> 69 | X76: =Tabla_549530!A72 -> 69 | Y76: =Tabla_549531!A72 -> 69 | Z76: =Tabla_549549!A72 -> 69 | AA76: =Tabla_549553!A72 -> 69 | AB76: =Tabla_549550!A72 -> 69 | AC76: =Tabla_549554!A72 -> 69 | AD76: TESORERÍA | AE76: 45449 | AF76: 45449 | AG76: manifestarle tenga de su conocimiento que de acuerdo a la LEY DE LOS TRABAJADORES AL SERVICIO DE LAS INSTITUCIONES PÚBLICAS DEL ESTADO DE SAN LUIS POTOSI en el Título Segundo de los trabajadores Capítulo I disposiciones generales en el ARTÍCULO 12. Son trabajadores eventuales ya que están al servicio de personal subordinado, por tiempo determinados o por cantidad presupuestada por el H. Ayuntamiento de Venado, S.L.P., y como lo indica la ley. En el CAPITULO V DE LOS SALARIOS en los artículos 38, 39, 40, 41,42 y 43 los salarios y prestaciones derivadas de la relación laboral a las que se hace acreedor el trabajador, tomando en cuenta que la presente administración se rige bajo los criterios de austeridad. http://www.cegaipslp.org.mx/HV2021Tres.nsf/nombre_de_la_vista/2BB8908599B386B28625879F005F8E00/$File/REMUNERACIONES.pdf
A77: 2022 | B77: 44682 | C77: 44712 | D77: Empleado | E77: AYUDANTE DE RASTRO MPAL. | F77: RASTRO MUNICIPAL | G77: AYUDANTE DE RASTRO MPAL. | H77: RASTRO MUNICIPAL | I77: J. ASCENCION | J77: MORENO | K77: LOPEZ | L77: Masculino | M77: 7357.8 | N77: PESO | O77: 6827.64 | P77: PESO | Q77: =Tabla_549551!A73:A73 -> 70 | R77: =Tabla_549538!A73 -> 70 | S77: =Tabla_549552!A73 -> 70 | T77: =Tabla_549522!A73 -> 70 | U77: =Tabla_549542!A73 -> 70 | V77: =Tabla_549529!A73 -> 70 | W77: =Tabla_549539!A73 -> 70 | X77: =Tabla_549530!A73 -> 70 | Y77: =Tabla_549531!A73 -> 70 | Z77: =Tabla_549549!A73 -> 70 | AA77: =Tabla_549553!A73 -> 70 | AB77: =Tabla_549550!A73 -> 70 | AC77: =Tabla_549554!A73 -> 70 | AD77: TESORERÍA | AE77: 45449 | AF77: 45449 | AG77: manifestarle tenga de su conocimiento que de acuerdo a la LEY DE LOS TRABAJADORES AL SERVICIO DE LAS INSTITUCIONES PÚBLICAS DEL ESTADO DE SAN LUIS POTOSI en el Título Segundo de los trabajadores Capítulo I disposiciones generales en el ARTÍCULO 12. Son trabajadores eventuales ya que están al servicio de personal subordinado, por tiempo determinados o por cantidad presupuestada por el H. Ayuntamiento de Venado, S.L.P., y como lo indica la ley. En el CAPITULO V DE LOS SALARIOS en los artículos 38, 39, 40, 41,42 y 43 los salarios y prestaciones derivadas de la relación laboral a las que se hace acreedor el trabajador, tomando en cuenta que la presente administración se rige bajo los criterios de austeridad. http://www.cegaipslp.org.mx/HV2021Tres.nsf/nombre_de_la_vista/2BB8908599B386B28625879F005F8E00/$File/REMUNERACIONES.pdf
A78: 2022 | B78: 44682 | C78: 44712 | D78: Empleado | E78: M.V.Z. DE RASTRO MPAL. | F78: RASTRO MUNICIPAL | G78: MEDICO VETERINARIO ZOTECNISTA | H78: RASTRO MUNICIPAL | I78: QUIRINO | J78: RODRIGUEZ | K78: GUTIERREZ | L78: Masculino | M78: 7587.1 | N78: PESO | O78: 7032 | P78: PESO | Q78: =Tabla_549551!A74 -> 71 | R78: =Tabla_549538!A74 -> 71 | S78: =Tabla_549552!A74 -> 71 | T78: =Tabla_549522!A74 -> 71 | U78: =Tabla_549542!A74 -> 71 | V78: =Tabla_549529!A74 -> 71 | W78: =Tabla_549539!A74 -> 71 | X78: =Tabla_549530!A74 -> 71 | Y78: =Tabla_549531!A74 -> 71 | Z78: =Tabla_549549!A74 -> 71 | AA78: =Tabla_549553!A74 -> 71 | AB78: =Tabla_549550!A74 -> 71 | AC78: =Tabla_549554!A74 -> 71 | AD78: TESORERÍA | AE78: 45449 | AF78: 45449 | AG78: manifestarle tenga de su conocimiento que de acuerdo a la LEY DE LOS TRABAJADORES AL SERVICIO DE LAS INSTITUCIONES PÚBLICAS DEL ESTADO DE SAN LUIS POTOSI en el Título Segundo de los trabajadores Capítulo I disposiciones generales en el ARTÍCULO 12. Son trabajadores eventuales ya que están al servicio de personal subordinado, por tiempo determinados o por cantidad presupuestada por el H. Ayuntamiento de Venado, S.L.P., y como lo indica la ley. En el CAPITULO V DE LOS SALARIOS en los artículos 38, 39, 40, 41,42 y 43 los salarios y prestaciones derivadas de la relación laboral a las que se hace acreedor el trabajador, tomando en cuenta que la presente administración se rige bajo los criterios de austeridad. http://www.cegaipslp.org.mx/HV2021Tres.nsf/nombre_de_la_vista/2BB8908599B386B28625879F005F8E00/$File/REMUNERACIONES.pdf
A79: 2022 | B79: 44682 | C79: 44712 | D79: Empleado | E79: AUXILIAR DEL RASTRO | F79: RASTRO MUNICIPAL | G79: AUXILIAR | H79: RASTRO MUNICIPAL | I79: JORGE | J79: SANCHEZ | K79: BENITEZ | L79: Masculino | M79: 7236.3 | N79: PESO | O79: 6934.1 | P79: PESO | Q79: =Tabla_549551!A75:A75 -> 72 | R79: =Tabla_549538!A75 -> 72 | S79: =Tabla_549552!A75 -> 72 | T79: =Tabla_549522!A75 -> 72 | U79: =Tabla_549542!A75 -> 72 | V79: =Tabla_549529!A75 -> 72 | W79: =Tabla_549539!A75 -> 72 | X79: =Tabla_549530!A75 -> 72 | Y79: =Tabla_549531!A75 -> 72 | Z79: =Tabla_549549!A75 -> 72 | AA79: =Tabla_549553!A75 -> 72 | AB79: =Tabla_549550!A75 -> 72 | AC79: =Tabla_549554!A75 -> 72 | AD79: TESORERÍA | AE79: 45449 | AF79: 45449 | AG79: manifestarle tenga de su conocimiento que de acuerdo a la LEY DE LOS TRABAJADORES AL SERVICIO DE LAS INSTITUCIONES PÚBLICAS DEL ESTADO DE SAN LUIS POTOSI en el Título Segundo de los trabajadores Capítulo I disposiciones generales en el ARTÍCULO 12. Son trabajadores eventuales ya que están al servicio de personal subordinado, por tiempo determinados o por cantidad presupuestada por el H. Ayuntamiento de Venado, S.L.P., y como lo indica la ley. En el CAPITULO V DE LOS SALARIOS en los artículos 38, 39, 40, 41,42 y 43 los salarios y prestaciones derivadas de la relación laboral a las que se hace acreedor el trabajador, tomando en cuenta que la presente administración se rige bajo los criterios de austeridad. http://www.cegaipslp.org.mx/HV2021Tres.nsf/nombre_de_la_vista/2BB8908599B386B28625879F005F8E00/$File/REMUNERACIONES.pdf
A80: 2022 | B80: 44682 | C80: 44712 | D80: Empleado | E80: SECRETARIA "A" | F80: REGISTRO CIVIL | G80: SECRETARIA | H80: REGISTRO CIVIL | I80: MA DEL ROCIO | J80: HERNANDEZ | K80: VAZQUEZ | L80: Femenino | M80: 11294.4 | N80: PESO | O80: 10238.38 | P80: PESO | Q80: =Tabla_549551!A76 -> 73 | R80: =Tabla_549538!A76 -> 73 | S80: =Tabla_549552!A76 -> 73 | T80: =Tabla_549522!A76 -> 73 | U80: =Tabla_549542!A76 -> 73 | V80: =Tabla_549529!A76 -> 73 | W80: =Tabla_549539!A76 -> 73 | X80: =Tabla_549530!A76 -> 73 | Y80: =Tabla_549531!A76 -> 73 | Z80: =Tabla_549549!A76 -> 73 | AA80: =Tabla_549553!A76 -> 73 | AB80: =Tabla_549550!A76 -> 73 | AC80: =Tabla_549554!A76 -> 73 | AD80: TESORERÍA | AE80: 45449 | AF80: 45449 | AG80: manifestarle tenga de su conocimiento que de acuerdo a la LEY DE LOS TRABAJADORES AL SERVICIO DE LAS INSTITUCIONES PÚBLICAS DEL ESTADO DE SAN LUIS POTOSI en el Título Segundo de los trabajadores Capítulo I disposiciones generales en el ARTÍCULO 12. Son trabajadores eventuales ya que están al servicio de personal subordinado, por tiempo determinados o por cantidad presupuestada por el H. Ayuntamiento de Venado, S.L.P., y como lo indica la ley. En el CAPITULO V DE LOS SALARIOS en los artículos 38, 39, 40, 41,42 y 43 los salarios y prestaciones derivadas de la relación laboral a las que se hace acreedor el trabajador, tomando en cuenta que la presente administración se rige bajo los criterios de austeridad. http://www.cegaipslp.org.mx/HV2021Tres.nsf/nombre_de_la_vista/2BB8908599B386B28625879F005F8E00/$File/REMUNERACIONES.pdf
A81: 2022 | B81: 44682 | C81: 44712 | D81: Empleado | E81: SECRETARIA "A" | F81: REGISTRO CIVIL | G81: SECRETARIA | H81: REGISTRO CIVIL | I81: LAURA | J81: RIVERA | K81: VALDEZ | L81: Femenino | M81: 11297.4 | N81: PESO | O81: 10238.38 | P81: PESO | Q81: =Tabla_549551!A77:A77 -> 74 | R81: =Tabla_549538!A77 -> 74 | S81: =Tabla_549552!A77 -> 74 | T81: =Tabla_549522!A77 -> 74 | U81: =Tabla_549542!A77 -> 74 | V81: =Tabla_549529!A77 -> 74 | W81: =Tabla_549539!A77 -> 74 | X81: =Tabla_549530!A77 -> 74 | Y81: =Tabla_549531!A77 -> 74 | Z81: =Tabla_549549!A77 -> 74 | AA81: =Tabla_549553!A77 -> 74 | AB81: =Tabla_549550!A77 -> 74 | AC81: =Tabla_549554!A77 -> 74 | AD81: TESORERÍA | AE81: 45449 | AF81: 45449 | AG81: manifestarle tenga de su conocimiento que de acuerdo a la LEY DE LOS TRABAJADORES AL SERVICIO DE LAS INSTITUCIONES PÚBLICAS DEL ESTADO DE SAN LUIS POTOSI en el Título Segundo de los trabajadores Capítulo I disposiciones generales en el ARTÍCULO 12. Son trabajadores eventuales ya que están al servicio de personal subordinado, por tiempo determinados o por cantidad presupuestada por el H. Ayuntamiento de Venado, S.L.P., y como lo indica la ley. En el CAPITULO V DE LOS SALARIOS en los artículos 38, 39, 40, 41,42 y 43 los salarios y prestaciones derivadas de la relación laboral a las que se hace acreedor el trabajador, tomando en cuenta que la presente administración se rige bajo los criterios de austeridad. http://www.cegaipslp.org.mx/HV2021Tres.nsf/nombre_de_la_vista/2BB8908599B386B28625879F005F8E00/$File/REMUNERACIONES.pdf
A82: 2022 | B82: 44682 | C82: 44712 | D82: Empleado | E82: SECRETARIA "B" | F82: REGISTRO CIVIL | G82: AUXILIAR | H82: REGISTRO CIVIL | I82: MA CRISTINA | J82: NORIEGA | K82: ESCANAME | L82: Femenino | M82: 9328.2 | N82: PESO | O82: 8583.66 | P82: PESO | Q82: =Tabla_549551!A78 -> 75 | R82: =Tabla_549538!A78 -> 75 | S82: =Tabla_549552!A78 -> 75 | T82: =Tabla_549522!A78 -> 75 | U82: =Tabla_549542!A78 -> 75 | V82: =Tabla_549529!A78 -> 75 | W82: =Tabla_549539!A78 -> 75 | X82: =Tabla_549530!A78 -> 75 | Y82: =Tabla_549531!A78 -> 75 | Z82: =Tabla_549549!A78 -> 75 | AA82: =Tabla_549553!A78 -> 75 | AB82: =Tabla_549550!A78 -> 75 | AC82: =Tabla_549554!A78 -> 75 | AD82: TESORERÍA | AE82: 45449 | AF82: 45449 | AG82: manifestarle tenga de su conocimiento que de acuerdo a la LEY DE LOS TRABAJADORES AL SERVICIO DE LAS INSTITUCIONES PÚBLICAS DEL ESTADO DE SAN LUIS POTOSI en el Título Segundo de los trabajadores Capítulo I disposiciones generales en el ARTÍCULO 12. Son trabajadores eventuales ya que están al servicio de personal subordinado, por tiempo determinados o por cantidad presupuestada por el H. Ayuntamiento de Venado, S.L.P., y como lo indica la ley. En el CAPITULO V DE LOS SALARIOS en los artículos 38, 39, 40, 41,42 y 43 los salarios y prestaciones derivadas de la relación laboral a las que se hace acreedor el trabajador, tomando en cuenta que la presente administración se rige bajo los criterios de austeridad. http://www.cegaipslp.org.mx/HV2021Tres.nsf/nombre_de_la_vista/2BB8908599B386B28625879F005F8E00/$File/REMUNERACIONES.pdf
A83: 2022 | B83: 44682 | C83: 44712 | D83: Personal de confianza | E83: SECRETARIO GENERAL | F83: SECRETARÍA GENERAL | G83: SECRETARIO GENERAL | H83: SECRETARIA GENERAL | I83: PABLO | J83: RIVERA | K83: MARTINEZ | L83: Masculino | M83: 15994.14 | N83: PESO | O83: 14000 | P83: PESO | Q83: =Tabla_549551!A79:A79 -> 76 | R83: =Tabla_549538!A79 -> 76 | S83: =Tabla_549552!A79 -> 76 | T83: =Tabla_549522!A79 -> 76 | U83: =Tabla_549542!A79 -> 76 | V83: =Tabla_549529!A79 -> 76 | W83: =Tabla_549539!A79 -> 76 | X83: =Tabla_549530!A79 -> 76 | Y83: =Tabla_549531!A79 -> 76 | Z83: =Tabla_549549!A79 -> 76 | AA83: =Tabla_549553!A79 -> 76 | AB83: =Tabla_549550!A79 -> 76 | AC83: =Tabla_549554!A79 -> 76 | AD83: TESORERÍA | AE83: 45449 | AF83: 45449 | AG83: manifestarle tenga de su conocimiento que de acuerdo a la LEY DE LOS TRABAJADORES AL SERVICIO DE LAS INSTITUCIONES PÚBLICAS DEL ESTADO DE SAN LUIS POTOSI en el Título Segundo de los trabajadores Capítulo I disposiciones generales en el ARTÍCULO 12. Son trabajadores eventuales ya que están al servicio de personal subordinado, por tiempo determinados o por cantidad presupuestada por el H. Ayuntamiento de Venado, S.L.P., y como lo indica la ley. En el CAPITULO V DE LOS SALARIOS en los artículos 38, 39, 40, 41,42 y 43 los salarios y prestaciones derivadas de la relación laboral a las que se hace acreedor el trabajador, tomando en cuenta que la presente administración se rige bajo los criterios de austeridad. http://www.cegaipslp.org.mx/HV2021Tres.nsf/nombre_de_la_vista/2BB8908599B386B28625879F005F8E00/$File/REMUNERACIONES.pdf
A84: 2022 | B84: 44682 | C84: 44712 | D84: Empleado | E84: AYUDANTE DE SECRETARIA | F84: SECRETARÍA GENERAL | G84: AUXILIAR DE SECRETARIA GENERAL | H84: SECRETARIA GENERAL | I84: ANTONIO | J84: DE JESUS | K84: BUENROSTRO | L84: Masculino | M84: 11004.56 | N84: PESO | O84: 10000 | P84: PESO | Q84: =Tabla_549551!A80 -> 77 | R84: =Tabla_549538!A80 -> 77 | S84: =Tabla_549552!A80 -> 77 | T84: =Tabla_549522!A80 -> 77 | U84: =Tabla_549542!A80 -> 77 | V84: =Tabla_549529!A80 -> 77 | W84: =Tabla_549539!A80 -> 77 | X84: =Tabla_549530!A80 -> 77 | Y84: =Tabla_549531!A80 -> 77 | Z84: =Tabla_549549!A80 -> 77 | AA84: =Tabla_549553!A80 -> 77 | AB84: =Tabla_549550!A80 -> 77 | AC84: =Tabla_549554!A80 -> 77 | AD84: TESORERÍA | AE84: 45449 | AF84: 45449 | AG84: manifestarle tenga de su conocimiento que de acuerdo a la LEY DE LOS TRABAJADORES AL SERVICIO DE LAS INSTITUCIONES PÚBLICAS DEL ESTADO DE SAN LUIS POTOSI en el Título Segundo de los trabajadores Capítulo I disposiciones generales en el ARTÍCULO 12. Son trabajadores eventuales ya que están al servicio de personal subordinado, por tiempo determinados o por cantidad presupuestada por el H. Ayuntamiento de Venado, S.L.P., y como lo indica la ley. En el CAPITULO V DE LOS SALARIOS en los artículos 38, 39, 40, 41,42 y 43 los salarios y prestaciones derivadas de la relación laboral a las que se hace acreedor el trabajador, tomando en cuenta que la presente administración se rige bajo los criterios de austeridad. http://www.cegaipslp.org.mx/HV2021Tres.nsf/nombre_de_la_vista/2BB8908599B386B28625879F005F8E00/$File/REMUNERACIONES.pdf
A85: 2022 | B85: 44682 | C85: 44712 | D85: Personal de confianza | E85: DIRECTOR "B" | F85: SECRETARÍA GENERAL | G85: SECRETARIA DE SECRETARIA GENERAL | H85: SECRETARIA GENERAL | I85: MARIA | J85: CASTRO | K85: GONZALES | L85: Masculino | M85: 5654.04 | N85: PESO | O85: 5600 | P85: PESO | Q85: =Tabla_549551!A81:A81 -> 78 | R85: =Tabla_549538!A81 -> 78 | S85: =Tabla_549552!A81 -> 78 | T85: =Tabla_549522!A81 -> 78 | U85: =Tabla_549542!A81 -> 78 | V85: =Tabla_549529!A81 -> 78 | W85: =Tabla_549539!A81 -> 78 | X85: =Tabla_549530!A81 -> 78 | Y85: =Tabla_549531!A81 -> 78 | Z85: =Tabla_549549!A81 -> 78 | AA85: =Tabla_549553!A81 -> 78 | AB85: =Tabla_549550!A81 -> 78 | AC85: =Tabla_549554!A81 -> 78 | AD85: TESORERÍA | AE85: 45449 | AF85: 45449 | AG85: manifestarle tenga de su conocimiento que de acuerdo a la LEY DE LOS TRABAJADORES AL SERVICIO DE LAS INSTITUCIONES PÚBLICAS DEL ESTADO DE SAN LUIS POTOSI en el Título Segundo de los trabajadores Capítulo I disposiciones generales en el ARTÍCULO 12. Son trabajadores eventuales ya que están al servicio de personal subordinado, por tiempo determinados o por cantidad presupuestada por el H. Ayuntamiento de Venado, S.L.P., y como lo indica la ley. En el CAPITULO V DE LOS SALARIOS en los artículos 38, 39, 40, 41,42 y 43 los salarios y prestaciones derivadas de la relación laboral a las que se hace acreedor el trabajador, tomando en cuenta que la presente administración se rige bajo los criterios de austeridad. http://www.cegaipslp.org.mx/HV2021Tres.nsf/nombre_de_la_vista/2BB8908599B386B28625879F005F8E00/$File/REMUNERACIONES.pdf
A86: 2022 | B86: 44682 | C86: 44712 | D86: Empleado | E86: CHOFER "B" | F86: SECRETARÍA GENERAL | G86: CHOFER | H86: SECRETARIA GENERAL | I86: CELSO | J86: DELGADO | K86: ESCOBEDO | L86: Masculino | M86: 6235.8 | N86: PESO | O86: 6077.92 | P86: PESO | Q86: =Tabla_549551!A82 -> 79 | R86: =Tabla_549538!A82 -> 79 | S86: =Tabla_549552!A82 -> 79 | T86: =Tabla_549522!A82 -> 79 | U86: =Tabla_549542!A82 -> 79 | V86: =Tabla_549529!A82 -> 79 | W86: =Tabla_549539!A82 -> 79 | X86: =Tabla_549530!A82 -> 79 | Y86: =Tabla_549531!A82 -> 79 | Z86: =Tabla_549549!A82 -> 79 | AA86: =Tabla_549553!A82 -> 79 | AB86: =Tabla_549550!A82 -> 79 | AC86: =Tabla_549554!A82 -> 79 | AD86: TESORERÍA | AE86: 45449 | AF86: 45449 | AG86: manifestarle tenga de su conocimiento que de acuerdo a la LEY DE LOS TRABAJADORES AL SERVICIO DE LAS INSTITUCIONES PÚBLICAS DEL ESTADO DE SAN LUIS POTOSI en el Título Segundo de los trabajadores Capítulo I disposiciones generales en el ARTÍCULO 12. Son trabajadores eventuales ya que están al servicio de personal subordinado, por tiempo determinados o por cantidad presupuestada por el H. Ayuntamiento de Venado, S.L.P., y como lo indica la ley. En el CAPITULO V DE LOS SALARIOS en los artículos 38, 39, 40, 41,42 y 43 los salarios y prestaciones derivadas de la relación laboral a las que se hace acreedor el trabajador, tomando en cuenta que la presente administración se rige bajo los criterios de austeridad. http://www.cegaipslp.org.mx/HV2021Tres.nsf/nombre_de_la_vista/2BB8908599B386B28625879F005F8E00/$File/REMUNERACIONES.pdf
A87: 2022 | B87: 44682 | C87: 44712 | D87: Empleado | E87: CHOFER "B" | F87: SECRETARÍA GENERAL | G87: CHOFER DE AMBULANCIA | H87: SECRETARIA GENERAL | I87: JUVENAL | J87: SEGOVIA | K87: PUENTE | L87: Masculino | M87: 6235.8 | N87: PESO | O87: 6077.92 | P87: PESO | Q87: =Tabla_549551!A83:A83 -> 80 | R87: =Tabla_549538!A83 -> 80 | S87: =Tabla_549552!A83 -> 80 | T87: =Tabla_549522!A83 -> 80 | U87: =Tabla_549542!A83 -> 80 | V87: =Tabla_549529!A83 -> 80 | W87: =Tabla_549539!A83 -> 80 | X87: =Tabla_549530!A83 -> 80 | Y87: =Tabla_549531!A83 -> 80 | Z87: =Tabla_549549!A83 -> 80 | AA87: =Tabla_549553!A83 -> 80 | AB87: =Tabla_549550!A83 -> 80 | AC87: =Tabla_549554!A83 -> 80 | AD87: TESORERÍA | AE87: 45449 | AF87: 45449 | AG87: manifestarle tenga de su conocimiento que de acuerdo a la LEY DE LOS TRABAJADORES AL SERVICIO DE LAS INSTITUCIONES PÚBLICAS DEL ESTADO DE SAN LUIS POTOSI en el Título Segundo de los trabajadores Capítulo I disposiciones generales en el ARTÍCULO 12. Son trabajadores eventuales ya que están al servicio de personal subordinado, por tiempo determinados o por cantidad presupuestada por el H. Ayuntamiento de Venado, S.L.P., y como lo indica la ley. En el CAPITULO V DE LOS SALARIOS en los artículos 38, 39, 40, 41,42 y 43 los salarios y prestaciones derivadas de la relación laboral a las que se hace acreedor el trabajador, tomando en cuenta que la presente administración se rige bajo los criterios de austeridad. http://www.cegaipslp.org.mx/HV2021Tres.nsf/nombre_de_la_vista/2BB8908599B386B28625879F005F8E00/$File/REMUNERACIONES.pdf
A88: 2022 | B88: 44682 | C88: 44712 | D88: Empleado | E88: SECRETARIA "B" | F88: SECRETARÍA GENERAL | G88: SECRETARIA DE SECRETARIA GENERAL | H88: SECRETARIA GENERAL | I88: BRENDA ELIZABETH | J88: TORRES | K88: RIVERA | L88: Femenino | M88: 10367.64 | N88: PESO | O88: 9464.98 | P88: PESO | Q88: =Tabla_549551!A84 -> 81 | R88: =Tabla_549538!A84 -> 81 | S88: =Tabla_549552!A84 -> 81 | T88: =Tabla_549522!A84 -> 81 | U88: =Tabla_549542!A84 -> 81 | V88: =Tabla_549529!A84 -> 81 | W88: =Tabla_549539!A84 -> 81 | X88: =Tabla_549530!A84 -> 81 | Y88: =Tabla_549531!A84 -> 81 | Z88: =Tabla_549549!A84 -> 81 | AA88: =Tabla_549553!A84 -> 81 | AB88: =Tabla_549550!A84 -> 81 | AC88: =Tabla_549554!A84 -> 81 | AD88: TESORERÍA | AE88: 45449 | AF88: 45449 | AG88: manifestarle tenga de su conocimiento que de acuerdo a la LEY DE LOS TRABAJADORES AL SERVICIO DE LAS INSTITUCIONES PÚBLICAS DEL ESTADO DE SAN LUIS POTOSI en el Título Segundo de los trabajadores Capítulo I disposiciones generales en el ARTÍCULO 12. Son trabajadores eventuales ya que están al servicio de personal subordinado, por tiempo determinados o por cantidad presupuestada por el H. Ayuntamiento de Venado, S.L.P., y como lo indica la ley. En el CAPITULO V DE LOS SALARIOS en los artículos 38, 39, 40, 41,42 y 43 los salarios y prestaciones derivadas de la relación laboral a las que se hace acreedor el trabajador, tomando en cuenta que la presente administración se rige bajo los criterios de austeridad. http://www.cegaipslp.org.mx/HV2021Tres.nsf/nombre_de_la_vista/2BB8908599B386B28625879F005F8E00/$File/REMUNERACIONES.pdf
A89: 2022 | B89: 44682 | C89: 44712 | D89: Empleado | E89: SECRETARIA "B" | F89: SECRETARÍA GENERAL | G89: SECRETARIA DE SECRETARIA GENERAL | H89: SECRETARIA GENERAL | I89: ANA LUISA | J89: CORONADO | K89: ALFARO | L89: Femenino | M89: 10742.7 | N89: PESO | O89: 9780.04 | P89: PESO | Q89: =Tabla_549551!A85:A85 -> 82 | R89: =Tabla_549538!A85 -> 82 | S89: =Tabla_549552!A85 -> 82 | T89: =Tabla_549522!A85 -> 82 | U89: =Tabla_549542!A85 -> 82 | V89: =Tabla_549529!A85 -> 82 | W89: =Tabla_549539!A85 -> 82 | X89: =Tabla_549530!A85 -> 82 | Y89: =Tabla_549531!A85 -> 82 | Z89: =Tabla_549549!A85 -> 82 | AA89: =Tabla_549553!A85 -> 82 | AB89: =Tabla_549550!A85 -> 82 | AC89: =Tabla_549554!A85 -> 82 | AD89: TESORERÍA | AE89: 45449 | AF89: 45449 | AG89: manifestarle tenga de su conocimiento que de acuerdo a la LEY DE LOS TRABAJADORES AL SERVICIO DE LAS INSTITUCIONES PÚBLICAS DEL ESTADO DE SAN LUIS POTOSI en el Título Segundo de los trabajadores Capítulo I disposiciones generales en el ARTÍCULO 12. Son trabajadores eventuales ya que están al servicio de personal subordinado, por tiempo determinados o por cantidad presupuestada por el H. Ayuntamiento de Venado, S.L.P., y como lo indica la ley. En el CAPITULO V DE LOS SALARIOS en los artículos 38, 39, 40, 41,42 y 43 los salarios y prestaciones derivadas de la relación laboral a las que se hace acreedor el trabajador, tomando en cuenta que la presente administración se rige bajo los criterios de austeridad. http://www.cegaipslp.org.mx/HV2021Tres.nsf/nombre_de_la_vista/2BB8908599B386B28625879F005F8E00/$File/REMUNERACIONES.pdf
A90: 2022 | B90: 44682 | C90: 44712 | D90: Empleado | E90: ASISTENTE TECNICO "B" | F90: SECRETARÍA GENERAL | G90: AUXILIAR DE SECRETARIA GENERAL | H90: SECRETARIA GENERAL | I90: ROGELIO | J90: LIMON | K90: FLORES | L90: Masculino | M90: 8681.4 | N90: PESO | O90: 8007.24 | P90: PESO | Q90: =Tabla_549551!A86 -> 83 | R90: =Tabla_549538!A86 -> 83 | S90: =Tabla_549552!A86 -> 83 | T90: =Tabla_549522!A86 -> 83 | U90: =Tabla_549542!A86 -> 83 | V90: =Tabla_549529!A86 -> 83 | W90: =Tabla_549539!A86 -> 83 | X90: =Tabla_549530!A86 -> 83 | Y90: =Tabla_549531!A86 -> 83 | Z90: =Tabla_549549!A86 -> 83 | AA90: =Tabla_549553!A86 -> 83 | AB90: =Tabla_549550!A86 -> 83 | AC90: =Tabla_549554!A86 -> 83 | AD90: TESORERÍA | AE90: 45449 | AF90: 45449 | AG90: manifestarle tenga de su conocimiento que de acuerdo a la LEY DE LOS TRABAJADORES AL SERVICIO DE LAS INSTITUCIONES PÚBLICAS DEL ESTADO DE SAN LUIS POTOSI en el Título Segundo de los trabajadores Capítulo I disposiciones generales en el ARTÍCULO 12. Son trabajadores eventuales ya que están al servicio de personal subordinado, por tiempo determinados o por cantidad presupuestada por el H. Ayuntamiento de Venado, S.L.P., y como lo indica la ley. En el CAPITULO V DE LOS SALARIOS en los artículos 38, 39, 40, 41,42 y 43 los salarios y prestaciones derivadas de la relación laboral a las que se hace acreedor el trabajador, tomando en cuenta que la presente administración se rige bajo los criterios de austeridad. http://www.cegaipslp.org.mx/HV2021Tres.nsf/nombre_de_la_vista/2BB8908599B386B28625879F005F8E00/$File/REMUNERACIONES.pdf
A91: 2022 | B91: 44682 | C91: 44712 | D91: Empleado | E91: CHOFER "A" | F91: SECRETARÍA GENERAL | G91: CHOFER | H91: SECRETARIA GENERAL PERSONAR EXTERNO | I91: MARIO | J91: VELAZQUEZ | K91: CISNEROS | L91: Masculino | M91: 7988.1 | N91: PESO | O91: 7389.36 | P91: PESO | Q91: =Tabla_549551!A87:A87 -> 84 | R91: =Tabla_549538!A87 -> 84 | S91: =Tabla_549552!A87 -> 84 | T91: =Tabla_549522!A87 -> 84 | U91: =Tabla_549542!A87 -> 84 | V91: =Tabla_549529!A87 -> 84 | W91: =Tabla_549539!A87 -> 84 | X91: =Tabla_549530!A87 -> 84 | Y91: =Tabla_549531!A87 -> 84 | Z91: =Tabla_549549!A87 -> 84 | AA91: =Tabla_549553!A87 -> 84 | AB91: =Tabla_549550!A87 -> 84 | AC91: =Tabla_549554!A87 -> 84 | AD91: TESORERÍA | AE91: 45449 | AF91: 45449 | AG91: manifestarle tenga de su conocimiento que de acuerdo a la LEY DE LOS TRABAJADORES AL SERVICIO DE LAS INSTITUCIONES PÚBLICAS DEL ESTADO DE SAN LUIS POTOSI en el Título Segundo de los trabajadores Capítulo I disposiciones generales en el ARTÍCULO 12. Son trabajadores eventuales ya que están al servicio de personal subordinado, por tiempo determinados o por cantidad presupuestada por el H. Ayuntamiento de Venado, S.L.P., y como lo indica la ley. En el CAPITULO V DE LOS SALARIOS en los artículos 38, 39, 40, 41,42 y 43 los salarios y prestaciones derivadas de la relación laboral a las que se hace acreedor el trabajador, tomando en cuenta que la presente administración se rige bajo los criterios de austeridad. http://www.cegaipslp.org.mx/HV2021Tres.nsf/nombre_de_la_vista/2BB8908599B386B28625879F005F8E00/$File/REMUNERACIONES.pdf
A92: 2022 | B92: 44682 | C92: 44712 | D92: Personal de confianza | E92: DIRECTOR | F92: INSTANCIA DE LA MUJER | G92: DIRECTORA DE LA INSTANCIA DE LA MUJER | H92: INSTANCIA DE LA MUJER | I92: MARIBEL | J92: AGUILAR | K92: ZAMARRON | L92: Femenino | M92: 4755.24 | N92: PESO | O92: 4800 | P92: PESO | Q92: =Tabla_549551!A88 -> 85 | R92: =Tabla_549538!A88 -> 85 | S92: =Tabla_549552!A88 -> 85 | T92: =Tabla_549522!A88 -> 85 | U92: =Tabla_549542!A88 -> 85 | V92: =Tabla_549529!A88 -> 85 | W92: =Tabla_549539!A88 -> 85 | X92: =Tabla_549530!A88 -> 85 | Y92: =Tabla_549531!A88 -> 85 | Z92: =Tabla_549549!A88 -> 85 | AA92: =Tabla_549553!A88 -> 85 | AB92: =Tabla_549550!A88 -> 85 | AC92: =Tabla_549554!A88 -> 85 | AD92: TESORERÍA | AE92: 45449 | AF92: 45449 | AG92: manifestarle tenga de su conocimiento que de acuerdo a la LEY DE LOS TRABAJADORES AL SERVICIO DE LAS INSTITUCIONES PÚBLICAS DEL ESTADO DE SAN LUIS POTOSI en el Título Segundo de los trabajadores Capítulo I disposiciones generales en el ARTÍCULO 12. Son trabajadores eventuales ya que están al servicio de personal subordinado, por tiempo determinados o por cantidad presupuestada por el H. Ayuntamiento de Venado, S.L.P., y como lo indica la ley. En el CAPITULO V DE LOS SALARIOS en los artículos 38, 39, 40, 41,42 y 43 los salarios y prestaciones derivadas de la relación laboral a las que se hace acreedor el trabajador, tomando en cuenta que la presente administración se rige bajo los criterios de austeridad. http://www.cegaipslp.org.mx/HV2021Tres.nsf/nombre_de_la_vista/2BB8908599B386B28625879F005F8E00/$File/REMUNERACIONES.pdf
A93: 2022 | B93: 44682 | C93: 44712 | D93: Empleado | E93: AGENTE DE TRANSITO MUNICIPAL | F93: SEGURIDAD PUBLICA | G93: AGENTE DE TRANSITO MUNICIPAL | H93: SEGURIDAD PUBLICA | I93: AURELIANO | J93: LUGO | K93: BUSTOS | L93: Masculino | M93: 6397.2 | N93: PESO | O93: 6221.76 | P93: PESO | Q93: =Tabla_549551!A89:A89 -> 86 | R93: =Tabla_549538!A89 -> 86 | S93: =Tabla_549552!A89 -> 86 | T93: =Tabla_549522!A89 -> 86 | U93: =Tabla_549542!A89 -> 86 | V93: =Tabla_549529!A89 -> 86 | W93: =Tabla_549539!A89 -> 86 | X93: =Tabla_549530!A89 -> 86 | Y93: =Tabla_549531!A89 -> 86 | Z93: =Tabla_549549!A89 -> 86 | AA93: =Tabla_549553!A89 -> 86 | AB93: =Tabla_549550!A89 -> 86 | AC93: =Tabla_549554!A89 -> 86 | AD93: TESORERÍA | AE93: 45449 | AF93: 45449 | AG93: manifestarle tenga de su conocimiento que de acuerdo a la LEY DE LOS TRABAJADORES AL SERVICIO DE LAS INSTITUCIONES PÚBLICAS DEL ESTADO DE SAN LUIS POTOSI en el Título Segundo de los trabajadores Capítulo I disposiciones generales en el ARTÍCULO 12. Son trabajadores eventuales ya que están al servicio de personal subordinado, por tiempo determinados o por cantidad presupuestada por el H. Ayuntamiento de Venado, S.L.P., y como lo indica la ley. En el CAPITULO V DE LOS SALARIOS en los artículos 38, 39, 40, 41,42 y 43 los salarios y prestaciones derivadas de la relación laboral a las que se hace acreedor el trabajador, tomando en cuenta que la presente administración se rige bajo los criterios de austeridad. http://www.cegaipslp.org.mx/HV2021Tres.nsf/nombre_de_la_vista/2BB8908599B386B28625879F005F8E00/$File/REMUNERACIONES.pdf
A94: 2022 | B94: 44682 | C94: 44712 | D94: Empleado | E94: COORDINADOR | F94: SEGURIDAD PUBLICA | G94: COORDINADOR DE SEGURIDAD PUBLICA | H94: SEGURIDAD PUBLICA | I94: AGUSTIN | J94: BUENROSTRO | K94: MARTINEZ | L94: Masculino | M94: 8759.4 | N94: PESO | O94: 8759.4 | P94: PESO | Q94: =Tabla_549551!A90 -> 87 | R94: =Tabla_549538!A90 -> 87 | S94: =Tabla_549552!A90 -> 87 | T94: =Tabla_549522!A90 -> 87 | U94: =Tabla_549542!A90 -> 87 | V94: =Tabla_549529!A90 -> 87 | W94: =Tabla_549539!A90 -> 87 | X94: =Tabla_549530!A90 -> 87 | Y94: =Tabla_549531!A90 -> 87 | Z94: =Tabla_549549!A90 -> 87 | AA94: =Tabla_549553!A90 -> 87 | AB94: =Tabla_549550!A90 -> 87 | AC94: =Tabla_549554!A90 -> 87 | AD94: TESORERÍA | AE94: 45449 | AF94: 45449 | AG94: manifestarle tenga de su conocimiento que de acuerdo a la LEY DE LOS TRABAJADORES AL SERVICIO DE LAS INSTITUCIONES PÚBLICAS DEL ESTADO DE SAN LUIS POTOSI en el Título Segundo de los trabajadores Capítulo I disposiciones generales en el ARTÍCULO 12. Son trabajadores eventuales ya que están al servicio de personal subordinado, por tiempo determinados o por cantidad presupuestada por el H. Ayuntamiento de Venado, S.L.P., y como lo indica la ley. En el CAPITULO V DE LOS SALARIOS en los artículos 38, 39, 40, 41,42 y 43 los salarios y prestaciones derivadas de la relación laboral a las que se hace acreedor el trabajador, tomando en cuenta que la presente administración se rige bajo los criterios de austeridad. http://www.cegaipslp.org.mx/HV2021Tres.nsf/nombre_de_la_vista/2BB8908599B386B28625879F005F8E00/$File/REMUNERACIONES.pdf
A95: 2022 | B95: 44682 | C95: 44712 | D95: Empleado | E95: ELEMENTO DE POLICIA MPAL | F95: SEGURIDAD PUBLICA | G95: ELEMENTO DE POLICIA MPAL | H95: SEGURIDAD PUBLICA | I95: JOSE LUIS | J95: HERNANDEZ | K95: ATILANO | L95: Masculino | M95: 7882.8 | N95: PESO | O95: 7295.52 | P95: PESO | Q95: =Tabla_549551!A91:A91 -> 88 | R95: =Tabla_549538!A91 -> 88 | S95: =Tabla_549552!A91 -> 88 | T95: =Tabla_549522!A91 -> 88 | U95: =Tabla_549542!A91 -> 88 | V95: =Tabla_549529!A91 -> 88 | W95: =Tabla_549539!A91 -> 88 | X95: =Tabla_549530!A91 -> 88 | Y95: =Tabla_549531!A91 -> 88 | Z95: =Tabla_549549!A91 -> 88 | AA95: =Tabla_549553!A91 -> 88 | AB95: =Tabla_549550!A91 -> 88 | AC95: =Tabla_549554!A91 -> 88 | AD95: TESORERÍA | AE95: 45449 | AF95: 45449 | AG95: manifestarle tenga de su conocimiento que de acuerdo a la LEY DE LOS TRABAJADORES AL SERVICIO DE LAS INSTITUCIONES PÚBLICAS DEL ESTADO DE SAN LUIS POTOSI en el Título Segundo de los trabajadores Capítulo I disposiciones generales en el ARTÍCULO 12. Son trabajadores eventuales ya que están al servicio de personal subordinado, por tiempo determinados o por cantidad presupuestada por el H. Ayuntamiento de Venado, S.L.P., y como lo indica la ley. En el CAPITULO V DE LOS SALARIOS en los artículos 38, 39, 40, 41,42 y 43 los salarios y prestaciones derivadas de la relación laboral a las que se hace acreedor el trabajador, tomando en cuenta que la presente administración se rige bajo los criterios de austeridad. http://www.cegaipslp.org.mx/HV2021Tres.nsf/nombre_de_la_vista/2BB8908599B386B28625879F005F8E00/$File/REMUNERACIONES.pdf
A96: 2022 | B96: 44682 | C96: 44712 | D96: Empleado | E96: SUB COMANDANTE | F96: SEGURIDAD PUBLICA | G96: SUB COMANDANTE | H96: SEGURIDAD PUBLICA | I96: IGNACIO | J96: HERNANDEZ | K96: ATILANO | L96: Masculino | M96: 7882.8 | N96: PESO | O96: 7295.52 | P96: PESO | Q96: =Tabla_549551!A92 -> 89 | R96: =Tabla_549538!A92 -> 89 | S96: =Tabla_549552!A92 -> 89 | T96: =Tabla_549522!A92 -> 89 | U96: =Tabla_549542!A92 -> 89 | V96: =Tabla_549529!A92 -> 89 | W96: =Tabla_549539!A92 -> 89 | X96: =Tabla_549530!A92 -> 89 | Y96: =Tabla_549531!A92 -> 89 | Z96: =Tabla_549549!A92 -> 89 | AA96: =Tabla_549553!A92 -> 89 | AB96: =Tabla_549550!A92 -> 89 | AC96: =Tabla_549554!A92 -> 89 | AD96: TESORERÍA | AE96: 45449 | AF96: 45449 | AG96: manifestarle tenga de su conocimiento que de acuerdo a la LEY DE LOS TRABAJADORES AL SERVICIO DE LAS INSTITUCIONES PÚBLICAS DEL ESTADO DE SAN LUIS POTOSI en el Título Segundo de los trabajadores Capítulo I disposiciones generales en el ARTÍCULO 12. Son trabajadores eventuales ya que están al servicio de personal subordinado, por tiempo determinados o por cantidad presupuestada por el H. Ayuntamiento de Venado, S.L.P., y como lo indica la ley. En el CAPITULO V DE LOS SALARIOS en los artículos 38, 39, 40, 41,42 y 43 los salarios y prestaciones derivadas de la relación laboral a las que se hace acreedor el trabajador, tomando en cuenta que la presente administración se rige bajo los criterios de austeridad. http://www.cegaipslp.org.mx/HV2021Tres.nsf/nombre_de_la_vista/2BB8908599B386B28625879F005F8E00/$File/REMUNERACIONES.pdf
A97: 2022 | B97: 44682 | C97: 44712 | D97: Empleado | E97: ELEMENTO DE POLICIA MPAL | F97: SEGURIDAD PUBLICA | G97: ELEMENTO DE POLICIA MPAL | H97: SEGURIDAD PUBLICA | I97: JAIME | J97: MORENO | K97: URBINA | L97: Masculino | M97: 5601.3 | N97: PESO | O97: 5553 | P97: PESO | Q97: =Tabla_549551!A93:A93 -> 90 | R97: =Tabla_549538!A93 -> 90 | S97: =Tabla_549552!A93 -> 90 | T97: =Tabla_549522!A93 -> 90 | U97: =Tabla_549542!A93 -> 90 | V97: =Tabla_549529!A93 -> 90 | W97: =Tabla_549539!A93 -> 90 | X97: =Tabla_549530!A93 -> 90 | Y97: =Tabla_549531!A93 -> 90 | Z97: =Tabla_549549!A93 -> 90 | AA97: =Tabla_549553!A93 -> 90 | AB97: =Tabla_549550!A93 -> 90 | AC97: =Tabla_549554!A93 -> 90 | AD97: TESORERÍA | AE97: 45449 | AF97: 45449 | AG97: manifestarle tenga de su conocimiento que de acuerdo a la LEY DE LOS TRABAJADORES AL SERVICIO DE LAS INSTITUCIONES PÚBLICAS DEL ESTADO DE SAN LUIS POTOSI en el Título Segundo de los trabajadores Capítulo I disposiciones generales en el ARTÍCULO 12. Son trabajadores eventuales ya que están al servicio de personal subordinado, por tiempo determinados o por cantidad presupuestada por el H. Ayuntamiento de Venado, S.L.P., y como lo indica la ley. En el CAPITULO V DE LOS SALARIOS en los artículos 38, 39, 40, 41,42 y 43 los salarios y prestaciones derivadas de la relación laboral a las que se hace acreedor el trabajador, tomando en cuenta que la presente administración se rige bajo los criterios de austeridad. http://www.cegaipslp.org.mx/HV2021Tres.nsf/nombre_de_la_vista/2BB8908599B386B28625879F005F8E00/$File/REMUNERACIONES.pdf
A98: 2022 | B98: 44682 | C98: 44712 | D98: Empleado | E98: ELEMENTO DE POLICIA MPAL | F98: SEGURIDAD PUBLICA | G98: ELEMENTO DE POLICIA MPAL | H98: SEGURIDAD PUBLICA | I98: NABOR | J98: RIVERA | K98: RIVERA | L98: Masculino | M98: 5601.3 | N98: PESO | O98: 5553 | P98: PESO | Q98: =Tabla_549551!A94 -> 91 | R98: =Tabla_549538!A94 -> 91 | S98: =Tabla_549552!A94 -> 91 | T98: =Tabla_549522!A94 -> 91 | U98: =Tabla_549542!A94 -> 91 | V98: =Tabla_549529!A94 -> 91 | W98: =Tabla_549539!A94 -> 91 | X98: =Tabla_549530!A94 -> 91 | Y98: =Tabla_549531!A94 -> 91 | Z98: =Tabla_549549!A94 -> 91 | AA98: =Tabla_549553!A94 -> 91 | AB98: =Tabla_549550!A94 -> 91 | AC98: =Tabla_549554!A94 -> 91 | AD98: TESORERÍA | AE98: 45449 | AF98: 45449 | AG98: manifestarle tenga de su conocimiento que de acuerdo a la LEY DE LOS TRABAJADORES AL SERVICIO DE LAS INSTITUCIONES PÚBLICAS DEL ESTADO DE SAN LUIS POTOSI en el Título Segundo de los trabajadores Capítulo I disposiciones generales en el ARTÍCULO 12. Son trabajadores eventuales ya que están al servicio de personal subordinado, por tiempo determinados o por cantidad presupuestada por el H. Ayuntamiento de Venado, S.L.P., y como lo indica la ley. En el CAPITULO V DE LOS SALARIOS en los artículos 38, 39, 40, 41,42 y 43 los salarios y prestaciones derivadas de la relación laboral a las que se hace acreedor el trabajador, tomando en cuenta que la presente administración se rige bajo los criterios de austeridad. http://www.cegaipslp.org.mx/HV2021Tres.nsf/nombre_de_la_vista/2BB8908599B386B28625879F005F8E00/$File/REMUNERACIONES.pdf
A99: 2022 | B99: 44682 | C99: 44712 | D99: Empleado | E99: ELEMENTO DE POLICIA MPAL | F99: SEGURIDAD PUBLICA | G99: ELEMENTO DE POLICIA MPAL | H99: SEGURIDAD PUBLICA | I99: VALENTE | J99: RIVERA | K99: ROSALES | L99: Masculino | M99: 5601.3 | N99: PESO | O99: 5553 | P99: PESO | Q99: =Tabla_549551!A95:A95 -> 92 | R99: =Tabla_549538!A95 -> 92 | S99: =Tabla_549552!A95 -> 92 | T99: =Tabla_549522!A95 -> 92 | U99: =Tabla_549542!A95 -> 92 | V99: =Tabla_549529!A95 -> 92 | W99: =Tabla_549539!A95 -> 92 | X99: =Tabla_549530!A95 -> 92 | Y99: =Tabla_549531!A95 -> 92 | Z99: =Tabla_549549!A95 -> 92 | AA99: =Tabla_549553!A95 -> 92 | AB99: =Tabla_549550!A95 -> 92 | AC99: =Tabla_549554!A95 -> 92 | AD99: TESORERÍA | AE99: 45449 | AF99: 45449 | AG99: manifestarle tenga de su conocimiento que de acuerdo a la LEY DE LOS TRABAJADORES AL SERVICIO DE LAS INSTITUCIONES PÚBLICAS DEL ESTADO DE SAN LUIS POTOSI en el Título Segundo de los trabajadores Capítulo I disposiciones generales en el ARTÍCULO 12. Son trabajadores eventuales ya que están al servicio de personal subordinado, por tiempo determinados o por cantidad presupuestada por el H. Ayuntamiento de Venado, S.L.P., y como lo indica la ley. En el CAPITULO V DE LOS SALARIOS en los artículos 38, 39, 40, 41,42 y 43 los salarios y prestaciones derivadas de la relación laboral a las que se hace acreedor el trabajador, tomando en cuenta que la presente administración se rige bajo los criterios de austeridad. http://www.cegaipslp.org.mx/HV2021Tres.nsf/nombre_de_la_vista/2BB8908599B386B28625879F005F8E00/$File/REMUNERACIONES.pdf
A100: 2022 | B100: 44682 | C100: 44712 | D100: Empleado | E100: ELEMENTO DE POLICIA MPAL | F100: SEGURIDAD PUBLICA | G100: ELEMENTO DE POLICIA MPAL | H100: SEGURIDAD PUBLICA | I100: ENCARNACION | J100: SALAZAR | K100: RANGEL | L100: Masculino | M100: 5601.3 | N100: PESO | O100: 5553 | P100: PESO | Q100: =Tabla_549551!A96 -> 93 | R100: =Tabla_549538!A96 -> 93 | S100: =Tabla_549552!A96 -> 93 | T100: =Tabla_549522!A96 -> 93 | U100: =Tabla_549542!A96 -> 93 | V100: =Tabla_549529!A96 -> 93 | W100: =Tabla_549539!A96 -> 93 | X100: =Tabla_549530!A96 -> 93 | Y100: =Tabla_549531!A96 -> 93 | Z100: =Tabla_549549!A96 -> 93 | AA100: =Tabla_549553!A96 -> 93 | AB100: =Tabla_549550!A96 -> 93 | AC100: =Tabla_549554!A96 -> 93 | AD100: TESORERÍA | AE100: 45449 | AF100: 45449 | AG100: manifestarle tenga de su conocimiento que de acuerdo a la LEY DE LOS TRABAJADORES AL SERVICIO DE LAS INSTITUCIONES PÚBLICAS DEL ESTADO DE SAN LUIS POTOSI en el Título Segundo de los trabajadores Capítulo I disposiciones generales en el ARTÍCULO 12. Son trabajadores eventuales ya que están al servicio de personal subordinado, por tiempo determinados o por cantidad presupuestada por el H. Ayuntamiento de Venado, S.L.P., y como lo indica la ley. En el CAPITULO V DE LOS SALARIOS en los artículos 38, 39, 40, 41,42 y 43 los salarios y prestaciones derivadas de la relación laboral a las que se hace acreedor el trabajador, tomando en cuenta que la presente administración se rige bajo los criterios de austeridad. http://www.cegaipslp.org.mx/HV2021Tres.nsf/nombre_de_la_vista/2BB8908599B386B28625879F005F8E00/$File/REMUNERACIONES.pdf
...

Sheet Hidden_1
A1: Funcionario
A2: Servidor(a) público(a)
A3: Servidor[a] público[a] eventual
A4: Integrante
A5: Empleado
A6: Representante popular
A7: Miembro del poder judicial
A8: Miembro de órgano autónomo
A9: Personal de confianza
A10: Prestador de servicios profesionales
A11: Otro

Sheet Hidden_2
A1: Femenino
A2: Masculino

Sheet Tabla_549551
B1: 2 | C1: 6 | D1: 6 | E1: 1 | F1: 1
B2: 70050 | C2: 70051 | D2: 70052 | E2: 70053 | F2: 70054
A3: ID | B3: Denominación de las percepciones adicionales en dinero | C3: Monto bruto de las percepciones adicionales en dinero | D3: Monto neto de las percepciones adicionales en dinero | E3: Tipo de moneda de las percepciones adicionales en dinero | F3: Periodicidad de las percepciones adicionales en dinero
A4: 1 | B4: NO GENERADO | C4: 0 | D4: 0 | E4: PESO | F4: QUINCENAL
A5: 2 | B5: NO GENERADO | C5: 0 | D5: 0 | E5: PESO | F5: QUINCENAL
A6: 3 | B6: NO GENERADO | C6: 0 | D6: 0 | E6: PESO | F6: QUINCENAL
A7: 4 | B7: NO GENERADO | C7: 0 | D7: 0 | E7: PESO | F7: QUINCENAL
A8: 5 | B8: NO GENERADO | C8: 0 | D8: 0 | E8: PESO | F8: QUINCENAL
A9: 6 | B9: NO GENERADO | C9: 0 | D9: 0 | E9: PESO | F9: QUINCENAL
A10: 7 | B10: NO GENERADO | C10: 0 | D10: 0 | E10: PESO | F10: QUINCENAL
A11: 8 | B11: NO GENERADO | C11: 0 | D11: 0 | E11: PESO | F11: QUINCENAL
A12: 9 | B12: NO GENERADO | C12: 0 | D12: 0 | E12: PESO | F12: QUINCENAL
A13: 10 | B13: NO GENERADO | C13: 0 | D13: 0 | E13: PESO | F13: QUINCENAL
A14: 11 | B14: NO GENERADO | C14: 0 | D14: 0 | E14: PESO | F14: QUINCENAL
A15: 12 | B15: NO GENERADO | C15: 0 | D15: 0 | E15: PESO | F15: QUINCENAL
... A154: 151 | B154: NO GENERADO | C154: 0 | D154: 0 | E154: PESO | F154: QUINCENAL

Sheet Tabla_549538
B1: 2 | C1: 1
B2: 70028 | C2: 70029
A3: ID | B3: Descripción de las percepciones adicionales en especie | C3: Periodicidad de las percepciones adicionales en especie
A4: 1 | B4: NO GENERA | C4: NO GENERA
A5: 2 | B5: NO GENERA | C5: NO GENERA
A6: 3 | B6: NO GENERA | C6: NO GENERA
A7: 4 | B7: NO GENERA | C7: NO GENERA
A8: 5 | B8: NO GENERA | C8: NO GENERA
A9: 6 | B9: NO GENERA | C9: NO GENERA
A10: 7 | B10: NO GENERA | C10: NO GENERA
A11: 8 | B11: NO GENERA | C11: NO GENERA
A12: 9 | B12: NO GENERA | C12: NO GENERA
A13: 10 | B13: NO GENERA | C13: NO GENERA
A14: 11 | B14: NO GENERA | C14: NO GENERA
A15: 12 | B15: NO GENERA | C15: NO GENERA
... A154: 151 | B154: NO GENERA | C154: NO GENERA

Sheet Tabla_549552
B1: 2 | C1: 6 | D1: 6 | E1: 1 | F1: 1
B2: 70057 | C2: 70058 | D2: 70059 | E2: 70055 | F2: 70056
A3: ID | B3: Denominación de los ingresos | C3: Monto bruto de los ingresos | D3: Monto neto de los ingresos | E3: Tipo de moneda de los ingresos | F3: Periodicidad de los ingresos
A4: 1 | B4: SALARIO | C4: 50403.36 | D4: 40000 | E4: PESO | F4: MENSUAL
A5: 2 | B5: SALARIO | C5: 15485.5 | D5: 13600 | E5: PESO | F5: MENSUAL
A6: 3 | B6: SALARIO | C6: 6102.86 | D6: 6000 | E6: PESO | F6: MENSUAL
A7: 4 | B7: SALARIO | C7: 6102.86 | D7: 6000 | E7: PESO | F7: MENSUAL
A8: 5 | B8: SALARIO | C8: 6102.86 | D8: 6000 | E8: PESO | F8: MENSUAL
A9: 6 | B9: SALARIO | C9: 6102.86 | D9: 6000 | E9: PESO | F9: MENSUAL
A10: 7 | B10: SALARIO | C10: 6102.86 | D10: 6000 | E10: PESO | F10: MENSUAL
A11: 8 | B11: SALARIO | C11: 6102.86 | D11: 6000 | E11: PESO | F11: MENSUAL
A12: 9 | B12: SALARIO | C12: 6759.6 | D12: 6544.74 | E12: PESO | F12: MENSUAL
A13: 10 | B13: SALARIO | C13: 6759.6 | D13: 6544.74 | E13: PESO | F13: MENSUAL
A14: 11 | B14: SALARIO | C14: 9844.2 | D14: 9025.3 | E14: PESO | F14: MENSUAL
A15: 12 | B15: SALARIO | C15: 8454 | D15: 7804.58 | E15: PESO | F15: MENSUAL
... A154: 151 | B154: SALARIO | C154: 6102.86 | D154: 6000 | E154: PESO | F154: MENSUAL

Sheet Tabla_549522
B1: 1 | C1: 6 | D1: 6 | E1: 1 | F1: 1
B2: 70008 | C2: 70009 | D2: 70010 | E2: 70011 | F2: 70012
A3: ID | B3: Denominación de los sistemas de compensación | C3: Monto bruto de los sistemas de compensación | D3: Monto neto de los sistemas de compensación | E3: Tipo de moneda de los sistemas de compensación | F3: Periodicidad de los sistemas de compensación
A4: 1 | B4: COMPENSACION | C4: 0 | D4: 0 | E4: PESO | F4: QUINCENAL
A5: 2 | B5: COMPENSACION | C5: 0 | D5: 0 | E5: PESO | F5: QUINCENAL
A6: 3 | B6: COMPENSACION | C6: 0 | D6: 0 | E6: PESO | F6: QUINCENAL
A7: 4 | B7: COMPENSACION | C7: 0 | D7: 0 | E7: PESO | F7: QUINCENAL
A8: 5 | B8: COMPENSACION | C8: 0 | D8: 0 | E8: PESO | F8: QUINCENAL
A9: 6 | B9: COMPENSACION | C9: 0 | D9: 0 | E9: PESO | F9: QUINCENAL
A10: 7 | B10: COMPENSACION | C10: 0 | D10: 0 | E10: PESO | F10: QUINCENAL
A11: 8 | B11: COMPENSACION | C11: 0 | D11: 0 | E11: PESO | F11: QUINCENAL
A12: 9 | B12: COMPENSACION | C12: 0 | D12: 0 | E12: PESO | F12: QUINCENAL
A13: 10 | B13: COMPENSACION | C13: 980 | D13: 980 | E13: PESO | F13: QUINCENAL
A14: 11 | B14: COMPENSACION | C14: 0 | D14: 0 | E14: PESO | F14: QUINCENAL
A15: 12 | B15: COMPENSACION | C15: 0 | D15: 0 | E15: PESO | F15: QUINCENAL
... A154: 151 | B154: COMPENSACION | C154: 0 | D154: 0 | E154: PESO | F154: QUINCENAL

Sheet Tabla_549542
B1: 1 | C1: 6 | D1: 6 | E1: 1 | F1: 1
B2: 70035 | C2: 70036 | D2: 70037 | E2: 70038 | F2: 70039
A3: ID | B3: Denominación de las gratificaciones | C3: Monto bruto de las gratificaciones | D3: Monto neto de las gratificaciones | E3: Tipo de moneda de las gratificaciones | F3: Periodicidad de las gratificaciones
A4: 1 | B4: NO GENERADO | C4: 0 | D4: 0 | E4: PESO | F4: NO GENERADO
A5: 2 | B5: NO GENERADO | C5: 0 | D5: 0 | E5: PESO | F5: NO GENERADO
A6: 3 | B6: NO GENERADO | C6: 0 | D6: 0 | E6: PESO | F6: NO GENERADO
A7: 4 | B7: NO GENERADO | C7: 0 | D7: 0 | E7: PESO | F7: NO GENERADO
A8: 5 | B8: NO GENERADO | C8: 0 | D8: 0 | E8: PESO | F8: NO GENERADO
A9: 6 | B9: NO GENERADO | C9: 0 | D9: 0 | E9: PESO | F9: NO GENERADO
A10: 7 | B10: NO GENERADO | C10: 0 | D10: 0 | E10: PESO | F10: NO GENERADO
A11: 8 | B11: NO GENERADO | C11: 0 | D11: 0 | E11: PESO | F11: NO GENERADO
A12: 9 | B12: NO GENERADO | C12: 0 | D12: 0 | E12: PESO | F12: NO GENERADO
A13: 10 | B13: NO GENERADO | C13: 0 | D13: 0 | E13: PESO | F13: NO GENERADO
A14: 11 | B14: NO GENERADO | C14: 0 | D14: 0 | E14: PESO | F14: NO GENERADO
A15: 12 | B15: NO GENERADO | C15: 0 | D15: 0 | E15: PESO | F15: NO GENERADO
... A154: 151 | B154: NO GENERADO | C154: 0 | D154: 0 | E154: PESO | F154: NO GENERADO

Sheet Tabla_549529
B1: 1 | C1: 6 | D1: 6 | E1: 1 | F1: 1
B2: 70013 | C2: 70014 | D2: 70015 | E2: 70016 | F2: 70017
A3: ID | B3: Denominación de las primas | C3: Monto bruto de las primas | D3: Monto neto de las primas | E3: Tipo de moneda de las primas | F3: Periodicidad de las primas
A4: 1 | B4: PRIMA VACACIONAL | C4: 0 | D4: 0 | E4: PESO | F4: SEMESTRAL
A5: 2 | B5: PRIMA VACACIONAL | C5: 0 | D5: 0 | E5: PESO | F5: SEMESTRAL
A6: 3 | B6: PRIMA VACACIONAL | C6: 0 | D6: 0 | E6: PESO | F6: SEMESTRAL
A7: 4 | B7: PRIMA VACACIONAL | C7: 0 | D7: 0 | E7: PESO | F7: SEMESTRAL
A8: 5 | B8: PRIMA VACACIONAL | C8: 0 | D8: 0 | E8: PESO | F8: SEMESTRAL
A9: 6 | B9: PRIMA VACACIONAL | C9: 0 | D9: 0 | E9: PESO | F9: SEMESTRAL
A10: 7 | B10: PRIMA VACACIONAL | C10: 0 | D10: 0 | E10: PESO | F10: SEMESTRAL
A11: 8 | B11: PRIMA VACACIONAL | C11: 0 | D11: 0 | E11: PESO | F11: SEMESTRAL
A12: 9 | B12: PRIMA VACACIONAL | C12: 0 | D12: 0 | E12: PESO | F12: SEMESTRAL
A13: 10 | B13: PRIMA VACACIONAL | C13: 0 | D13: 0 | E13: PESO | F13: SEMESTRAL
A14: 11 | B14: PRIMA VACACIONAL | C14: 0 | D14: 0 | E14: PESO | F14: SEMESTRAL
A15: 12 | B15: PRIMA VACACIONAL | C15: 1690.8 | D15: 1690.8 | E15: PESO | F15: SEMESTRAL
... A19: 16 | B19: PRIMA VACACIONAL | C19: 0 | D19: 0 | E19: PESO | F19: SEMESTRAL
A20: 17 | B20: PRIMA VACACIONAL | C20: 0 | D20: 0 | E20: PESO | F20: SEMESTRAL | H20: .
A21: 18 | B21: PRIMA VACACIONAL | C21: 0 | D21: 0 | E21: PESO | F21: SEMESTRAL
A22: 19 | B22: PRIMA VACACIONAL | C22: 0 | D22: 0 | E22: PESO | F22: SEMESTRAL
A23: 20 | B23: PRIMA VACACIONAL | C23: 0 | D23: 0 | E23: PESO | F23: SEMESTRAL
A24: 21 | B24: PRIMA VACACIONAL | C24: 0 | D24: 0 | E24: PESO | F24: SEMESTRAL
A25: 22 | B25: PRIMA VACACIONAL | C25: 0 | D25: 0 | E25: PESO | F25: SEMESTRAL
A26: 23 | B26: PRIMA VACACIONAL | C26: 0 | D26: 0 | E26: PESO | F26: SEMESTRAL
A27: 24 | B27: PRIMA VACACIONAL | C27: 0 | D27: 0 | E27: PESO | F27: SEMESTRAL
A28: 25 | B28: PRIMA VACACIONAL | C28: 0 | D28: 0 | E28: PESO | F28: SEMESTRAL
A29: 26 | B29: PRIMA VACACIONAL | C29: 0 | D29: 0 | E29: PESO | F29: SEMESTRAL
A30: 27 | B30: PRIMA VACACIONAL | C30: 0 | D30: 0 | E30: PESO | F30: SEMESTRAL
A31: 28 | B31: PRIMA VACACIONAL | C31: 0 | D31: 0 | E31: PESO | F31: SEMESTRAL
A32: 29 | B32: PRIMA VACACIONAL | C32: 0 | D32: 0 | E32: PESO | F32: SEMESTRAL
... A154: 151 | B154: PRIMA VACACIONAL | C154: 0 | D154: 0 | E154: PESO | F154: SEMESTRAL

Sheet Tabla_549539
B1: 1 | C1: 6 | D1: 6 | E1: 1 | F1: 1
B2: 70030 | C2: 70031 | D2: 70032 | E2: 70033 | F2: 70034
A3: ID | B3: Denominación de las comisiones | C3: Monto bruto de las comisiones | D3: Monto neto de las comisiones | E3: Tipo de moneda de las comisiones | F3: Periodicidad de las comisiones
A4: 1 | B4: NO GENERA | C4: 0 | D4: 0 | E4: PESO | F4: NO GENERA
A5: 2 | B5: NO GENERA | C5: 0 | D5: 0 | E5: PESO | F5: NO GENERA
A6: 3 | B6: NO GENERA | C6: 0 | D6: 0 | E6: PESO | F6: NO GENERA
A7: 4 | B7: NO GENERA | C7: 0 | D7: 0 | E7: PESO | F7: NO GENERA
A8: 5 | B8: NO GENERA | C8: 0 | D8: 0 | E8: PESO | F8: NO GENERA
A9: 6 | B9: NO GENERA | C9: 0 | D9: 0 | E9: PESO | F9: NO GENERA
A10: 7 | B10: NO GENERA | C10: 0 | D10: 0 | E10: PESO | F10: NO GENERA
A11: 8 | B11: NO GENERA | C11: 0 | D11: 0 | E11: PESO | F11: NO GENERA
A12: 9 | B12: NO GENERA | C12: 0 | D12: 0 | E12: PESO | F12: NO GENERA
A13: 10 | B13: NO GENERA | C13: 0 | D13: 0 | E13: PESO | F13: NO GENERA
A14: 11 | B14: NO GENERA | C14: 0 | D14: 0 | E14: PESO | F14: NO GENERA
A15: 12 | B15: NO GENERA | C15: 0 | D15: 0 | E15: PESO | F15: NO GENERA
... A154: 151 | B154: NO GENERA | C154: 0 | D154: 0 | E154: PESO | F154: NO GENERA

Sheet Tabla_549530
B1: 1 | C1: 6 | D1: 6 | E1: 1 | F1: 1
B2: 70018 | C2: 70019 | D2: 70020 | E2: 70021 | F2: 70022
A3: ID | B3: Denominación de las dietas | C3: Monto bruto de las dietas | D3: Monto neto de las dietas | E3: Tipo de moneda de las dietas | F3: Periodicidad de las dietas
A4: 1 | B4: DIETAS | C4: 50403.36 | D4: 40000 | E4: PESO | F4: MENSUAL
A5: 2 | B5: DIETAS | C5: 15485.5 | D5: 13600 | E5: PESO | F5: MENSUAL
A6: 3 | B6: DIETAS | C6: 6102.86 | D6: 6000 | E6: PESO | F6: MENSUAL
A7: 4 | B7: DIETAS | C7: 6102.86 | D7: 6000 | E7: PESO | F7: MENSUAL
A8: 5 | B8: DIETAS | C8: 6102.86 | D8: 6000 | E8: PESO | F8: MENSUAL
A9: 6 | B9: DIETAS | C9: 6102.86 | D9: 6000 | E9: PESO | F9: MENSUAL
A10: 7 | B10: DIETAS | C10: 6102.86 | D10: 6000 | E10: PESO | F10: MENSUAL
A11: 8 | B11: DIETAS | C11: 6102.86 | D11: 6000 | E11: PESO | F11: MENSUAL
A12: 9 | B12: DIETAS | C12: 0 | D12: 0 | E12: PESO | F12: MENSUAL
A13: 10 | B13: DIETAS | C13: 0 | D13: 0 | E13: PESO | F13: MENSUAL
A14: 11 | B14: DIETAS | C14: 0 | D14: 0 | E14: PESO | F14: MENSUAL
A15: 12 | B15: DIETAS | C15: 0 | D15: 0 | E15: PESO | F15: MENSUAL
... A154: 151 | B154: DIETAS | C154: 0 | D154: 0 | E154: PESO | F154: MENSUAL

Sheet Tabla_549531
B1: 1 | C1: 6 | D1: 6 | E1: 1 | F1: 1
B2: 70023 | C2: 70024 | D2: 70025 | E2: 70026 | F2: 70027
A3: ID | B3: Denominación de los bonos | C3: Monto bruto de los bonos | D3: Monto neto de los bonos | E3: Tipo de moneda de los bonos | F3: Periodicidad de los bonos
A4: 1 | B4: NO GENERA | C4: 0 | D4: 0 | E4: PESO | F4: NO GENERA
A5: 2 | B5: NO GENERA | C5: 0 | D5: 0 | E5: PESO | F5: NO GENERA
A6: 3 | B6: NO GENERA | C6: 0 | D6: 0 | E6: PESO | F6: NO GENERA
A7: 4 | B7: NO GENERA | C7: 0 | D7: 0 | E7: PESO | F7: NO GENERA
A8: 5 | B8: NO GENERA | C8: 0 | D8: 0 | E8: PESO | F8: NO GENERA
A9: 6 | B9: NO GENERA | C9: 0 | D9: 0 | E9: PESO | F9: NO GENERA
A10: 7 | B10: NO GENERA | C10: 0 | D10: 0 | E10: PESO | F10: NO GENERA
A11: 8 | B11: NO GENERA | C11: 0 | D11: 0 | E11: PESO | F11: NO GENERA
A12: 9 | B12: NO GENERA | C12: 0 | D12: 0 | E12: PESO | F12: NO GENERA
A13: 10 | B13: NO GENERA | C13: 0 | D13: 0 | E13: PESO | F13: NO GENERA
A14: 11 | B14: NO GENERA | C14: 0 | D14: 0 | E14: PESO | F14: NO GENERA
A15: 12 | B15: NO GENERA | C15: 0 | D15: 0 | E15: PESO | F15: NO GENERA
... A154: 151 | B154: NO GENERA | C154: 0 | D154: 0 | E154: PESO | F154: NO GENERA

Sheet Tabla_549549
B1: 1 | C1: 6 | D1: 6 | E1: 1 | F1: 1
B2: 70040 | C2: 70041 | D2: 70042 | E2: 70043 | F2: 70044
A3: ID | B3: Denominación de los estímulos | C3: Monto bruto de los estímulos | D3: Monto neto de los estímulos | E3: Tipo de moneda de los estímulos | F3: Periodicidad de los estímulos
A4: 1 | B4: NO GENERA | C4: 0 | D4: 0 | E4: PESO | F4: NO GENERA
A5: 2 | B5: NO GENERA | C5: 0 | D5: 0 | E5: PESO | F5: NO GENERA
A6: 3 | B6: NO GENERA | C6: 0 | D6: 0 | E6: PESO | F6: NO GENERA
A7: 4 | B7: NO GENERA | C7: 0 | D7: 0 | E7: PESO | F7: NO GENERA
A8: 5 | B8: NO GENERA | C8: 0 | D8: 0 | E8: PESO | F8: NO GENERA
A9: 6 | B9: NO GENERA | C9: 0 | D9: 0 | E9: PESO | F9: NO GENERA
A10: 7 | B10: NO GENERA | C10: 0 | D10: 0 | E10: PESO | F10: NO GENERA
A11: 8 | B11: NO GENERA | C11: 0 | D11: 0 | E11: PESO | F11: NO GENERA
A12: 9 | B12: NO GENERA | C12: 0 | D12: 0 | E12: PESO | F12: NO GENERA
A13: 10 | B13: NO GENERA | C13: 0 | D13: 0 | E13: PESO | F13: NO GENERA
A14: 11 | B14: NO GENERA | C14: 0 | D14: 0 | E14: PESO | F14: NO GENERA
A15: 12 | B15: NO GENERA | C15: 0 | D15: 0 | E15: PESO | F15: NO GENERA
... A154: 151 | B154: NO GENERA | C154: 0 | D154: 0 | E154: PESO | F154: NO GENERA

Sheet Tabla_549553
B1: 1 | C1: 6 | D1: 6 | E1: 1 | F1: 1
B2: 70060 | C2: 70061 | D2: 70062 | E2: 70063 | F2: 70064
A3: ID | B3: Denominación de los apoyos económicos | C3: Monto bruto de los apoyos económicos | D3: Monto neto de los apoyos económicos | E3: Tipo de moneda de los apoyos económicos | F3: Periodicidad de los apoyos económicos
A4: 1 | B4: NO GENERA | C4: 0 | D4: 0 | E4: PESO | F4: NO GENERA
A5: 2 | B5: NO GENERA | C5: 0 | D5: 0 | E5: PESO | F5: NO GENERA
A6: 3 | B6: NO GENERA | C6: 0 | D6: 0 | E6: PESO | F6: NO GENERA
A7: 4 | B7: NO GENERA | C7: 0 | D7: 0 | E7: PESO | F7: NO GENERA
A8: 5 | B8: NO GENERA | C8: 0 | D8: 0 | E8: PESO | F8: NO GENERA
A9: 6 | B9: NO GENERA | C9: 0 | D9: 0 | E9: PESO | F9: NO GENERA
A10: 7 | B10: NO GENERA | C10: 0 | D10: 0 | E10: PESO | F10: NO GENERA
A11: 8 | B11: NO GENERA | C11: 0 | D11: 0 | E11: PESO | F11: NO GENERA
A12: 9 | B12: NO GENERA | C12: 0 | D12: 0 | E12: PESO | F12: NO GENERA
A13: 10 | B13: NO GENERA | C13: 0 | D13: 0 | E13: PESO | F13: NO GENERA
A14: 11 | B14: NO GENERA | C14: 0 | D14: 0 | E14: PESO | F14: NO GENERA
A15: 12 | B15: NO GENERA | C15: 0 | D15: 0 | E15: PESO | F15: NO GENERA
... A154: 151 | B154: NO GENERA | C154: 0 | D154: 0 | E154: PESO | F154: NO GENERA

Sheet Tabla_549550
B1: 1 | C1: 6 | D1: 6 | E1: 1 | F1: 1
B2: 70045 | C2: 70046 | D2: 70047 | E2: 70048 | F2: 70049
A3: ID | B3: Denominación de las prestaciones económicas | C3: Monto bruto de las prestaciones económicas | D3: Monto neto de las prestaciones económicas | E3: Tipo de moneda de las prestaciones económicas | F3: Periodicidad de las prestaciones económicas
A4: 1 | B4: AGUINALDO | C4: 0 | D4: 0 | E4: PESO | F4: ANUAL
A5: 2 | B5: AGUINALDO | C5: 0 | D5: 0 | E5: PESO | F5: ANUAL
A6: 3 | B6: AGUINALDO | C6: 0 | D6: 0 | E6: PESO | F6: ANUAL
A7: 4 | B7: AGUINALDO | C7: 0 | D7: 0 | E7: PESO | F7: ANUAL
A8: 5 | B8: AGUINALDO | C8: 0 | D8: 0 | E8: PESO | F8: ANUAL
A9: 6 | B9: AGUINALDO | C9: 0 | D9: 0 | E9: PESO | F9: ANUAL
A10: 7 | B10: AGUINALDO | C10: 0 | D10: 0 | E10: PESO | F10: ANUAL
A11: 8 | B11: AGUINALDO | C11: 0 | D11: 0 | E11: PESO | F11: ANUAL
A12: 9 | B12: AGUINALDO | C12: 0 | D12: 0 | E12: PESO | F12: ANUAL
A13: 10 | B13: AGUINALDO | C13: 0 | D13: 0 | E13: PESO | F13: ANUAL
A14: 11 | B14: AGUINALDO | C14: 0 | D14: 0 | E14: PESO | F14: ANUAL
A15: 12 | B15: AGUINALDO | C15: 0 | D15: 0 | E15: PESO | F15: ANUAL
... A154: 151 | B154: AGUINALDO | C154: 0 | D154: 0 | E154: PESO | F154: ANUAL

Sheet Tabla_549554
B1: 1 | C1: 1
B2: 70065 | C2: 70066
A3: ID | B3: Descripción de las prestaciones en especie | C3: Periodicidad de las prestaciones en especie
A4: 1 | B4: NO GENERA | C4: NO GENERA
A5: 2 | B5: NO GENERA | C5: NO GENERA
A6: 3 | B6: NO GENERA | C6: NO GENERA
A7: 4 | B7: NO GENERA | C7: NO GENERA
A8: 5 | B8: NO GENERA | C8: NO GENERA
A9: 6 | B9: NO GENERA | C9: NO GENERA
A10: 7 | B10: NO GENERA | C10: NO GENERA
A11: 8 | B11: NO GENERA | C11: NO GENERA
A12: 9 | B12: NO GENERA | C12: NO GENERA
A13: 10 | B13: NO GENERA | C13: NO GENERA
A14: 11 | B14: NO GENERA | C14: NO GENERA
A15: 12 | B15: NO GENERA | C15: NO GENERA
... A154: 151 | B154: NO GENERA | C154: NO GENERA

Sheet Hoja1

Sheet Hoja2
